| Back to Multiple platform build/check report for BioC 3.11 |
|
This page was generated on 2020-01-16 13:47:33 -0500 (Thu, 16 Jan 2020).
| Package 195/1818 | Hostname | OS / Arch | INSTALL | BUILD | CHECK | BUILD BIN | ||||||
| branchpointer 1.13.0 Beth Signal
| malbec2 | Linux (Ubuntu 18.04.3 LTS) / x86_64 | OK | OK | OK | |||||||
| tokay2 | Windows Server 2012 R2 Standard / x64 | OK | OK | OK | OK | |||||||
| celaya2 | OS X 10.11.6 El Capitan / x86_64 | OK | OK | [ OK ] | OK |
| Package: branchpointer |
| Version: 1.13.0 |
| Command: /Library/Frameworks/R.framework/Versions/Current/Resources/bin/R CMD check --install=check:branchpointer.install-out.txt --library=/Library/Frameworks/R.framework/Versions/Current/Resources/library --no-vignettes --timings branchpointer_1.13.0.tar.gz |
| StartedAt: 2020-01-16 02:20:53 -0500 (Thu, 16 Jan 2020) |
| EndedAt: 2020-01-16 02:28:29 -0500 (Thu, 16 Jan 2020) |
| EllapsedTime: 456.4 seconds |
| RetCode: 0 |
| Status: OK |
| CheckDir: branchpointer.Rcheck |
| Warnings: 0 |
##############################################################################
##############################################################################
###
### Running command:
###
### /Library/Frameworks/R.framework/Versions/Current/Resources/bin/R CMD check --install=check:branchpointer.install-out.txt --library=/Library/Frameworks/R.framework/Versions/Current/Resources/library --no-vignettes --timings branchpointer_1.13.0.tar.gz
###
##############################################################################
##############################################################################
* using log directory ‘/Users/biocbuild/bbs-3.11-bioc/meat/branchpointer.Rcheck’
* using R Under development (unstable) (2019-12-14 r77572)
* using platform: x86_64-apple-darwin15.6.0 (64-bit)
* using session charset: UTF-8
* using option ‘--no-vignettes’
* checking for file ‘branchpointer/DESCRIPTION’ ... OK
* checking extension type ... Package
* this is package ‘branchpointer’ version ‘1.13.0’
* checking package namespace information ... OK
* checking package dependencies ... OK
* checking if this is a source package ... OK
* checking if there is a namespace ... OK
* checking for hidden files and directories ... OK
* checking for portable file names ... OK
* checking for sufficient/correct file permissions ... OK
* checking whether package ‘branchpointer’ can be installed ... OK
* checking installed package size ... NOTE
installed size is 5.3Mb
sub-directories of 1Mb or more:
R 4.1Mb
extdata 1.1Mb
* checking package directory ... OK
* checking ‘build’ directory ... OK
* checking DESCRIPTION meta-information ... OK
* checking top-level files ... OK
* checking for left-over files ... OK
* checking index information ... OK
* checking package subdirectories ... OK
* checking R files for non-ASCII characters ... OK
* checking R files for syntax errors ... OK
* checking whether the package can be loaded ... OK
* checking whether the package can be loaded with stated dependencies ... OK
* checking whether the package can be unloaded cleanly ... OK
* checking whether the namespace can be loaded with stated dependencies ... OK
* checking whether the namespace can be unloaded cleanly ... OK
* checking dependencies in R code ... OK
* checking S3 generic/method consistency ... OK
* checking replacement functions ... OK
* checking foreign function calls ... OK
* checking R code for possible problems ... OK
* checking Rd files ... OK
* checking Rd metadata ... OK
* checking Rd cross-references ... OK
* checking for missing documentation entries ... OK
* checking for code/documentation mismatches ... OK
* checking Rd \usage sections ... OK
* checking Rd contents ... OK
* checking for unstated dependencies in examples ... OK
* checking R/sysdata.rda ... OK
* checking sizes of PDF files under ‘inst/doc’ ... OK
* checking files in ‘vignettes’ ... OK
* checking examples ... OK
Examples with CPU (user + system) or elapsed time > 5s
user system elapsed
plotBranchpointWindow 7.523 0.348 7.878
makeBranchpointWindowForSNP 2.790 0.149 5.511
* checking for unstated dependencies in vignettes ... OK
* checking package vignettes in ‘inst/doc’ ... OK
* checking running R code from vignettes ... SKIPPED
* checking re-building of vignette outputs ... SKIPPED
* checking PDF version of manual ... OK
* DONE
Status: 1 NOTE
See
‘/Users/biocbuild/bbs-3.11-bioc/meat/branchpointer.Rcheck/00check.log’
for details.
branchpointer.Rcheck/00install.out
############################################################################## ############################################################################## ### ### Running command: ### ### /Library/Frameworks/R.framework/Versions/Current/Resources/bin/R CMD INSTALL branchpointer ### ############################################################################## ############################################################################## * installing to library ‘/Library/Frameworks/R.framework/Versions/4.0/Resources/library’ * installing *source* package ‘branchpointer’ ... ** using staged installation ** R ** inst ** byte-compile and prepare package for lazy loading ** help *** installing help indices ** building package indices ** installing vignettes ** testing if installed package can be loaded from temporary location ** testing if installed package can be loaded from final location ** testing if installed package keeps a record of temporary installation path * DONE (branchpointer)
branchpointer.Rcheck/branchpointer-Ex.timings
| name | user | system | elapsed | |
| gtfToExons | 1.419 | 0.048 | 1.470 | |
| makeBranchpointWindowForExons | 1.832 | 0.024 | 1.855 | |
| makeBranchpointWindowForSNP | 2.790 | 0.149 | 5.511 | |
| plotBranchpointWindow | 7.523 | 0.348 | 7.878 | |
| predictBranchpoints | 3.832 | 0.035 | 3.867 | |
| predictionsToSummary | 4.370 | 0.124 | 4.494 | |
| readQueryFile | 2.836 | 0.011 | 2.848 | |