| Back to Multiple platform build/check report for BioC 3.11 |
|
This page was generated on 2020-01-16 13:51:54 -0500 (Thu, 16 Jan 2020).
| Package 841/1818 | Hostname | OS / Arch | INSTALL | BUILD | CHECK | BUILD BIN | ||||||
| INDEED 2.1.0 Ressom group
| malbec2 | Linux (Ubuntu 18.04.3 LTS) / x86_64 | OK | OK | OK | |||||||
| tokay2 | Windows Server 2012 R2 Standard / x64 | OK | OK | OK | OK | |||||||
| celaya2 | OS X 10.11.6 El Capitan / x86_64 | OK | [ OK ] | OK | OK |
| Package: INDEED |
| Version: 2.1.0 |
| Command: /Library/Frameworks/R.framework/Versions/Current/Resources/bin/R CMD build --keep-empty-dirs --no-resave-data INDEED |
| StartedAt: 2020-01-16 00:08:30 -0500 (Thu, 16 Jan 2020) |
| EndedAt: 2020-01-16 00:08:44 -0500 (Thu, 16 Jan 2020) |
| EllapsedTime: 14.5 seconds |
| RetCode: 0 |
| Status: OK |
| PackageFile: INDEED_2.1.0.tar.gz |
| PackageFileSize: 1.859 MiB |
############################################################################## ############################################################################## ### ### Running command: ### ### /Library/Frameworks/R.framework/Versions/Current/Resources/bin/R CMD build --keep-empty-dirs --no-resave-data INDEED ### ############################################################################## ############################################################################## * checking for file ‘INDEED/DESCRIPTION’ ... OK * preparing ‘INDEED’: * checking DESCRIPTION meta-information ... OK * installing the package to build vignettes * creating vignettes ... OK * checking for LF line-endings in source and make files and shell scripts * checking for empty or unneeded directories * building ‘INDEED_2.1.0.tar.gz’