| Back to Multiple platform build/check report for BioC 3.11 |
|
This page was generated on 2020-01-16 13:30:32 -0500 (Thu, 16 Jan 2020).
| Package 585/1818 | Hostname | OS / Arch | INSTALL | BUILD | CHECK | BUILD BIN | ||||||
| flowCore 1.53.7 Mike Jiang
| malbec2 | Linux (Ubuntu 18.04.3 LTS) / x86_64 | OK | OK | WARNINGS | |||||||
| tokay2 | Windows Server 2012 R2 Standard / x64 | OK | OK | WARNINGS | OK | |||||||
| celaya2 | OS X 10.11.6 El Capitan / x86_64 | OK | [ OK ] | WARNINGS | OK |
| Package: flowCore |
| Version: 1.53.7 |
| Command: /Library/Frameworks/R.framework/Versions/Current/Resources/bin/R CMD build --keep-empty-dirs --no-resave-data flowCore |
| StartedAt: 2020-01-15 19:59:06 -0500 (Wed, 15 Jan 2020) |
| EndedAt: 2020-01-15 20:02:52 -0500 (Wed, 15 Jan 2020) |
| EllapsedTime: 226.0 seconds |
| RetCode: 0 |
| Status: OK |
| PackageFile: flowCore_1.53.7.tar.gz |
| PackageFileSize: 6.505 MiB |
############################################################################## ############################################################################## ### ### Running command: ### ### /Library/Frameworks/R.framework/Versions/Current/Resources/bin/R CMD build --keep-empty-dirs --no-resave-data flowCore ### ############################################################################## ############################################################################## * checking for file ‘flowCore/DESCRIPTION’ ... OK * preparing ‘flowCore’: * checking DESCRIPTION meta-information ... OK * cleaning src * installing the package to build vignettes * creating vignettes ... OK * cleaning src * checking for LF line-endings in source and make files and shell scripts * checking for empty or unneeded directories * looking to see if a ‘data/datalist’ file should be added NB: this package now depends on R (>= 3.5.0) WARNING: Added dependency on R >= 3.5.0 because serialized objects in serialize/load version 3 cannot be read in older versions of R. File(s) containing such objects: ‘flowCore/tests/testthat/expectResults.rds’ * building ‘flowCore_1.53.7.tar.gz’