| Back to Multiple platform build/check report for BioC 3.11 |
|
This page was generated on 2020-01-16 13:51:06 -0500 (Thu, 16 Jan 2020).
| Package 173/1818 | Hostname | OS / Arch | INSTALL | BUILD | CHECK | BUILD BIN | ||||||
| BioNetStat 1.7.0 Vinicius Jardim
| malbec2 | Linux (Ubuntu 18.04.3 LTS) / x86_64 | OK | OK | OK | |||||||
| tokay2 | Windows Server 2012 R2 Standard / x64 | OK | OK | OK | OK | |||||||
| celaya2 | OS X 10.11.6 El Capitan / x86_64 | OK | OK | [ OK ] | OK |
| Package: BioNetStat |
| Version: 1.7.0 |
| Command: /Library/Frameworks/R.framework/Versions/Current/Resources/bin/R CMD check --install=check:BioNetStat.install-out.txt --library=/Library/Frameworks/R.framework/Versions/Current/Resources/library --no-vignettes --timings BioNetStat_1.7.0.tar.gz |
| StartedAt: 2020-01-16 02:13:43 -0500 (Thu, 16 Jan 2020) |
| EndedAt: 2020-01-16 02:20:08 -0500 (Thu, 16 Jan 2020) |
| EllapsedTime: 385.4 seconds |
| RetCode: 0 |
| Status: OK |
| CheckDir: BioNetStat.Rcheck |
| Warnings: 0 |
##############################################################################
##############################################################################
###
### Running command:
###
### /Library/Frameworks/R.framework/Versions/Current/Resources/bin/R CMD check --install=check:BioNetStat.install-out.txt --library=/Library/Frameworks/R.framework/Versions/Current/Resources/library --no-vignettes --timings BioNetStat_1.7.0.tar.gz
###
##############################################################################
##############################################################################
* using log directory ‘/Users/biocbuild/bbs-3.11-bioc/meat/BioNetStat.Rcheck’
* using R Under development (unstable) (2019-12-14 r77572)
* using platform: x86_64-apple-darwin15.6.0 (64-bit)
* using session charset: UTF-8
* using option ‘--no-vignettes’
* checking for file ‘BioNetStat/DESCRIPTION’ ... OK
* checking extension type ... Package
* this is package ‘BioNetStat’ version ‘1.7.0’
* package encoding: UTF-8
* checking package namespace information ... OK
* checking package dependencies ... OK
* checking if this is a source package ... OK
* checking if there is a namespace ... OK
* checking for hidden files and directories ... OK
* checking for portable file names ... OK
* checking for sufficient/correct file permissions ... OK
* checking whether package ‘BioNetStat’ can be installed ... OK
* checking installed package size ... NOTE
installed size is 5.1Mb
sub-directories of 1Mb or more:
extdata 1.9Mb
shiny 1.6Mb
* checking package directory ... OK
* checking ‘build’ directory ... OK
* checking DESCRIPTION meta-information ... OK
* checking top-level files ... OK
* checking for left-over files ... OK
* checking index information ... OK
* checking package subdirectories ... OK
* checking R files for non-ASCII characters ... OK
* checking R files for syntax errors ... OK
* checking whether the package can be loaded ... OK
* checking whether the package can be loaded with stated dependencies ... OK
* checking whether the package can be unloaded cleanly ... OK
* checking whether the namespace can be loaded with stated dependencies ... OK
* checking whether the namespace can be unloaded cleanly ... OK
* checking dependencies in R code ... NOTE
Namespaces in Imports field not imported from:
‘BiocParallel’ ‘RColorBrewer’ ‘RJSONIO’ ‘ggplot2’ ‘knitr’ ‘pheatmap’
‘plyr’ ‘stats’ ‘utils’ ‘whisker’ ‘yaml’
All declared Imports should be used.
Packages in Depends field not imported from:
‘shiny’ ‘shinyBS’
These packages need to be imported from (in the NAMESPACE file)
for when this namespace is loaded but not attached.
* checking S3 generic/method consistency ... OK
* checking replacement functions ... OK
* checking foreign function calls ... OK
* checking R code for possible problems ... NOTE
adjacencyMatrix : <anonymous>: no visible global function definition
for ‘cor’
adjacencyMatrix : <anonymous>: no visible global function definition
for ‘p.adjust’
betweennessCentralityTest: no visible global function definition for
‘bplapply’
betweennessCentralityVertexTest: no visible global function definition
for ‘bplapply’
betweennessEdgesCentrality: no visible global function definition for
‘adjacencyMatrix1’
closenessCentralityTest: no visible global function definition for
‘bplapply’
closenessCentralityVertexTest: no visible global function definition
for ‘bplapply’
clusteringCoefficientTest : <anonymous>: no visible global function
definition for ‘dist’
clusteringCoefficientTest : <anonymous> : <anonymous>: no visible
global function definition for ‘dist’
clusteringCoefficientTest: no visible global function definition for
‘bplapply’
clusteringCoefficientVertexTest: no visible global function definition
for ‘bplapply’
degreeCentralityTest: no visible global function definition for
‘bplapply’
degreeCentralityVertexTest: no visible global function definition for
‘bplapply’
degreeDistributionTest: no visible global function definition for
‘bplapply’
diffNetAnalysis: no visible binding for global variable ‘expr’
diffNetAnalysis: no visible global function definition for ‘p.adjust’
doLabels: no visible global function definition for ‘read.csv’
edgeBetweennessEdgeTest: no visible global function definition for
‘bplapply’
edgeBetweennessTest: no visible global function definition for
‘bplapply’
edgesResInt : <anonymous>: no visible global function definition for
‘dist’
eigenvectorCentralityTest: no visible global function definition for
‘bplapply’
eigenvectorCentralityVertexTest: no visible global function definition
for ‘bplapply’
gaussianDensity: no visible global function definition for ‘bw.nrd0’
gaussianDensity: no visible global function definition for ‘density’
pathPlot: no visible binding for global variable ‘median’
readVarFile: no visible global function definition for ‘read.table’
resInt : <anonymous>: no visible global function definition for ‘dist’
retEdgesTable: no visible global function definition for ‘p.adjust’
retTable: no visible global function definition for ‘p.adjust’
spectralDistributionTest: no visible global function definition for
‘bplapply’
spectralEntropyTest: no visible global function definition for
‘bplapply’
var.list: no visible global function definition for ‘aggregate’
Undefined global functions or variables:
adjacencyMatrix1 aggregate bplapply bw.nrd0 cor density dist expr
median p.adjust read.csv read.table
Consider adding
importFrom("stats", "aggregate", "bw.nrd0", "cor", "density", "dist",
"median", "p.adjust")
importFrom("utils", "read.csv", "read.table")
to your NAMESPACE file.
* checking Rd files ... OK
* checking Rd metadata ... OK
* checking Rd cross-references ... OK
* checking for missing documentation entries ... OK
* checking for code/documentation mismatches ... OK
* checking Rd \usage sections ... OK
* checking Rd contents ... OK
* checking for unstated dependencies in examples ... OK
* checking contents of ‘data’ directory ... OK
* checking data for non-ASCII characters ... OK
* checking data for ASCII and uncompressed saves ... OK
* checking installed files from ‘inst/doc’ ... OK
* checking files in ‘vignettes’ ... OK
* checking examples ... OK
Examples with CPU (user + system) or elapsed time > 5s
user system elapsed
networkTest 16.095 0.875 16.971
centralityPathPlot 12.644 2.197 17.192
pathPlot 10.187 2.293 12.456
* checking for unstated dependencies in vignettes ... OK
* checking package vignettes in ‘inst/doc’ ... OK
* checking running R code from vignettes ... SKIPPED
* checking re-building of vignette outputs ... SKIPPED
* checking PDF version of manual ... OK
* DONE
Status: 3 NOTEs
See
‘/Users/biocbuild/bbs-3.11-bioc/meat/BioNetStat.Rcheck/00check.log’
for details.
BioNetStat.Rcheck/00install.out
############################################################################## ############################################################################## ### ### Running command: ### ### /Library/Frameworks/R.framework/Versions/Current/Resources/bin/R CMD INSTALL BioNetStat ### ############################################################################## ############################################################################## * installing to library ‘/Library/Frameworks/R.framework/Versions/4.0/Resources/library’ * installing *source* package ‘BioNetStat’ ... ** using staged installation ** R ** data ** inst ** byte-compile and prepare package for lazy loading ** help *** installing help indices ** building package indices ** installing vignettes ‘BNS_tutorial_by_command_line.Rmd’ using ‘UTF-8’ ‘vignette.Rmd’ using ‘UTF-8’ ** testing if installed package can be loaded from temporary location ** testing if installed package can be loaded from final location ** testing if installed package keeps a record of temporary installation path * DONE (BioNetStat)
BioNetStat.Rcheck/BioNetStat-Ex.timings
| name | user | system | elapsed | |
| KLdegree | 0.016 | 0.002 | 0.018 | |
| KLspectrum | 0.035 | 0.003 | 0.038 | |
| adjacencyMatrix | 0.003 | 0.000 | 0.004 | |
| centralityPathPlot | 12.644 | 2.197 | 17.192 | |
| diffNetAnalysis | 1.969 | 0.097 | 2.067 | |
| doLabels | 0.124 | 0.006 | 0.130 | |
| edgeTest | 0.142 | 0.015 | 0.158 | |
| labels | 0.003 | 0.003 | 0.006 | |
| nDegreeDensities | 0.055 | 0.006 | 0.061 | |
| nSpectralDensities | 0.036 | 0.004 | 0.039 | |
| networkFeature | 0.134 | 0.009 | 0.143 | |
| networkTest | 16.095 | 0.875 | 16.971 | |
| nodeScores | 0.149 | 0.021 | 0.170 | |
| nodeTest | 0.216 | 0.018 | 0.234 | |
| pathPlot | 10.187 | 2.293 | 12.456 | |
| readGmtFile | 0.180 | 0.003 | 0.184 | |
| readVarFile | 0.205 | 0.007 | 0.211 | |
| runBioNetStat | 0.000 | 0.000 | 0.001 | |
| varFile | 0.011 | 0.005 | 0.017 | |