Back to Multiple platform build/check report for BioC 3.11 |
|
This page was generated on 2020-01-16 13:54:24 -0500 (Thu, 16 Jan 2020).
Package 707/1818 | Hostname | OS / Arch | INSTALL | BUILD | CHECK | BUILD BIN | ||||||
GladiaTOX 1.3.0 PMP S.A. R Support
| malbec2 | Linux (Ubuntu 18.04.3 LTS) / x86_64 | OK | OK | OK | |||||||
tokay2 | Windows Server 2012 R2 Standard / x64 | OK | OK | OK | OK | |||||||
celaya2 | OS X 10.11.6 El Capitan / x86_64 | OK | OK | [ OK ] | OK |
Package: GladiaTOX |
Version: 1.3.0 |
Command: /Library/Frameworks/R.framework/Versions/Current/Resources/bin/R CMD check --install=check:GladiaTOX.install-out.txt --library=/Library/Frameworks/R.framework/Versions/Current/Resources/library --no-vignettes --timings GladiaTOX_1.3.0.tar.gz |
StartedAt: 2020-01-16 04:59:16 -0500 (Thu, 16 Jan 2020) |
EndedAt: 2020-01-16 05:03:29 -0500 (Thu, 16 Jan 2020) |
EllapsedTime: 252.5 seconds |
RetCode: 0 |
Status: OK |
CheckDir: GladiaTOX.Rcheck |
Warnings: 0 |
############################################################################## ############################################################################## ### ### Running command: ### ### /Library/Frameworks/R.framework/Versions/Current/Resources/bin/R CMD check --install=check:GladiaTOX.install-out.txt --library=/Library/Frameworks/R.framework/Versions/Current/Resources/library --no-vignettes --timings GladiaTOX_1.3.0.tar.gz ### ############################################################################## ############################################################################## * using log directory ‘/Users/biocbuild/bbs-3.11-bioc/meat/GladiaTOX.Rcheck’ * using R Under development (unstable) (2019-12-14 r77572) * using platform: x86_64-apple-darwin15.6.0 (64-bit) * using session charset: UTF-8 * using option ‘--no-vignettes’ * checking for file ‘GladiaTOX/DESCRIPTION’ ... OK * checking extension type ... Package * this is package ‘GladiaTOX’ version ‘1.3.0’ * checking package namespace information ... OK * checking package dependencies ... OK * checking if this is a source package ... OK * checking if there is a namespace ... OK * checking for hidden files and directories ... OK * checking for portable file names ... OK * checking for sufficient/correct file permissions ... OK * checking whether package ‘GladiaTOX’ can be installed ... OK * checking installed package size ... NOTE installed size is 5.2Mb sub-directories of 1Mb or more: sql 3.8Mb * checking package directory ... OK * checking ‘build’ directory ... OK * checking DESCRIPTION meta-information ... OK * checking top-level files ... OK * checking for left-over files ... OK * checking index information ... OK * checking package subdirectories ... OK * checking R files for non-ASCII characters ... OK * checking R files for syntax errors ... OK * checking whether the package can be loaded ... OK * checking whether the package can be loaded with stated dependencies ... OK * checking whether the package can be unloaded cleanly ... OK * checking whether the namespace can be loaded with stated dependencies ... OK * checking whether the namespace can be unloaded cleanly ... OK * checking dependencies in R code ... OK * checking S3 generic/method consistency ... OK * checking replacement functions ... OK * checking foreign function calls ... OK * checking R code for possible problems ... OK * checking Rd files ... OK * checking Rd metadata ... OK * checking Rd cross-references ... OK * checking for missing documentation entries ... OK * checking for code/documentation mismatches ... OK * checking Rd \usage sections ... OK * checking Rd contents ... OK * checking for unstated dependencies in examples ... OK * checking files in ‘vignettes’ ... OK * checking examples ... OK Examples with CPU (user + system) or elapsed time > 5s user system elapsed gtoxRun 56.133 37.067 47.222 assignDefaultMthds 53.311 29.929 42.174 glPlotStat 12.073 5.175 3.455 glPlotPie 11.803 4.267 4.899 exportResultForToxpiGUI 9.247 4.131 2.697 glComputeToxInd 7.824 3.678 2.250 exportResultTable 6.562 4.054 1.993 glPlotToxInd 5.777 2.174 1.809 gtoxPlotM4ID 4.266 1.434 1.568 gtoxMakeAeidPlts 3.063 2.092 1.161 * checking for unstated dependencies in ‘tests’ ... OK * checking tests ... Running ‘testthat.R’ OK * checking for unstated dependencies in vignettes ... OK * checking package vignettes in ‘inst/doc’ ... OK * checking running R code from vignettes ... SKIPPED * checking re-building of vignette outputs ... SKIPPED * checking PDF version of manual ... OK * DONE Status: 1 NOTE See ‘/Users/biocbuild/bbs-3.11-bioc/meat/GladiaTOX.Rcheck/00check.log’ for details.
GladiaTOX.Rcheck/00install.out
############################################################################## ############################################################################## ### ### Running command: ### ### /Library/Frameworks/R.framework/Versions/Current/Resources/bin/R CMD INSTALL GladiaTOX ### ############################################################################## ############################################################################## * installing to library ‘/Library/Frameworks/R.framework/Versions/4.0/Resources/library’ * installing *source* package ‘GladiaTOX’ ... ** using staged installation ** R ** inst ** byte-compile and prepare package for lazy loading ** help *** installing help indices ** building package indices ** installing vignettes ** testing if installed package can be loaded from temporary location ** testing if installed package can be loaded from final location ** testing if installed package keeps a record of temporary installation path * DONE (GladiaTOX)
GladiaTOX.Rcheck/tests/testthat.Rout
R Under development (unstable) (2019-12-14 r77572) -- "Unsuffered Consequences" Copyright (C) 2019 The R Foundation for Statistical Computing Platform: x86_64-apple-darwin15.6.0 (64-bit) R is free software and comes with ABSOLUTELY NO WARRANTY. You are welcome to redistribute it under certain conditions. Type 'license()' or 'licence()' for distribution details. R is a collaborative project with many contributors. Type 'contributors()' for more information and 'citation()' on how to cite R or R packages in publications. Type 'demo()' for some demos, 'help()' for on-line help, or 'help.start()' for an HTML browser interface to help. Type 'q()' to quit R. > library(testthat) > library(GladiaTOX) Loading required package: data.table GladiaTOX (v1.3.0) loaded with the following settings: TCPL_DB: /Library/Frameworks/R.framework/Versions/4.0/Resources/library/GladiaTOX/sql/gladiatoxdb.sqlite TCPL_USER: NA TCPL_HOST: NA TCPL_DRVR: SQLite Default settings stored in gtox config file. See ?gtoxConf for more information. > > options(testthat.junit.output_file="tests-out.xml") > test_dir("testthat") ✔ | OK F W S | Context ⠏ | 0 | test_assignDefaultMthds ⠋ | 1 | test_assignDefaultMthds ✔ | 1 | test_assignDefaultMthds [1.1 s] ⠏ | 0 | test_exportResultTable ⠙ | 2 | test_exportResultTable ✔ | 2 | test_exportResultTable [0.7 s] ⠏ | 0 | getsplit ✖ | 0 1 | getsplit ──────────────────────────────────────────────────────────────────────────────── test_getsplit.R:4: error: getsplit:split word correctly could not find function "getsplit" Backtrace: 1. testthat::expect_equal(getsplit("toto_tata", "_", 1), "toto") test_getsplit.R:4:4 2. testthat::quasi_label(enquo(object), label, arg = "object") 3. rlang::eval_bare(expr, quo_get_env(quo)) ──────────────────────────────────────────────────────────────────────────────── ⠏ | 0 | test_glComputeToxInd ⠋ | 1 | test_glComputeToxInd ✔ | 1 | test_glComputeToxInd [1.8 s] ⠏ | 0 | test_gtoxAICProb ✔ | 1 | test_gtoxAICProb ⠏ | 0 | Calculate Vmad ✔ | 1 | Calculate Vmad ⠏ | 0 | Check assay component table ⠙ | 2 | Check assay component table ✔ | 2 | Check assay component table [0.2 s] ⠏ | 0 | Check assay endpoint table ⠋ | 1 | Check assay endpoint table ✔ | 2 | Check assay endpoint table [0.2 s] ⠏ | 0 | test_gtoxLoadAid ✔ | 1 | test_gtoxLoadAid ⠏ | 0 | Check assay plate table ✔ | 2 | Check assay plate table ⠏ | 0 | test_gtoxLoadAsid ✔ | 3 | test_gtoxLoadAsid ⠏ | 0 | Check assay chemical table ✔ | 3 | Check assay chemical table ⠏ | 0 | Check assay well table ✔ | 2 | Check assay well table ⠏ | 0 | test_is.odd ✖ | 0 1 | test_is.odd ──────────────────────────────────────────────────────────────────────────────── test_is.odd.R:2: error: is.odd:has the expected behavior could not find function "is.odd" ──────────────────────────────────────────────────────────────────────────────── ⠏ | 0 | test_lu ✔ | 1 | test_lu ⠏ | 0 | test_lw ✔ | 1 | test_lw ⠏ | 0 | test_mc2 ✖ | 0 1 | test_mc2 ──────────────────────────────────────────────────────────────────────────────── test_mc2.R:2: error: mc2_mthds:returns log10 among the list of mc2 functions could not find function "mc2_mthds" ──────────────────────────────────────────────────────────────────────────────── ⠏ | 0 | test_mc3 ✖ | 0 1 | test_mc3 ──────────────────────────────────────────────────────────────────────────────── test_mc3.R:2: error: mc3:returns resp.log2 among the list of mc2 functions could not find function "mc3_mthds" Backtrace: 1. testthat::expect_true("resp.log2" %in% names(mc3_mthds())) test_mc3.R:2:4 4. "resp.log2" %in% names(mc3_mthds()) ──────────────────────────────────────────────────────────────────────────────── ⠏ | 0 | test_mc5 ✖ | 0 1 | test_mc5 ──────────────────────────────────────────────────────────────────────────────── test_mc5.R:2: error: mc5:returns bmad5 among the list of mc2 functions could not find function "mc5_mthds" Backtrace: 1. testthat::expect_true("bmad5" %in% names(mc5_mthds())) test_mc5.R:2:4 4. "bmad5" %in% names(mc5_mthds()) ──────────────────────────────────────────────────────────────────────────────── ⠏ | 0 | test_mc6 ✖ | 0 1 | test_mc6 ──────────────────────────────────────────────────────────────────────────────── test_mc6.R:2: error: mc6:returns pintool among the list of mc2 functions could not find function "mc6_mthds" Backtrace: 1. testthat::expect_true("pintool" %in% names(mc6_mthds())) test_mc6.R:2:4 4. "pintool" %in% names(mc6_mthds()) ──────────────────────────────────────────────────────────────────────────────── ⠏ | 0 | test_sc1 ✖ | 0 1 | test_sc1 ──────────────────────────────────────────────────────────────────────────────── test_sc1.R:2: error: sc1:returns pval.zero among the list of sc1 functions could not find function "sc1_mthds" Backtrace: 1. testthat::expect_true("pval.zero" %in% names(sc1_mthds())) test_sc1.R:2:4 4. "pval.zero" %in% names(sc1_mthds()) ──────────────────────────────────────────────────────────────────────────────── ⠏ | 0 | test_sc2 ✖ | 0 1 | test_sc2 ──────────────────────────────────────────────────────────────────────────────── test_sc2.R:2: error: sc2:returns pval.zero among the list of sc2 functions could not find function "sc2_mthds" Backtrace: 1. testthat::expect_true("bmad6" %in% names(sc2_mthds())) test_sc2.R:2:4 4. "bmad6" %in% names(sc2_mthds()) ──────────────────────────────────────────────────────────────────────────────── ══ Results ═════════════════════════════════════════════════════════════════════ Duration: 4.9 s OK: 23 Failed: 8 Warnings: 0 Skipped: 0 > test_check("GladiaTOX") ══ testthat results ═══════════════════════════════════════════════════════════ [ OK: 32 | SKIPPED: 0 | WARNINGS: 0 | FAILED: 0 ] > > proc.time() user system elapsed 28.992 10.453 13.718
GladiaTOX.Rcheck/GladiaTOX-Ex.timings
name | user | system | elapsed | |
Models | 0.387 | 0.033 | 0.449 | |
assay_funcs | 0.788 | 0.140 | 0.934 | |
assignDefaultMthds | 53.311 | 29.929 | 42.174 | |
buildAssayTab | 0.113 | 0.040 | 0.154 | |
config_funcs | 0.014 | 0.006 | 0.019 | |
deleteStudy | 0.001 | 0.000 | 0.001 | |
exportResultForToxpiGUI | 9.247 | 4.131 | 2.697 | |
exportResultTable | 6.562 | 4.054 | 1.993 | |
glComputeToxInd | 7.824 | 3.678 | 2.250 | |
glPlotPie | 11.803 | 4.267 | 4.899 | |
glPlotPieLogo | 1.719 | 0.014 | 1.738 | |
glPlotPosCtrl | 2.857 | 1.510 | 1.637 | |
glPlotStat | 12.073 | 5.175 | 3.455 | |
glPlotToxInd | 5.777 | 2.174 | 1.809 | |
gtoxAICProb | 0.001 | 0.001 | 0.002 | |
gtoxAddModel | 0.991 | 0.032 | 1.032 | |
gtoxCalcVmad | 0.054 | 0.014 | 0.049 | |
gtoxCode2CASN | 0.006 | 0.004 | 0.001 | |
gtoxFit | 1.160 | 0.376 | 0.793 | |
gtoxImportThermoDB | 0.001 | 0.001 | 0.001 | |
gtoxListFlds | 0.007 | 0.001 | 0.008 | |
gtoxLoadApid | 0.015 | 0.004 | 0.019 | |
gtoxLoadChem | 0.290 | 0.221 | 0.108 | |
gtoxLoadClib | 0.033 | 0.023 | 0.011 | |
gtoxLoadData | 0.422 | 0.308 | 0.167 | |
gtoxLoadVehicle | 0.026 | 0.017 | 0.012 | |
gtoxLoadVmad | 0.032 | 0.021 | 0.014 | |
gtoxLoadWaid | 0.134 | 0.092 | 0.047 | |
gtoxMakeAeidPlts | 3.063 | 2.092 | 1.161 | |
gtoxPlotErrBar | 3.675 | 1.292 | 0.951 | |
gtoxPlotFitc | 2.065 | 1.345 | 0.877 | |
gtoxPlotFits | 1.142 | 0.592 | 0.414 | |
gtoxPlotM4ID | 4.266 | 1.434 | 1.568 | |
gtoxPlotPie | 1.050 | 0.698 | 0.433 | |
gtoxPlotPieLgnd | 0.027 | 0.019 | 0.010 | |
gtoxPlotPlate | 2.571 | 0.381 | 0.457 | |
gtoxPlotWin | 0.001 | 0.002 | 0.001 | |
gtoxPrepOtpt | 0.854 | 0.611 | 0.390 | |
gtoxReport | 0.002 | 0.001 | 0.001 | |
gtoxRun | 56.133 | 37.067 | 47.222 | |
gtoxSetWllq | 0.221 | 0.065 | 0.289 | |
gtoxSubsetChid | 0.465 | 0.214 | 0.347 | |
gtoxWriteData | 0.002 | 0.002 | 0.001 | |
hill_utils | 0.004 | 0.004 | 0.003 | |
loadAnnot | 0.002 | 0.002 | 0.001 | |
lu | 0.001 | 0.001 | 0.001 | |
lw | 0.000 | 0.001 | 0.001 | |
mthd_funcs | 0.059 | 0.037 | 0.039 | |
prepareDatForDB | 0.002 | 0.002 | 0.001 | |
query_funcs | 0.094 | 0.048 | 0.071 | |
rgstr_funcs | 0.715 | 0.294 | 0.518 | |