| Back to Multiple platform build/check report for BioC 3.11 |
|
This page was generated on 2020-01-16 13:32:22 -0500 (Thu, 16 Jan 2020).
| Package 816/1818 | Hostname | OS / Arch | INSTALL | BUILD | CHECK | BUILD BIN | ||||||
| iChip 1.41.0 Qianxing Mo
| malbec2 | Linux (Ubuntu 18.04.3 LTS) / x86_64 | OK | OK | OK | |||||||
| tokay2 | Windows Server 2012 R2 Standard / x64 | OK | OK | OK | OK | |||||||
| celaya2 | OS X 10.11.6 El Capitan / x86_64 | OK | [ OK ] | OK | OK |
| Package: iChip |
| Version: 1.41.0 |
| Command: /Library/Frameworks/R.framework/Versions/Current/Resources/bin/R CMD build --keep-empty-dirs --no-resave-data iChip |
| StartedAt: 2020-01-15 20:19:07 -0500 (Wed, 15 Jan 2020) |
| EndedAt: 2020-01-15 20:20:11 -0500 (Wed, 15 Jan 2020) |
| EllapsedTime: 64.5 seconds |
| RetCode: 0 |
| Status: OK |
| PackageFile: iChip_1.41.0.tar.gz |
| PackageFileSize: 1.609 MiB |
##############################################################################
##############################################################################
###
### Running command:
###
### /Library/Frameworks/R.framework/Versions/Current/Resources/bin/R CMD build --keep-empty-dirs --no-resave-data iChip
###
##############################################################################
##############################################################################
* checking for file ‘iChip/DESCRIPTION’ ... OK
* preparing ‘iChip’:
* checking DESCRIPTION meta-information ... OK
* cleaning src
* running ‘cleanup’
* installing the package to build vignettes
* creating vignettes ... OK
Warning: ‘inst/doc’ file
‘iChip.pdf’
ignored as vignettes have been rebuilt.
Run R CMD build with --no-build-vignettes to prevent rebuilding.
* cleaning src
* running ‘cleanup’
* checking for LF line-endings in source and make files and shell scripts
* checking for empty or unneeded directories
* building ‘iChip_1.41.0.tar.gz’