| Back to Multiple platform build/check report for BioC 3.11 |
|
This page was generated on 2020-01-16 13:43:19 -0500 (Thu, 16 Jan 2020).
| Package 457/1818 | Hostname | OS / Arch | INSTALL | BUILD | CHECK | BUILD BIN | ||||||
| DiffLogo 2.11.0 Hendrik Treutler
| malbec2 | Linux (Ubuntu 18.04.3 LTS) / x86_64 | OK | OK | OK | |||||||
| tokay2 | Windows Server 2012 R2 Standard / x64 | OK | OK | OK | OK | |||||||
| celaya2 | OS X 10.11.6 El Capitan / x86_64 | OK | OK | [ OK ] | OK |
| Package: DiffLogo |
| Version: 2.11.0 |
| Command: /Library/Frameworks/R.framework/Versions/Current/Resources/bin/R CMD check --install=check:DiffLogo.install-out.txt --library=/Library/Frameworks/R.framework/Versions/Current/Resources/library --no-vignettes --timings DiffLogo_2.11.0.tar.gz |
| StartedAt: 2020-01-16 03:47:51 -0500 (Thu, 16 Jan 2020) |
| EndedAt: 2020-01-16 03:48:53 -0500 (Thu, 16 Jan 2020) |
| EllapsedTime: 62.1 seconds |
| RetCode: 0 |
| Status: OK |
| CheckDir: DiffLogo.Rcheck |
| Warnings: 0 |
##############################################################################
##############################################################################
###
### Running command:
###
### /Library/Frameworks/R.framework/Versions/Current/Resources/bin/R CMD check --install=check:DiffLogo.install-out.txt --library=/Library/Frameworks/R.framework/Versions/Current/Resources/library --no-vignettes --timings DiffLogo_2.11.0.tar.gz
###
##############################################################################
##############################################################################
* using log directory ‘/Users/biocbuild/bbs-3.11-bioc/meat/DiffLogo.Rcheck’
* using R Under development (unstable) (2019-12-14 r77572)
* using platform: x86_64-apple-darwin15.6.0 (64-bit)
* using session charset: UTF-8
* using option ‘--no-vignettes’
* checking for file ‘DiffLogo/DESCRIPTION’ ... OK
* checking extension type ... Package
* this is package ‘DiffLogo’ version ‘2.11.0’
* checking package namespace information ... OK
* checking package dependencies ... OK
* checking if this is a source package ... OK
* checking if there is a namespace ... OK
* checking for hidden files and directories ... OK
* checking for portable file names ... OK
* checking for sufficient/correct file permissions ... OK
* checking whether package ‘DiffLogo’ can be installed ... OK
* checking installed package size ... OK
* checking package directory ... OK
* checking ‘build’ directory ... OK
* checking DESCRIPTION meta-information ... OK
* checking top-level files ... OK
* checking for left-over files ... OK
* checking index information ... OK
* checking package subdirectories ... OK
* checking R files for non-ASCII characters ... OK
* checking R files for syntax errors ... OK
* checking whether the package can be loaded ... OK
* checking whether the package can be loaded with stated dependencies ... OK
* checking whether the package can be unloaded cleanly ... OK
* checking whether the namespace can be loaded with stated dependencies ... OK
* checking whether the namespace can be unloaded cleanly ... OK
* checking dependencies in R code ... OK
* checking S3 generic/method consistency ... OK
* checking replacement functions ... OK
* checking foreign function calls ... OK
* checking R code for possible problems ... OK
* checking Rd files ... OK
* checking Rd metadata ... OK
* checking Rd cross-references ... OK
* checking for missing documentation entries ... OK
* checking for code/documentation mismatches ... OK
* checking Rd \usage sections ... OK
* checking Rd contents ... OK
* checking for unstated dependencies in examples ... OK
* checking sizes of PDF files under ‘inst/doc’ ... OK
* checking files in ‘vignettes’ ... OK
* checking examples ... OK
Examples with CPU (user + system) or elapsed time > 5s
user system elapsed
enrichDiffLogoTableWithPvalues 5.585 0.325 5.912
* checking for unstated dependencies in ‘tests’ ... OK
* checking tests ...
Running ‘testthat.R’
OK
* checking for unstated dependencies in vignettes ... OK
* checking package vignettes in ‘inst/doc’ ... OK
* checking running R code from vignettes ... SKIPPED
* checking re-building of vignette outputs ... SKIPPED
* checking PDF version of manual ... OK
* DONE
Status: OK
DiffLogo.Rcheck/00install.out
############################################################################## ############################################################################## ### ### Running command: ### ### /Library/Frameworks/R.framework/Versions/Current/Resources/bin/R CMD INSTALL DiffLogo ### ############################################################################## ############################################################################## * installing to library ‘/Library/Frameworks/R.framework/Versions/4.0/Resources/library’ * installing *source* package ‘DiffLogo’ ... ** using staged installation ** R ** inst ** byte-compile and prepare package for lazy loading ** help *** installing help indices ** building package indices ** installing vignettes ** testing if installed package can be loaded from temporary location ** testing if installed package can be loaded from final location ** testing if installed package keeps a record of temporary installation path * DONE (DiffLogo)
DiffLogo.Rcheck/tests/testthat.Rout
R Under development (unstable) (2019-12-14 r77572) -- "Unsuffered Consequences" Copyright (C) 2019 The R Foundation for Statistical Computing Platform: x86_64-apple-darwin15.6.0 (64-bit) R is free software and comes with ABSOLUTELY NO WARRANTY. You are welcome to redistribute it under certain conditions. Type 'license()' or 'licence()' for distribution details. R is a collaborative project with many contributors. Type 'contributors()' for more information and 'citation()' on how to cite R or R packages in publications. Type 'demo()' for some demos, 'help()' for on-line help, or 'help.start()' for an HTML browser interface to help. Type 'q()' to quit R. > > proc.time() user system elapsed 0.419 0.162 0.521
DiffLogo.Rcheck/DiffLogo-Ex.timings
| name | user | system | elapsed | |
| ASN | 0.001 | 0.001 | 0.003 | |
| Alphabet | 0.001 | 0.000 | 0.001 | |
| DNA | 0.001 | 0.000 | 0.001 | |
| FULL_ALPHABET | 0.001 | 0.001 | 0.002 | |
| RNA | 0.001 | 0.000 | 0.001 | |
| calculatePvalue | 0.037 | 0.004 | 0.042 | |
| createDiffLogoObject | 0.099 | 0.021 | 0.123 | |
| diffLogo | 0.083 | 0.016 | 0.100 | |
| diffLogoFromPwm | 0.088 | 0.011 | 0.100 | |
| diffLogoTable | 1.760 | 0.156 | 1.923 | |
| diffLogoTableConfiguration | 0.003 | 0.001 | 0.004 | |
| differenceOfICs | 0.409 | 0.016 | 0.431 | |
| drawDiffLogoTable | 2.225 | 0.144 | 2.375 | |
| enrichDiffLogoObjectWithPvalues | 0.316 | 0.022 | 0.339 | |
| enrichDiffLogoTableWithPvalues | 5.585 | 0.325 | 5.912 | |
| extendPwmsFromAlignmentVector | 0.080 | 0.004 | 0.085 | |
| getAlphabetFromCharacters | 0.001 | 0.001 | 0.001 | |
| getAlphabetFromSequences | 0.001 | 0.000 | 0.001 | |
| getPwmFromAlignment | 0.615 | 0.181 | 0.806 | |
| getPwmFromAlignmentFile | 0.009 | 0.000 | 0.010 | |
| getPwmFromFastaFile | 0.027 | 0.001 | 0.027 | |
| getPwmFromFile | 0.005 | 0.001 | 0.007 | |
| getPwmFromHomerFile | 0.004 | 0.001 | 0.005 | |
| getPwmFromPfmOrJasparFile | 0.005 | 0.001 | 0.006 | |
| getPwmFromPwmFile | 0.005 | 0.001 | 0.005 | |
| getSequencesFromAlignmentFile | 0.002 | 0.000 | 0.003 | |
| getSequencesFromFastaFile | 0.004 | 0.000 | 0.004 | |
| informationContent | 0.095 | 0.006 | 0.103 | |
| lossOfAbsICDifferences | 0.074 | 0.007 | 0.083 | |
| multipleLocalPwmsAlignment | 0.053 | 0.012 | 0.065 | |
| normalizePWM | 0.001 | 0.000 | 0.001 | |
| normalizedDifferenceOfProbabilities | 0.071 | 0.014 | 0.086 | |
| prepareDiffLogoTable | 1.799 | 0.090 | 1.889 | |
| probabilities | 0.055 | 0.005 | 0.061 | |
| seqLogo | 0.059 | 0.022 | 0.083 | |
| shannonDivergence | 0.080 | 0.007 | 0.090 | |
| sumOfAbsICDifferences | 0.077 | 0.005 | 0.083 | |
| sumOfAbsProbabilityDifferences | 0.082 | 0.006 | 0.090 | |
| sumProbabilities | 0.060 | 0.005 | 0.066 | |