Back to Multiple platform build/check report for BioC 3.11 |
|
This page was generated on 2020-01-16 13:35:18 -0500 (Thu, 16 Jan 2020).
Package 713/1818 | Hostname | OS / Arch | INSTALL | BUILD | CHECK | BUILD BIN | ||||||
gmapR 1.29.0 Michael Lawrence
| malbec2 | Linux (Ubuntu 18.04.3 LTS) / x86_64 | OK | OK | WARNINGS | ![]() | ||||||
tokay2 | Windows Server 2012 R2 Standard / x64 | ...NOT SUPPORTED... | ||||||||||
celaya2 | OS X 10.11.6 El Capitan / x86_64 | OK | [ OK ] | WARNINGS | OK | ![]() |
Package: gmapR |
Version: 1.29.0 |
Command: /Library/Frameworks/R.framework/Versions/Current/Resources/bin/R CMD build --keep-empty-dirs --no-resave-data gmapR |
StartedAt: 2020-01-15 20:51:23 -0500 (Wed, 15 Jan 2020) |
EndedAt: 2020-01-15 21:03:03 -0500 (Wed, 15 Jan 2020) |
EllapsedTime: 699.4 seconds |
RetCode: 0 |
Status: OK |
PackageFile: gmapR_1.29.0.tar.gz |
PackageFileSize: 25.65 MiB |
############################################################################## ############################################################################## ### ### Running command: ### ### /Library/Frameworks/R.framework/Versions/Current/Resources/bin/R CMD build --keep-empty-dirs --no-resave-data gmapR ### ############################################################################## ############################################################################## * checking for file ‘gmapR/DESCRIPTION’ ... OK * preparing ‘gmapR’: * checking DESCRIPTION meta-information ... OK * cleaning src * installing the package to build vignettes * creating vignettes ... OK * cleaning src * checking for LF line-endings in source and make files and shell scripts * checking for empty or unneeded directories * building ‘gmapR_1.29.0.tar.gz’