Back to Multiple platform build/check report for BioC 3.11 |
|
This page was generated on 2020-01-16 13:52:28 -0500 (Thu, 16 Jan 2020).
Package 1105/1818 | Hostname | OS / Arch | INSTALL | BUILD | CHECK | BUILD BIN | ||||||
MSstatsTMT 1.5.3 Ting Huang
| malbec2 | Linux (Ubuntu 18.04.3 LTS) / x86_64 | OK | OK | OK | |||||||
tokay2 | Windows Server 2012 R2 Standard / x64 | OK | OK | OK | OK | |||||||
celaya2 | OS X 10.11.6 El Capitan / x86_64 | OK | [ OK ] | OK | OK |
Package: MSstatsTMT |
Version: 1.5.3 |
Command: /Library/Frameworks/R.framework/Versions/Current/Resources/bin/R CMD build --keep-empty-dirs --no-resave-data MSstatsTMT |
StartedAt: 2020-01-16 00:15:59 -0500 (Thu, 16 Jan 2020) |
EndedAt: 2020-01-16 00:17:27 -0500 (Thu, 16 Jan 2020) |
EllapsedTime: 87.4 seconds |
RetCode: 0 |
Status: OK |
PackageFile: MSstatsTMT_1.5.3.tar.gz |
PackageFileSize: 1.081 MiB |
############################################################################## ############################################################################## ### ### Running command: ### ### /Library/Frameworks/R.framework/Versions/Current/Resources/bin/R CMD build --keep-empty-dirs --no-resave-data MSstatsTMT ### ############################################################################## ############################################################################## * checking for file ‘MSstatsTMT/DESCRIPTION’ ... OK * preparing ‘MSstatsTMT’: * checking DESCRIPTION meta-information ... OK * installing the package to build vignettes * creating vignettes ... OK * checking for LF line-endings in source and make files and shell scripts * checking for empty or unneeded directories * building ‘MSstatsTMT_1.5.3.tar.gz’