| Back to Multiple platform build/check report for BioC 3.11 |
|
This page was generated on 2020-01-16 13:39:50 -0500 (Thu, 16 Jan 2020).
| Package 1691/1818 | Hostname | OS / Arch | INSTALL | BUILD | CHECK | BUILD BIN | ||||||
| switchBox 1.23.0 Bahman Afsari
| malbec2 | Linux (Ubuntu 18.04.3 LTS) / x86_64 | OK | OK | WARNINGS | |||||||
| tokay2 | Windows Server 2012 R2 Standard / x64 | OK | OK | WARNINGS | NA | |||||||
| celaya2 | OS X 10.11.6 El Capitan / x86_64 | OK | OK | WARNINGS | [ OK ] |
| Package: switchBox |
| Version: 1.23.0 |
| Command: rm -rf switchBox.buildbin-libdir && mkdir switchBox.buildbin-libdir && /Users/biocbuild/BBS/utils/build-universal.sh switchBox_1.23.0.tar.gz /Library/Frameworks/R.framework/Versions/Current/Resources/bin/R switchBox.buildbin-libdir |
| StartedAt: 2020-01-16 11:55:28 -0500 (Thu, 16 Jan 2020) |
| EndedAt: 2020-01-16 11:55:43 -0500 (Thu, 16 Jan 2020) |
| EllapsedTime: 15.0 seconds |
| RetCode: 0 |
| Status: OK |
| PackageFile: switchBox_1.23.0.tgz |
| PackageFileSize: 626.7 KiB |
##############################################################################
##############################################################################
###
### Running command:
###
### rm -rf switchBox.buildbin-libdir && mkdir switchBox.buildbin-libdir && /Users/biocbuild/BBS/utils/build-universal.sh switchBox_1.23.0.tar.gz /Library/Frameworks/R.framework/Versions/Current/Resources/bin/R switchBox.buildbin-libdir
###
##############################################################################
##############################################################################
>>>>>>>
>>>>>>> INSTALLATION WITH 'R CMD INSTALL --preclean --no-multiarch --library=switchBox.buildbin-libdir switchBox_1.23.0.tar.gz'
>>>>>>>
* installing *source* package ‘switchBox’ ...
** using staged installation
** libs
clang++ -std=gnu++11 -I"/Library/Frameworks/R.framework/Resources/include" -DNDEBUG -isysroot /Library/Developer/CommandLineTools/SDKs/MacOSX.sdk -I/usr/local/include -fPIC -Wall -g -O2 -c CalculateSignedScoreCore.cc -o CalculateSignedScoreCore.o
clang++ -std=gnu++11 -I"/Library/Frameworks/R.framework/Resources/include" -DNDEBUG -isysroot /Library/Developer/CommandLineTools/SDKs/MacOSX.sdk -I/usr/local/include -fPIC -Wall -g -O2 -c CalculateSignedScoreCoreTieHandler.cc -o CalculateSignedScoreCoreTieHandler.o
CalculateSignedScoreCoreTieHandler.cc:49:12: warning: unused variable 'score1' [-Wunused-variable]
double score1, score2, type;
^
1 warning generated.
clang++ -std=gnu++11 -I"/Library/Frameworks/R.framework/Resources/include" -DNDEBUG -isysroot /Library/Developer/CommandLineTools/SDKs/MacOSX.sdk -I/usr/local/include -fPIC -Wall -g -O2 -c CalculateSignedScoreRestrictedPairsCore.cc -o CalculateSignedScoreRestrictedPairsCore.o
clang++ -std=gnu++11 -I"/Library/Frameworks/R.framework/Resources/include" -DNDEBUG -isysroot /Library/Developer/CommandLineTools/SDKs/MacOSX.sdk -I/usr/local/include -fPIC -Wall -g -O2 -c CalculateSignedScoreRestrictedPairsCoreTieHandler.cc -o CalculateSignedScoreRestrictedPairsCoreTieHandler.o
CalculateSignedScoreRestrictedPairsCoreTieHandler.cc:35:10: warning: unused variable 'score1' [-Wunused-variable]
double score1, score2, type;
^
CalculateSignedScoreRestrictedPairsCoreTieHandler.cc:25:11: warning: unused variable 'countplace' [-Wunused-variable]
int i,l,countplace,pairsNo;
^
2 warnings generated.
clang -I"/Library/Frameworks/R.framework/Resources/include" -DNDEBUG -isysroot /Library/Developer/CommandLineTools/SDKs/MacOSX.sdk -I/usr/local/include -fPIC -Wall -g -O2 -c rinit.c -o rinit.o
clang++ -std=gnu++11 -I"/Library/Frameworks/R.framework/Resources/include" -DNDEBUG -isysroot /Library/Developer/CommandLineTools/SDKs/MacOSX.sdk -I/usr/local/include -fPIC -Wall -g -O2 -c vect2compC.cc -o vect2compC.o
clang++ -std=gnu++11 -dynamiclib -Wl,-headerpad_max_install_names -undefined dynamic_lookup -single_module -multiply_defined suppress -L/Library/Frameworks/R.framework/Resources/lib -L/usr/local/lib -o switchBox.so CalculateSignedScoreCore.o CalculateSignedScoreCoreTieHandler.o CalculateSignedScoreRestrictedPairsCore.o CalculateSignedScoreRestrictedPairsCoreTieHandler.o rinit.o vect2compC.o -F/Library/Frameworks/R.framework/.. -framework R -Wl,-framework -Wl,CoreFoundation
installing to /Users/biocbuild/bbs-3.11-bioc/meat/switchBox.buildbin-libdir/00LOCK-switchBox/00new/switchBox/libs
** R
** data
** inst
** byte-compile and prepare package for lazy loading
** help
*** installing help indices
** building package indices
** installing vignettes
** testing if installed package can be loaded from temporary location
** checking absolute paths in shared objects and dynamic libraries
** testing if installed package can be loaded from final location
** testing if installed package keeps a record of temporary installation path
* DONE (switchBox)
>>>>>>>
>>>>>>> FIXING LINKS FOR switchBox.buildbin-libdir/switchBox/libs//switchBox.so
>>>>>>>
install_name_tool -change "/usr/local/lib/libgcc_s.1.dylib" "/Library/Frameworks/R.framework/Versions/4.0/Resources/lib/libgcc_s.1.dylib" "switchBox.buildbin-libdir/switchBox/libs//switchBox.so"
install_name_tool -change "/usr/local/lib/libgfortran.3.dylib" "/Library/Frameworks/R.framework/Versions/4.0/Resources/lib/libgfortran.3.dylib" "switchBox.buildbin-libdir/switchBox/libs//switchBox.so"
install_name_tool -change "/usr/local/lib/libreadline.5.2.dylib" "/Library/Frameworks/R.framework/Versions/4.0/Resources/lib/libreadline.5.2.dylib" "switchBox.buildbin-libdir/switchBox/libs//switchBox.so"
install_name_tool -change "/usr/local/lib/libreadline.dylib" "/Library/Frameworks/R.framework/Versions/4.0/Resources/lib/libreadline.dylib" "switchBox.buildbin-libdir/switchBox/libs//switchBox.so"
install_name_tool -change "/usr/local/lib/libquadmath.0.dylib" "/Library/Frameworks/R.framework/Versions/4.0/Resources/lib/libquadmath.0.dylib" "switchBox.buildbin-libdir/switchBox/libs//switchBox.so"