| Back to Multiple platform build/check report for BioC 3.11 |
|
This page was generated on 2020-01-16 13:42:22 -0500 (Thu, 16 Jan 2020).
| Package 1355/1818 | Hostname | OS / Arch | INSTALL | BUILD | CHECK | BUILD BIN | ||||||
| R3CPET 1.19.0 Mohamed Nadhir Djekidel
| malbec2 | Linux (Ubuntu 18.04.3 LTS) / x86_64 | OK | OK | OK | |||||||
| tokay2 | Windows Server 2012 R2 Standard / x64 | OK | OK | OK | OK | |||||||
| celaya2 | OS X 10.11.6 El Capitan / x86_64 | OK | [ OK ] | OK | OK |
| Package: R3CPET |
| Version: 1.19.0 |
| Command: /Library/Frameworks/R.framework/Versions/Current/Resources/bin/R CMD build --keep-empty-dirs --no-resave-data R3CPET |
| StartedAt: 2020-01-15 22:04:24 -0500 (Wed, 15 Jan 2020) |
| EndedAt: 2020-01-15 22:07:23 -0500 (Wed, 15 Jan 2020) |
| EllapsedTime: 178.6 seconds |
| RetCode: 0 |
| Status: OK |
| PackageFile: R3CPET_1.19.0.tar.gz |
| PackageFileSize: 5.291 MiB |
##############################################################################
##############################################################################
###
### Running command:
###
### /Library/Frameworks/R.framework/Versions/Current/Resources/bin/R CMD build --keep-empty-dirs --no-resave-data R3CPET
###
##############################################################################
##############################################################################
* checking for file ‘R3CPET/DESCRIPTION’ ... OK
* preparing ‘R3CPET’:
* checking DESCRIPTION meta-information ... OK
* cleaning src
* installing the package to build vignettes
* creating vignettes ... OK
Warning: ‘inst/doc’ files
‘R3CPET.Rnw’, ‘R3CPET.pdf’, ‘R3CPET.R’
ignored as vignettes have been rebuilt.
Run R CMD build with --no-build-vignettes to prevent rebuilding.
* cleaning src
* checking for LF line-endings in source and make files and shell scripts
* checking for empty or unneeded directories
* looking to see if a ‘data/datalist’ file should be added
* building ‘R3CPET_1.19.0.tar.gz’