| Back to Multiple platform build/check report for BioC 3.11 |
|
This page was generated on 2020-01-16 13:31:04 -0500 (Thu, 16 Jan 2020).
| Package 621/1818 | Hostname | OS / Arch | INSTALL | BUILD | CHECK | BUILD BIN | ||||||
| gaga 2.33.0 David Rossell
| malbec2 | Linux (Ubuntu 18.04.3 LTS) / x86_64 | OK | OK | OK | |||||||
| tokay2 | Windows Server 2012 R2 Standard / x64 | OK | OK | OK | OK | |||||||
| celaya2 | OS X 10.11.6 El Capitan / x86_64 | OK | [ OK ] | WARNINGS | OK |
| Package: gaga |
| Version: 2.33.0 |
| Command: /Library/Frameworks/R.framework/Versions/Current/Resources/bin/R CMD build --keep-empty-dirs --no-resave-data gaga |
| StartedAt: 2020-01-15 20:05:08 -0500 (Wed, 15 Jan 2020) |
| EndedAt: 2020-01-15 20:05:46 -0500 (Wed, 15 Jan 2020) |
| EllapsedTime: 38.2 seconds |
| RetCode: 0 |
| Status: OK |
| PackageFile: gaga_2.33.0.tar.gz |
| PackageFileSize: 396.2 KiB |
############################################################################## ############################################################################## ### ### Running command: ### ### /Library/Frameworks/R.framework/Versions/Current/Resources/bin/R CMD build --keep-empty-dirs --no-resave-data gaga ### ############################################################################## ############################################################################## * checking for file ‘gaga/DESCRIPTION’ ... OK * preparing ‘gaga’: * checking DESCRIPTION meta-information ... OK * cleaning src * installing the package to build vignettes * creating vignettes ... OK * cleaning src * checking for LF line-endings in source and make files and shell scripts * checking for empty or unneeded directories * building ‘gaga_2.33.0.tar.gz’