| Back to Multiple platform build/check report for BioC 3.11 |
|
This page was generated on 2020-01-16 13:49:49 -0500 (Thu, 16 Jan 2020).
| Package 1739/1818 | Hostname | OS / Arch | INSTALL | BUILD | CHECK | BUILD BIN | ||||||
| transcriptogramer 1.9.2 Diego Morais
| malbec2 | Linux (Ubuntu 18.04.3 LTS) / x86_64 | OK | OK | OK | |||||||
| tokay2 | Windows Server 2012 R2 Standard / x64 | OK | OK | ERROR | NA | |||||||
| celaya2 | OS X 10.11.6 El Capitan / x86_64 | OK | OK | [ OK ] | OK |
| Package: transcriptogramer |
| Version: 1.9.2 |
| Command: /Library/Frameworks/R.framework/Versions/Current/Resources/bin/R CMD check --install=check:transcriptogramer.install-out.txt --library=/Library/Frameworks/R.framework/Versions/Current/Resources/library --no-vignettes --timings transcriptogramer_1.9.2.tar.gz |
| StartedAt: 2020-01-16 09:34:48 -0500 (Thu, 16 Jan 2020) |
| EndedAt: 2020-01-16 09:40:27 -0500 (Thu, 16 Jan 2020) |
| EllapsedTime: 339.5 seconds |
| RetCode: 0 |
| Status: OK |
| CheckDir: transcriptogramer.Rcheck |
| Warnings: 0 |
##############################################################################
##############################################################################
###
### Running command:
###
### /Library/Frameworks/R.framework/Versions/Current/Resources/bin/R CMD check --install=check:transcriptogramer.install-out.txt --library=/Library/Frameworks/R.framework/Versions/Current/Resources/library --no-vignettes --timings transcriptogramer_1.9.2.tar.gz
###
##############################################################################
##############################################################################
* using log directory ‘/Users/biocbuild/bbs-3.11-bioc/meat/transcriptogramer.Rcheck’
* using R Under development (unstable) (2019-12-14 r77572)
* using platform: x86_64-apple-darwin15.6.0 (64-bit)
* using session charset: UTF-8
* using option ‘--no-vignettes’
* checking for file ‘transcriptogramer/DESCRIPTION’ ... OK
* checking extension type ... Package
* this is package ‘transcriptogramer’ version ‘1.9.2’
* package encoding: UTF-8
* checking package namespace information ... OK
* checking package dependencies ... OK
* checking if this is a source package ... OK
* checking if there is a namespace ... OK
* checking for hidden files and directories ... OK
* checking for portable file names ... OK
* checking for sufficient/correct file permissions ... OK
* checking whether package ‘transcriptogramer’ can be installed ... OK
* checking installed package size ... NOTE
installed size is 5.6Mb
sub-directories of 1Mb or more:
data 5.0Mb
* checking package directory ... OK
* checking ‘build’ directory ... OK
* checking DESCRIPTION meta-information ... OK
* checking top-level files ... OK
* checking for left-over files ... OK
* checking index information ... OK
* checking package subdirectories ... OK
* checking R files for non-ASCII characters ... OK
* checking R files for syntax errors ... OK
* checking whether the package can be loaded ... OK
* checking whether the package can be loaded with stated dependencies ... OK
* checking whether the package can be unloaded cleanly ... OK
* checking whether the namespace can be loaded with stated dependencies ... OK
* checking whether the namespace can be unloaded cleanly ... OK
* checking dependencies in R code ... OK
* checking S3 generic/method consistency ... OK
* checking replacement functions ... OK
* checking foreign function calls ... OK
* checking R code for possible problems ... OK
* checking Rd files ... OK
* checking Rd metadata ... OK
* checking Rd cross-references ... OK
* checking for missing documentation entries ... OK
* checking for code/documentation mismatches ... OK
* checking Rd \usage sections ... OK
* checking Rd contents ... OK
* checking for unstated dependencies in examples ... OK
* checking contents of ‘data’ directory ... OK
* checking data for non-ASCII characters ... OK
* checking data for ASCII and uncompressed saves ... OK
* checking files in ‘vignettes’ ... OK
* checking examples ... OK
* checking for unstated dependencies in ‘tests’ ... OK
* checking tests ...
Running ‘runTests.R’
OK
* checking for unstated dependencies in vignettes ... OK
* checking package vignettes in ‘inst/doc’ ... OK
* checking running R code from vignettes ... SKIPPED
* checking re-building of vignette outputs ... SKIPPED
* checking PDF version of manual ... OK
* DONE
Status: 1 NOTE
See
‘/Users/biocbuild/bbs-3.11-bioc/meat/transcriptogramer.Rcheck/00check.log’
for details.
transcriptogramer.Rcheck/00install.out
############################################################################## ############################################################################## ### ### Running command: ### ### /Library/Frameworks/R.framework/Versions/Current/Resources/bin/R CMD INSTALL transcriptogramer ### ############################################################################## ############################################################################## * installing to library ‘/Library/Frameworks/R.framework/Versions/4.0/Resources/library’ * installing *source* package ‘transcriptogramer’ ... ** using staged installation ** R ** data *** moving datasets to lazyload DB ** inst ** byte-compile and prepare package for lazy loading ** help *** installing help indices ** building package indices ** installing vignettes ** testing if installed package can be loaded from temporary location ** testing if installed package can be loaded from final location ** testing if installed package keeps a record of temporary installation path * DONE (transcriptogramer)
transcriptogramer.Rcheck/tests/runTests.Rout
R Under development (unstable) (2019-12-14 r77572) -- "Unsuffered Consequences"
Copyright (C) 2019 The R Foundation for Statistical Computing
Platform: x86_64-apple-darwin15.6.0 (64-bit)
R is free software and comes with ABSOLUTELY NO WARRANTY.
You are welcome to redistribute it under certain conditions.
Type 'license()' or 'licence()' for distribution details.
R is a collaborative project with many contributors.
Type 'contributors()' for more information and
'citation()' on how to cite R or R packages in publications.
Type 'demo()' for some demos, 'help()' for on-line help, or
'help.start()' for an HTML browser interface to help.
Type 'q()' to quit R.
> BiocGenerics:::testPackage("transcriptogramer")
preprocessing input data... step 1 of 1
calculating node properties... step 1 of 2
** this may take some time...
applying sliding window and mounting resulting data... step 2 of 2
** this may take some time...
done!
mapping identifiers to ENSEMBL Peptide ID... step 1 of 2
averaging over all identifiers related to the same protein... step 2 of 2
done!
applying sliding window and mounting resulting data... step 1 of 1
done!
RUNIT TEST PROTOCOL -- Thu Jan 16 09:40:16 2020
***********************************************
Number of test functions: 3
Number of errors: 0
Number of failures: 0
1 Test Suite :
transcriptogramer RUnit Tests - 3 test functions, 0 errors, 0 failures
Number of test functions: 3
Number of errors: 0
Number of failures: 0
>
> proc.time()
user system elapsed
14.223 2.300 110.408
transcriptogramer.Rcheck/transcriptogramer-Ex.timings
| name | user | system | elapsed | |
| DE-method | 1.316 | 0.112 | 1.428 | |
| DEsymbols | 0.605 | 0.300 | 0.906 | |
| GPL570 | 2.288 | 0.857 | 3.146 | |
| GSE9988 | 1.809 | 0.975 | 2.785 | |
| Hs700 | 0.452 | 0.251 | 0.704 | |
| Hs800 | 0.364 | 0.190 | 0.555 | |
| Hs900 | 0.296 | 0.170 | 0.466 | |
| HsBPTerms | 3.021 | 1.230 | 4.251 | |
| Mm700 | 0.449 | 0.241 | 0.691 | |
| Mm800 | 0.349 | 0.265 | 0.615 | |
| Mm900 | 0.205 | 0.103 | 0.308 | |
| Rn700 | 0.333 | 0.174 | 0.507 | |
| Rn800 | 0.371 | 0.222 | 0.619 | |
| Rn900 | 0.272 | 0.143 | 0.419 | |
| Sc700 | 0.105 | 0.063 | 0.168 | |
| Sc800 | 0.102 | 0.076 | 0.178 | |
| Sc900 | 0.066 | 0.038 | 0.103 | |
| Terms-method | 0.098 | 0.039 | 0.136 | |
| association | 3.091 | 0.905 | 4.002 | |
| clusterEnrichment-method | 0.051 | 0.019 | 0.070 | |
| clusterVisualization-method | 0.085 | 0.003 | 0.089 | |
| connectivityProperties-method | 0.054 | 0.027 | 0.082 | |
| differentiallyExpressed-method | 0.089 | 0.001 | 0.090 | |
| enrichmentPlot-method | 0.052 | 0.000 | 0.053 | |
| orderingProperties-method | 0.091 | 0.000 | 0.091 | |
| radius-method | 0.050 | 0.001 | 0.051 | |
| transcriptogramPreprocess | 0.098 | 0.001 | 0.098 | |
| transcriptogramStep1-method | 0.053 | 0.001 | 0.053 | |
| transcriptogramStep2-method | 0.082 | 0.001 | 0.083 | |