| Back to Multiple platform build/check report for BioC 3.11 |
|
This page was generated on 2020-01-16 13:43:18 -0500 (Thu, 16 Jan 2020).
| Package 1484/1818 | Hostname | OS / Arch | INSTALL | BUILD | CHECK | BUILD BIN | ||||||
| RTCGA 1.17.0 Marcin Kosinski
| malbec2 | Linux (Ubuntu 18.04.3 LTS) / x86_64 | OK | OK | OK | |||||||
| tokay2 | Windows Server 2012 R2 Standard / x64 | OK | OK | WARNINGS | OK | |||||||
| celaya2 | OS X 10.11.6 El Capitan / x86_64 | OK | OK | [ OK ] | OK |
| Package: RTCGA |
| Version: 1.17.0 |
| Command: /Library/Frameworks/R.framework/Versions/Current/Resources/bin/R CMD check --install=check:RTCGA.install-out.txt --library=/Library/Frameworks/R.framework/Versions/Current/Resources/library --no-vignettes --timings RTCGA_1.17.0.tar.gz |
| StartedAt: 2020-01-16 08:28:03 -0500 (Thu, 16 Jan 2020) |
| EndedAt: 2020-01-16 08:40:00 -0500 (Thu, 16 Jan 2020) |
| EllapsedTime: 716.3 seconds |
| RetCode: 0 |
| Status: OK |
| CheckDir: RTCGA.Rcheck |
| Warnings: 0 |
##############################################################################
##############################################################################
###
### Running command:
###
### /Library/Frameworks/R.framework/Versions/Current/Resources/bin/R CMD check --install=check:RTCGA.install-out.txt --library=/Library/Frameworks/R.framework/Versions/Current/Resources/library --no-vignettes --timings RTCGA_1.17.0.tar.gz
###
##############################################################################
##############################################################################
* using log directory ‘/Users/biocbuild/bbs-3.11-bioc/meat/RTCGA.Rcheck’
* using R Under development (unstable) (2019-12-14 r77572)
* using platform: x86_64-apple-darwin15.6.0 (64-bit)
* using session charset: UTF-8
* using option ‘--no-vignettes’
* checking for file ‘RTCGA/DESCRIPTION’ ... OK
* this is package ‘RTCGA’ version ‘1.17.0’
* checking package namespace information ... OK
* checking package dependencies ... OK
* checking if this is a source package ... OK
* checking if there is a namespace ... OK
* checking for hidden files and directories ... OK
* checking for portable file names ... OK
* checking for sufficient/correct file permissions ... OK
* checking whether package ‘RTCGA’ can be installed ... OK
* checking installed package size ... OK
* checking package directory ... OK
* checking ‘build’ directory ... OK
* checking DESCRIPTION meta-information ... OK
* checking top-level files ... OK
* checking for left-over files ... OK
* checking index information ... OK
* checking package subdirectories ... OK
* checking R files for non-ASCII characters ... OK
* checking R files for syntax errors ... OK
* checking whether the package can be loaded ... OK
* checking whether the package can be loaded with stated dependencies ... OK
* checking whether the package can be unloaded cleanly ... OK
* checking whether the namespace can be loaded with stated dependencies ... OK
* checking whether the namespace can be unloaded cleanly ... OK
* checking dependencies in R code ... OK
* checking S3 generic/method consistency ... OK
* checking replacement functions ... OK
* checking foreign function calls ... OK
* checking R code for possible problems ... NOTE
availableDates: no visible binding for global variable ‘.’
downloadTCGA: no visible binding for global variable ‘.’
ggbiplot: no visible binding for global variable ‘xvar’
ggbiplot: no visible binding for global variable ‘yvar’
ggbiplot: no visible global function definition for ‘muted’
ggbiplot: no visible binding for global variable ‘varname’
ggbiplot: no visible binding for global variable ‘angle’
ggbiplot: no visible binding for global variable ‘hjust’
read.mutations: no visible binding for global variable ‘.’
read.rnaseq: no visible binding for global variable ‘.’
survivalTCGA: no visible binding for global variable ‘times’
whichDateToUse: no visible binding for global variable ‘.’
Undefined global functions or variables:
. angle hjust muted times varname xvar yvar
* checking Rd files ... OK
* checking Rd metadata ... OK
* checking Rd cross-references ... OK
* checking for missing documentation entries ... OK
* checking for code/documentation mismatches ... OK
* checking Rd \usage sections ... OK
* checking Rd contents ... OK
* checking for unstated dependencies in examples ... OK
* checking files in ‘vignettes’ ... OK
* checking examples ... OK
Examples with CPU (user + system) or elapsed time > 5s
user system elapsed
expressionsTCGA 202.149 11.563 214.399
heatmapTCGA 186.984 6.935 194.096
boxplotTCGA 95.518 8.355 103.939
kmTCGA 18.348 0.610 18.976
survivalTCGA 16.627 0.360 16.995
mutationsTCGA 10.062 0.540 10.602
theme_RTCGA 8.362 0.369 8.731
* checking for unstated dependencies in ‘tests’ ... OK
* checking tests ...
Running ‘testthat.R’
OK
* checking for unstated dependencies in vignettes ... OK
* checking package vignettes in ‘inst/doc’ ... OK
* checking running R code from vignettes ... SKIPPED
* checking re-building of vignette outputs ... SKIPPED
* checking PDF version of manual ... OK
* DONE
Status: 1 NOTE
See
‘/Users/biocbuild/bbs-3.11-bioc/meat/RTCGA.Rcheck/00check.log’
for details.
RTCGA.Rcheck/00install.out
############################################################################## ############################################################################## ### ### Running command: ### ### /Library/Frameworks/R.framework/Versions/Current/Resources/bin/R CMD INSTALL RTCGA ### ############################################################################## ############################################################################## * installing to library ‘/Library/Frameworks/R.framework/Versions/4.0/Resources/library’ * installing *source* package ‘RTCGA’ ... ** using staged installation ** R ** byte-compile and prepare package for lazy loading ** help *** installing help indices ** building package indices ** installing vignettes ** testing if installed package can be loaded from temporary location ** testing if installed package can be loaded from final location ** testing if installed package keeps a record of temporary installation path * DONE (RTCGA)
RTCGA.Rcheck/tests/testthat.Rout
R Under development (unstable) (2019-12-14 r77572) -- "Unsuffered Consequences"
Copyright (C) 2019 The R Foundation for Statistical Computing
Platform: x86_64-apple-darwin15.6.0 (64-bit)
R is free software and comes with ABSOLUTELY NO WARRANTY.
You are welcome to redistribute it under certain conditions.
Type 'license()' or 'licence()' for distribution details.
R is a collaborative project with many contributors.
Type 'contributors()' for more information and
'citation()' on how to cite R or R packages in publications.
Type 'demo()' for some demos, 'help()' for on-line help, or
'help.start()' for an HTML browser interface to help.
Type 'q()' to quit R.
> library(testthat)
> library(RTCGA)
Welcome to the RTCGA (version: 1.17.0).
> library(RTCGA.rnaseq)
> library(Biobase)
Loading required package: BiocGenerics
Loading required package: parallel
Attaching package: 'BiocGenerics'
The following objects are masked from 'package:parallel':
clusterApply, clusterApplyLB, clusterCall, clusterEvalQ,
clusterExport, clusterMap, parApply, parCapply, parLapply,
parLapplyLB, parRapply, parSapply, parSapplyLB
The following objects are masked from 'package:stats':
IQR, mad, sd, var, xtabs
The following objects are masked from 'package:base':
Filter, Find, Map, Position, Reduce, anyDuplicated, append,
as.data.frame, basename, cbind, colnames, dirname, do.call,
duplicated, eval, evalq, get, grep, grepl, intersect, is.unsorted,
lapply, mapply, match, mget, order, paste, pmax, pmax.int, pmin,
pmin.int, rank, rbind, rownames, sapply, setdiff, sort, table,
tapply, union, unique, unsplit, which, which.max, which.min
Welcome to Bioconductor
Vignettes contain introductory material; view with
'browseVignettes()'. To cite Bioconductor, see
'citation("Biobase")', and for packages 'citation("pkgname")'.
> library(GenomicRanges)
Loading required package: stats4
Loading required package: S4Vectors
Attaching package: 'S4Vectors'
The following object is masked from 'package:base':
expand.grid
Loading required package: IRanges
Loading required package: GenomeInfoDb
> #library(RTCGA.CNV)
> #library(RTCGA.PANCAN12)
>
> test_check("RTCGA")
trying URL 'http://gdac.broadinstitute.org/runs/stddata__2015_06_01/data/ACC/20150601/gdac.broadinstitute.org_ACC.Merge_Clinical.Level_1.2015060100.0.0.tar.gz'
Content type 'application/x-gzip' length 151456 bytes (147 KB)
==================================================
downloaded 147 KB
trying URL 'http://gdac.broadinstitute.org/runs/stddata__2015_06_01/data/ACC/20150601/gdac.broadinstitute.org_ACC.Merge_Clinical.Level_1.2015060100.0.0.tar.gz'
Content type 'application/x-gzip' length 151456 bytes (147 KB)
==================================================
downloaded 147 KB
══ testthat results ═══════════════════════════════════════════════════════════
[ OK: 11 | SKIPPED: 0 | WARNINGS: 0 | FAILED: 0 ]
>
> proc.time()
user system elapsed
20.567 2.870 25.207
RTCGA.Rcheck/RTCGA-Ex.timings
| name | user | system | elapsed | |
| RTCGA-package | 0 | 0 | 0 | |
| boxplotTCGA | 95.518 | 8.355 | 103.939 | |
| checkTCGA | 0.240 | 0.019 | 1.224 | |
| convertTCGA | 4.049 | 0.577 | 4.627 | |
| datasetsTCGA | 0.001 | 0.000 | 0.001 | |
| downloadTCGA | 0.044 | 0.024 | 0.438 | |
| expressionsTCGA | 202.149 | 11.563 | 214.399 | |
| heatmapTCGA | 186.984 | 6.935 | 194.096 | |
| infoTCGA | 2.401 | 0.018 | 2.983 | |
| installTCGA | 0 | 0 | 0 | |
| kmTCGA | 18.348 | 0.610 | 18.976 | |
| mutationsTCGA | 10.062 | 0.540 | 10.602 | |
| pcaTCGA | 0.001 | 0.001 | 0.001 | |
| readTCGA | 0.003 | 0.004 | 0.007 | |
| survivalTCGA | 16.627 | 0.360 | 16.995 | |
| theme_RTCGA | 8.362 | 0.369 | 8.731 | |