| Back to Multiple platform build/check report for BioC 3.11 |
|
This page was generated on 2020-01-16 13:34:43 -0500 (Thu, 16 Jan 2020).
| Package 240/1818 | Hostname | OS / Arch | INSTALL | BUILD | CHECK | BUILD BIN | ||||||
Julien Gagneur
| malbec2 | Linux (Ubuntu 18.04.3 LTS) / x86_64 | ERROR | ERROR | skipped | |||||||
| tokay2 | Windows Server 2012 R2 Standard / x64 | ERROR | ERROR | skipped | skipped | |||||||
| celaya2 | OS X 10.11.6 El Capitan / x86_64 | ERROR | [ ERROR ] | skipped | skipped |
| Package: cellGrowth |
| Version: 1.31.1 |
| Command: /Library/Frameworks/R.framework/Versions/Current/Resources/bin/R CMD build --keep-empty-dirs --no-resave-data cellGrowth |
| StartedAt: 2020-01-15 20:46:51 -0500 (Wed, 15 Jan 2020) |
| EndedAt: 2020-01-15 20:46:52 -0500 (Wed, 15 Jan 2020) |
| EllapsedTime: 1.5 seconds |
| RetCode: 1 |
| Status: ERROR |
| PackageFile: None |
| PackageFileSize: NA |
##############################################################################
##############################################################################
###
### Running command:
###
### /Library/Frameworks/R.framework/Versions/Current/Resources/bin/R CMD build --keep-empty-dirs --no-resave-data cellGrowth
###
##############################################################################
##############################################################################
* checking for file ‘cellGrowth/DESCRIPTION’ ... OK
* preparing ‘cellGrowth’:
* checking DESCRIPTION meta-information ... OK
* installing the package to build vignettes
-----------------------------------
* installing *source* package ‘cellGrowth’ ...
** using staged installation
** R
Error in .install_package_code_files(".", instdir) :
files in '/private/tmp/RtmpJ2nBto/Rbuild23de5c28b425/cellGrowth/R' missing from 'Collate' field:
zzz.R
ERROR: unable to collate and parse R files for package ‘cellGrowth’
* removing ‘/private/tmp/RtmpJ2nBto/Rinst23de744b1867/cellGrowth’
-----------------------------------
ERROR: package installation failed