| Back to Multiple platform build/check report for BioC 3.11 |
|
This page was generated on 2020-01-16 13:35:15 -0500 (Thu, 16 Jan 2020).
| Package 202/1818 | Hostname | OS / Arch | INSTALL | BUILD | CHECK | BUILD BIN | ||||||
| bsseq 1.23.0 Kasper Daniel Hansen
| malbec2 | Linux (Ubuntu 18.04.3 LTS) / x86_64 | OK | OK | TIMEOUT | |||||||
| tokay2 | Windows Server 2012 R2 Standard / x64 | OK | OK | WARNINGS | OK | |||||||
| celaya2 | OS X 10.11.6 El Capitan / x86_64 | OK | [ OK ] | OK | OK |
| Package: bsseq |
| Version: 1.23.0 |
| Command: /Library/Frameworks/R.framework/Versions/Current/Resources/bin/R CMD build --keep-empty-dirs --no-resave-data bsseq |
| StartedAt: 2020-01-15 20:51:04 -0500 (Wed, 15 Jan 2020) |
| EndedAt: 2020-01-15 20:56:17 -0500 (Wed, 15 Jan 2020) |
| EllapsedTime: 313.0 seconds |
| RetCode: 0 |
| Status: OK |
| PackageFile: bsseq_1.23.0.tar.gz |
| PackageFileSize: 2.759 MiB |
############################################################################## ############################################################################## ### ### Running command: ### ### /Library/Frameworks/R.framework/Versions/Current/Resources/bin/R CMD build --keep-empty-dirs --no-resave-data bsseq ### ############################################################################## ############################################################################## * checking for file ‘bsseq/DESCRIPTION’ ... OK * preparing ‘bsseq’: * checking DESCRIPTION meta-information ... OK * cleaning src * installing the package to build vignettes * creating vignettes ... OK * cleaning src * checking for LF line-endings in source and make files and shell scripts * checking for empty or unneeded directories * building ‘bsseq_1.23.0.tar.gz’