| Back to Multiple platform build/check report for BioC 3.11 |
|
This page was generated on 2020-01-16 13:33:42 -0500 (Thu, 16 Jan 2020).
| Package 824/1818 | Hostname | OS / Arch | INSTALL | BUILD | CHECK | BUILD BIN | ||||||
Alex Lisovich
| malbec2 | Linux (Ubuntu 18.04.3 LTS) / x86_64 | ERROR | ERROR | skipped | |||||||
| tokay2 | Windows Server 2012 R2 Standard / x64 | ERROR | ERROR | skipped | skipped | |||||||
| celaya2 | OS X 10.11.6 El Capitan / x86_64 | ERROR | [ ERROR ] | skipped | skipped |
| Package: IdMappingRetrieval |
| Version: 1.35.1 |
| Command: /Library/Frameworks/R.framework/Versions/Current/Resources/bin/R CMD build --keep-empty-dirs --no-resave-data IdMappingRetrieval |
| StartedAt: 2020-01-15 20:35:08 -0500 (Wed, 15 Jan 2020) |
| EndedAt: 2020-01-15 20:35:12 -0500 (Wed, 15 Jan 2020) |
| EllapsedTime: 3.3 seconds |
| RetCode: 1 |
| Status: ERROR |
| PackageFile: None |
| PackageFileSize: NA |
##############################################################################
##############################################################################
###
### Running command:
###
### /Library/Frameworks/R.framework/Versions/Current/Resources/bin/R CMD build --keep-empty-dirs --no-resave-data IdMappingRetrieval
###
##############################################################################
##############################################################################
* checking for file ‘IdMappingRetrieval/DESCRIPTION’ ... OK
* preparing ‘IdMappingRetrieval’:
* checking DESCRIPTION meta-information ... OK
* installing the package to build vignettes
-----------------------------------
* installing *source* package ‘IdMappingRetrieval’ ...
** using staged installation
** R
Error in .install_package_code_files(".", instdir) :
files in 'Collate' field missing from '/private/tmp/Rtmp8VcyPc/Rbuild10f1d495b2fd4/IdMappingRetrieval/R':
,
ERROR: unable to collate and parse R files for package ‘IdMappingRetrieval’
* removing ‘/private/tmp/Rtmp8VcyPc/Rinst10f1d1a12cec/IdMappingRetrieval’
-----------------------------------
ERROR: package installation failed