| Back to Multiple platform build/check report for BioC 3.11 |
|
This page was generated on 2020-01-16 13:31:25 -0500 (Thu, 16 Jan 2020).
| Package 871/1818 | Hostname | OS / Arch | INSTALL | BUILD | CHECK | BUILD BIN | ||||||
| iterativeBMA 1.45.0 Ka Yee Yeung
| malbec2 | Linux (Ubuntu 18.04.3 LTS) / x86_64 | OK | OK | OK | |||||||
| tokay2 | Windows Server 2012 R2 Standard / x64 | OK | OK | OK | OK | |||||||
| celaya2 | OS X 10.11.6 El Capitan / x86_64 | OK | OK | [ OK ] | OK |
| Package: iterativeBMA |
| Version: 1.45.0 |
| Command: /Library/Frameworks/R.framework/Versions/Current/Resources/bin/R CMD check --install=check:iterativeBMA.install-out.txt --library=/Library/Frameworks/R.framework/Versions/Current/Resources/library --no-vignettes --timings iterativeBMA_1.45.0.tar.gz |
| StartedAt: 2020-01-16 05:44:51 -0500 (Thu, 16 Jan 2020) |
| EndedAt: 2020-01-16 05:46:38 -0500 (Thu, 16 Jan 2020) |
| EllapsedTime: 106.7 seconds |
| RetCode: 0 |
| Status: OK |
| CheckDir: iterativeBMA.Rcheck |
| Warnings: 0 |
##############################################################################
##############################################################################
###
### Running command:
###
### /Library/Frameworks/R.framework/Versions/Current/Resources/bin/R CMD check --install=check:iterativeBMA.install-out.txt --library=/Library/Frameworks/R.framework/Versions/Current/Resources/library --no-vignettes --timings iterativeBMA_1.45.0.tar.gz
###
##############################################################################
##############################################################################
* using log directory ‘/Users/biocbuild/bbs-3.11-bioc/meat/iterativeBMA.Rcheck’
* using R Under development (unstable) (2019-12-14 r77572)
* using platform: x86_64-apple-darwin15.6.0 (64-bit)
* using session charset: UTF-8
* using option ‘--no-vignettes’
* checking for file ‘iterativeBMA/DESCRIPTION’ ... OK
* checking extension type ... Package
* this is package ‘iterativeBMA’ version ‘1.45.0’
* checking package namespace information ... OK
* checking package dependencies ... OK
* checking if this is a source package ... OK
* checking if there is a namespace ... OK
* checking for hidden files and directories ... OK
* checking for portable file names ... OK
* checking for sufficient/correct file permissions ... OK
* checking whether package ‘iterativeBMA’ can be installed ... OK
* checking installed package size ... OK
* checking package directory ... OK
* checking ‘build’ directory ... OK
* checking DESCRIPTION meta-information ... OK
* checking top-level files ... OK
* checking for left-over files ... OK
* checking index information ... OK
* checking package subdirectories ... OK
* checking R files for non-ASCII characters ... OK
* checking R files for syntax errors ... OK
* checking whether the package can be loaded ... OK
* checking whether the package can be loaded with stated dependencies ... OK
* checking whether the package can be unloaded cleanly ... OK
* checking whether the namespace can be loaded with stated dependencies ... OK
* checking whether the namespace can be unloaded cleanly ... OK
* checking dependencies in R code ... NOTE
Packages in Depends field not imported from:
‘BMA’ ‘Biobase’ ‘leaps’
These packages need to be imported from (in the NAMESPACE file)
for when this namespace is loaded but not attached.
* checking S3 generic/method consistency ... OK
* checking replacement functions ... OK
* checking foreign function calls ... OK
* checking R code for possible problems ... NOTE
convertSingleName: no visible global function definition for ‘exprs’
imageplot.bma.mod: no visible global function definition for ‘par’
imageplot.bma.mod: no visible global function definition for ‘image’
imageplot.bma.mod: no visible global function definition for ‘axis’
iterateBMAglm: no visible global function definition for ‘bic.glm’
iterateBMAglm.train: no visible global function definition for ‘exprs’
iterateBMAglm.train.predict: no visible global function definition for
‘exprs’
iterateBMAglm.train.predict.test: no visible global function definition
for ‘exprs’
iterateBMAglm.wrapper: no visible global function definition for
‘bic.glm’
Undefined global functions or variables:
axis bic.glm exprs image par
Consider adding
importFrom("graphics", "axis", "image", "par")
to your NAMESPACE file.
* checking Rd files ... NOTE
prepare_Rd: BssWssFast.Rd:39: Dropping empty section \note
prepare_Rd: bma_predict.Rd:36: Dropping empty section \note
prepare_Rd: brier_score.Rd:34: Dropping empty section \note
prepare_Rd: testClass.Rd:13-14: Dropping empty section \details
prepare_Rd: trainClass.Rd:13-14: Dropping empty section \details
* checking Rd metadata ... OK
* checking Rd cross-references ... OK
* checking for missing documentation entries ... OK
* checking for code/documentation mismatches ... OK
* checking Rd \usage sections ... OK
* checking Rd contents ... OK
* checking for unstated dependencies in examples ... OK
* checking contents of ‘data’ directory ... OK
* checking data for non-ASCII characters ... OK
* checking data for ASCII and uncompressed saves ... OK
* checking sizes of PDF files under ‘inst/doc’ ... OK
* checking files in ‘vignettes’ ... OK
* checking examples ... OK
* checking for unstated dependencies in vignettes ... OK
* checking package vignettes in ‘inst/doc’ ... OK
* checking running R code from vignettes ... SKIPPED
* checking re-building of vignette outputs ... SKIPPED
* checking PDF version of manual ... OK
* DONE
Status: 3 NOTEs
See
‘/Users/biocbuild/bbs-3.11-bioc/meat/iterativeBMA.Rcheck/00check.log’
for details.
iterativeBMA.Rcheck/00install.out
############################################################################## ############################################################################## ### ### Running command: ### ### /Library/Frameworks/R.framework/Versions/Current/Resources/bin/R CMD INSTALL iterativeBMA ### ############################################################################## ############################################################################## * installing to library ‘/Library/Frameworks/R.framework/Versions/4.0/Resources/library’ * installing *source* package ‘iterativeBMA’ ... ** using staged installation ** R ** data ** byte-compile and prepare package for lazy loading ** help *** installing help indices ** building package indices ** installing vignettes ** testing if installed package can be loaded from temporary location ** testing if installed package can be loaded from final location ** testing if installed package keeps a record of temporary installation path * DONE (iterativeBMA)
iterativeBMA.Rcheck/iterativeBMA-Ex.timings
| name | user | system | elapsed | |
| BssWssFast | 0.022 | 0.007 | 0.028 | |
| bma_predict | 2.382 | 0.119 | 2.500 | |
| brier_score | 2.380 | 0.089 | 2.470 | |
| imageplot_iterate_bma | 2.389 | 0.101 | 2.490 | |
| iterateBMAglm_train | 2.417 | 0.093 | 2.510 | |
| iterateBMAglm_train_predict | 2.243 | 0.086 | 2.330 | |
| iterateBMAglm_train_predict_test | 2.336 | 0.084 | 2.421 | |
| iterateBMAglm_wrapper | 2.502 | 0.088 | 2.591 | |
| iterativeBMA-package | 2.517 | 0.092 | 2.611 | |