| Back to Multiple platform build/check report for BioC 3.11 |
|
This page was generated on 2020-01-16 13:30:00 -0500 (Thu, 16 Jan 2020).
| Package 991/1818 | Hostname | OS / Arch | INSTALL | BUILD | CHECK | BUILD BIN | ||||||
| metaArray 1.65.0 Hyungwon Choi
| malbec2 | Linux (Ubuntu 18.04.3 LTS) / x86_64 | OK | OK | OK | |||||||
| tokay2 | Windows Server 2012 R2 Standard / x64 | OK | OK | OK | OK | |||||||
| celaya2 | OS X 10.11.6 El Capitan / x86_64 | OK | [ OK ] | OK | OK |
| Package: metaArray |
| Version: 1.65.0 |
| Command: /Library/Frameworks/R.framework/Versions/Current/Resources/bin/R CMD build --keep-empty-dirs --no-resave-data metaArray |
| StartedAt: 2020-01-15 19:55:27 -0500 (Wed, 15 Jan 2020) |
| EndedAt: 2020-01-15 19:55:52 -0500 (Wed, 15 Jan 2020) |
| EllapsedTime: 25.5 seconds |
| RetCode: 0 |
| Status: OK |
| PackageFile: metaArray_1.65.0.tar.gz |
| PackageFileSize: 781.3 KiB |
############################################################################## ############################################################################## ### ### Running command: ### ### /Library/Frameworks/R.framework/Versions/Current/Resources/bin/R CMD build --keep-empty-dirs --no-resave-data metaArray ### ############################################################################## ############################################################################## * checking for file ‘metaArray/DESCRIPTION’ ... OK * preparing ‘metaArray’: * checking DESCRIPTION meta-information ... OK * cleaning src * installing the package to build vignettes * creating vignettes ... OK * cleaning src * excluding invalid files Subdirectory 'man' contains invalid file names: ‘README’ ‘pkg.log’ * checking for LF line-endings in source and make files and shell scripts * checking for empty or unneeded directories * looking to see if a ‘data/datalist’ file should be added * building ‘metaArray_1.65.0.tar.gz’