| Back to Multiple platform build/check report for BioC 3.11 |
|
This page was generated on 2020-01-16 13:28:41 -0500 (Thu, 16 Jan 2020).
| Package 1296/1818 | Hostname | OS / Arch | INSTALL | BUILD | CHECK | BUILD BIN | ||||||
| preprocessCore 1.49.0 Ben Bolstad
| malbec2 | Linux (Ubuntu 18.04.3 LTS) / x86_64 | OK | OK | WARNINGS | |||||||
| tokay2 | Windows Server 2012 R2 Standard / x64 | OK | OK | OK | OK | |||||||
| celaya2 | OS X 10.11.6 El Capitan / x86_64 | OK | [ OK ] | WARNINGS | OK |
| Package: preprocessCore |
| Version: 1.49.0 |
| Command: /Library/Frameworks/R.framework/Versions/Current/Resources/bin/R CMD build --keep-empty-dirs --no-resave-data preprocessCore |
| StartedAt: 2020-01-15 19:48:26 -0500 (Wed, 15 Jan 2020) |
| EndedAt: 2020-01-15 19:48:36 -0500 (Wed, 15 Jan 2020) |
| EllapsedTime: 9.9 seconds |
| RetCode: 0 |
| Status: OK |
| PackageFile: preprocessCore_1.49.0.tar.gz |
| PackageFileSize: 120.3 KiB |
############################################################################## ############################################################################## ### ### Running command: ### ### /Library/Frameworks/R.framework/Versions/Current/Resources/bin/R CMD build --keep-empty-dirs --no-resave-data preprocessCore ### ############################################################################## ############################################################################## * checking for file ‘preprocessCore/DESCRIPTION’ ... OK * preparing ‘preprocessCore’: * checking DESCRIPTION meta-information ... OK * cleaning src * running ‘cleanup’ * checking for LF line-endings in source and make files and shell scripts * checking for empty or unneeded directories * building ‘preprocessCore_1.49.0.tar.gz’