| Back to Multiple platform build/check report for BioC 3.11 | 
 | 
This page was generated on 2020-01-16 13:52:47 -0500 (Thu, 16 Jan 2020).
| Package 1064/1818 | Hostname | OS / Arch | INSTALL | BUILD | CHECK | BUILD BIN | ||||||
| mixOmics 6.11.6 Kim-Anh Le Cao 
 | malbec2 | Linux (Ubuntu 18.04.3 LTS) / x86_64 | OK | OK | OK |  | ||||||
| tokay2 | Windows Server 2012 R2 Standard / x64 | OK | OK | OK | OK |  | ||||||
| celaya2 | OS X 10.11.6 El Capitan / x86_64 | OK | OK | OK | [ OK ] |  | 
| Package: mixOmics | 
| Version: 6.11.6 | 
| Command: rm -rf mixOmics.buildbin-libdir && mkdir mixOmics.buildbin-libdir && /Users/biocbuild/BBS/utils/build-universal.sh mixOmics_6.11.6.tar.gz /Library/Frameworks/R.framework/Versions/Current/Resources/bin/R mixOmics.buildbin-libdir | 
| StartedAt: 2020-01-16 11:19:51 -0500 (Thu, 16 Jan 2020) | 
| EndedAt: 2020-01-16 11:20:39 -0500 (Thu, 16 Jan 2020) | 
| EllapsedTime: 48.1 seconds | 
| RetCode: 0 | 
| Status: OK | 
| PackageFile: mixOmics_6.11.6.tgz | 
| PackageFileSize: 9.591 MiB | 
############################################################################## ############################################################################## ### ### Running command: ### ### rm -rf mixOmics.buildbin-libdir && mkdir mixOmics.buildbin-libdir && /Users/biocbuild/BBS/utils/build-universal.sh mixOmics_6.11.6.tar.gz /Library/Frameworks/R.framework/Versions/Current/Resources/bin/R mixOmics.buildbin-libdir ### ############################################################################## ############################################################################## >>>>>>> >>>>>>> INSTALLATION WITH 'R CMD INSTALL --preclean --no-multiarch --library=mixOmics.buildbin-libdir mixOmics_6.11.6.tar.gz' >>>>>>> * installing *source* package ‘mixOmics’ ... ** using staged installation ** R ** data ** inst ** byte-compile and prepare package for lazy loading ** help *** installing help indices ** building package indices ** installing vignettes ** testing if installed package can be loaded from temporary location ** testing if installed package can be loaded from final location ** testing if installed package keeps a record of temporary installation path * DONE (mixOmics)