This page was generated on 2007-06-11 01:35:39 -0700 (Mon, 11 Jun 2007).
NOTES: (1) a maintainance reboot of lemming prevented these builds to complete on this machine (2) these are the last builds with R 2.6.0 (2007-06-03 r41797) on lamb1 and lemming, next builds will be with R 2.6.0 (2007-06-10 r41908) configured with --enable-strict-barrier |
This is the "Multiple platform build/check report" for BioC 2.1:
- Snapshot Date: 2007-06-10 12:04:04 -0700 (Sun, 10 Jun 2007)
- URL: https://hedgehog.fhcrc.org/bioconductor/trunk/madman/Rpacks
- Revision: 25305
- Last Changed Date: 2007-06-10 10:30:03 -0700 (Sun, 10 Jun 2007)
Hostname | OS | Arch (*) | Platform label (**) | R version | Installed pkgs |
---|---|---|---|---|---|
lamb1 | Linux (SUSE 10.1) | x86_64 | x86_64-suse-linux | 2.6.0 Under development (unstable) (2007-06-03 r41797) | 410 |
wellington | Linux (SUSE 9.2) | i686 | i586-suse-linux | 2.6.0 Under development (unstable) (2007-06-03 r41797) | 404 |
churchill | Solaris 2.9 | sparc | sparc-sun-solaris2.9 | 2.6.0 Under development (unstable) (2007-06-03 r41797) | 390 |
lemming | Windows Server 2003 (32-bit) | x64 | mingw32 | 2.6.0 Under development (unstable) (2007-06-03 r41797) | 396 |
Click on any hostname to see more info about the system (e.g. compilers) (*) as reported by 'uname -p', except on Windows (**) as reported by 'gcc -v' |
GLYPH TABLE - These are the glyphs used in this report to indicate the following package status: | |
- TIMEOUT | BUILD, CHECK or BUILD BIN of package took more than 40 minutes |
- ERROR | BUILD, CHECK or BUILD BIN of package returned an error |
- WARNINGS | CHECK of package produced warnings |
- OK | BUILD, CHECK or BUILD BIN of package was OK |
- skipped | CHECK or BUILD BIN of package was skipped because the BUILD step failed (or because something bad happened with the Build System itself) |
Click on any glyph in the report below to see the status details (command output). |
SUMMARY | OS | Arch | BUILD | CHECK | BUILD BIN | |||||||||||
lamb1 | Linux (SUSE 10.1) | x86_64 |
|
| ||||||||||||
wellington | Linux (SUSE 9.2) | i686 |
|
| ||||||||||||
churchill | Solaris 2.9 | sparc |
|
| ||||||||||||
lemming | Windows Server 2003 (32-bit) | x64 |
|
|
| |||||||||||
Package 1/238 | Hostname | OS | Arch | BUILD | CHECK | BUILD BIN | ||||||||||
ABarray1.5.1Yongming Andrew SunLast Changed Date: 2007-05-03 11:47:04 -0700 Last Changed Rev: 24491 | lamb1 | Linux (SUSE 10.1) | x86_64 | OK | OK | |||||||||||
wellington | Linux (SUSE 9.2) | i686 | OK | OK | ||||||||||||
churchill | Solaris 2.9 | sparc | OK | OK | ||||||||||||
lemming | Windows Server 2003 (32-bit) | x64 | OK | OK | skipped | |||||||||||
Package 2/238 | Hostname | OS | Arch | BUILD | CHECK | BUILD BIN | ||||||||||
aCGH1.11.0Jane FridlyandLast Changed Date: 2007-05-11 21:56:41 -0700 Last Changed Rev: 24616 | lamb1 | Linux (SUSE 10.1) | x86_64 | OK | WARNINGS | |||||||||||
wellington | Linux (SUSE 9.2) | i686 | OK | WARNINGS | ||||||||||||
churchill | Solaris 2.9 | sparc | OK | WARNINGS | ||||||||||||
lemming | Windows Server 2003 (32-bit) | x64 | OK | WARNINGS | skipped | |||||||||||
Package 3/238 | Hostname | OS | Arch | BUILD | CHECK | BUILD BIN | ||||||||||
ACME1.3.0Sean DavisLast Changed Date: 2007-04-24 11:31:42 -0700 Last Changed Rev: 24217 | lamb1 | Linux (SUSE 10.1) | x86_64 | OK | OK | |||||||||||
wellington | Linux (SUSE 9.2) | i686 | OK | OK | ||||||||||||
churchill | Solaris 2.9 | sparc | OK | OK | ||||||||||||
lemming | Windows Server 2003 (32-bit) | x64 | OK | OK | skipped | |||||||||||
Package 4/238 | Hostname | OS | Arch | BUILD | CHECK | BUILD BIN | ||||||||||
adSplit1.7.0Claudio LottazLast Changed Date: 2007-05-11 21:56:41 -0700 Last Changed Rev: 24616 | lamb1 | Linux (SUSE 10.1) | x86_64 | OK | OK | |||||||||||
wellington | Linux (SUSE 9.2) | i686 | OK | OK | ||||||||||||
churchill | Solaris 2.9 | sparc | OK | OK | ||||||||||||
lemming | Windows Server 2003 (32-bit) | x64 | OK | OK | skipped | |||||||||||
Package 5/238 | Hostname | OS | Arch | BUILD | CHECK | BUILD BIN | ||||||||||
affxparser1.9.1Kasper Daniel HansenLast Changed Date: 2007-06-10 10:22:32 -0700 Last Changed Rev: 25301 | lamb1 | Linux (SUSE 10.1) | x86_64 | OK | OK | |||||||||||
wellington | Linux (SUSE 9.2) | i686 | OK | OK | ||||||||||||
churchill | Solaris 2.9 | sparc | OK | OK | ||||||||||||
lemming | Windows Server 2003 (32-bit) | x64 | OK | OK | skipped | |||||||||||
Package 6/238 | Hostname | OS | Arch | BUILD | CHECK | BUILD BIN | ||||||||||
affy1.15.7Rafael A. IrizarryLast Changed Date: 2007-06-10 10:22:32 -0700 Last Changed Rev: 25301 | lamb1 | Linux (SUSE 10.1) | x86_64 | OK | OK | |||||||||||
wellington | Linux (SUSE 9.2) | i686 | OK | OK | ||||||||||||
churchill | Solaris 2.9 | sparc | OK | OK | ||||||||||||
lemming | Windows Server 2003 (32-bit) | x64 | OK | OK | skipped | |||||||||||
Package 7/238 | Hostname | OS | Arch | BUILD | CHECK | BUILD BIN | ||||||||||
affycomp1.13.0Rafael A. IrizarryLast Changed Date: 2007-04-24 11:31:42 -0700 Last Changed Rev: 24217 | lamb1 | Linux (SUSE 10.1) | x86_64 | OK | OK | |||||||||||
wellington | Linux (SUSE 9.2) | i686 | OK | OK | ||||||||||||
churchill | Solaris 2.9 | sparc | OK | OK | ||||||||||||
lemming | Windows Server 2003 (32-bit) | x64 | OK | OK | skipped | |||||||||||
Package 8/238 | Hostname | OS | Arch | BUILD | CHECK | BUILD BIN | ||||||||||
affycoretools1.9.1James W. MacDonaldLast Changed Date: 2007-05-16 13:30:28 -0700 Last Changed Rev: 24723 | lamb1 | Linux (SUSE 10.1) | x86_64 | ERROR | skipped | |||||||||||
wellington | Linux (SUSE 9.2) | i686 | ERROR | skipped | ||||||||||||
churchill | Solaris 2.9 | sparc | ERROR | skipped | ||||||||||||
lemming | Windows Server 2003 (32-bit) | x64 | OK | WARNINGS | skipped | |||||||||||
Package 9/238 | Hostname | OS | Arch | BUILD | CHECK | BUILD BIN | ||||||||||
affyio1.5.4Benjamin Milo BolstadLast Changed Date: 2007-06-10 10:22:32 -0700 Last Changed Rev: 25301 | lamb1 | Linux (SUSE 10.1) | x86_64 | OK | OK | |||||||||||
wellington | Linux (SUSE 9.2) | i686 | OK | OK | ||||||||||||
churchill | Solaris 2.9 | sparc | OK | OK | ||||||||||||
lemming | Windows Server 2003 (32-bit) | x64 | OK | OK | skipped | |||||||||||
Package 10/238 | Hostname | OS | Arch | BUILD | CHECK | BUILD BIN | ||||||||||
affylmGUI1.11.2Keith SatterleyLast Changed Date: 2007-06-01 02:14:14 -0700 Last Changed Rev: 25095 | lamb1 | Linux (SUSE 10.1) | x86_64 | OK | OK | |||||||||||
wellington | Linux (SUSE 9.2) | i686 | OK | OK | ||||||||||||
churchill | Solaris 2.9 | sparc | OK | OK | ||||||||||||
lemming | Windows Server 2003 (32-bit) | x64 | OK | OK | skipped | |||||||||||
Package 11/238 | Hostname | OS | Arch | BUILD | CHECK | BUILD BIN | ||||||||||
affypdnn1.11.0Laurent GautierLast Changed Date: 2007-04-24 11:31:42 -0700 Last Changed Rev: 24217 | lamb1 | Linux (SUSE 10.1) | x86_64 | OK | OK | |||||||||||
wellington | Linux (SUSE 9.2) | i686 | OK | OK | ||||||||||||
churchill | Solaris 2.9 | sparc | OK | OK | ||||||||||||
lemming | Windows Server 2003 (32-bit) | x64 | OK | OK | skipped | |||||||||||
Package 12/238 | Hostname | OS | Arch | BUILD | CHECK | BUILD BIN | ||||||||||
affyPLM1.13.5Ben BolstadLast Changed Date: 2007-06-05 12:44:17 -0700 Last Changed Rev: 25196 | lamb1 | Linux (SUSE 10.1) | x86_64 | OK | WARNINGS | |||||||||||
wellington | Linux (SUSE 9.2) | i686 | OK | WARNINGS | ||||||||||||
churchill | Solaris 2.9 | sparc | OK | WARNINGS | ||||||||||||
lemming | Windows Server 2003 (32-bit) | x64 | ERROR | skipped | skipped | |||||||||||
Package 13/238 | Hostname | OS | Arch | BUILD | CHECK | BUILD BIN | ||||||||||
affyQCReport1.15.2Craig ParmanLast Changed Date: 2007-05-18 08:50:21 -0700 Last Changed Rev: 24803 | lamb1 | Linux (SUSE 10.1) | x86_64 | OK | OK | |||||||||||
wellington | Linux (SUSE 9.2) | i686 | OK | OK | ||||||||||||
churchill | Solaris 2.9 | sparc | OK | OK | ||||||||||||
lemming | Windows Server 2003 (32-bit) | x64 | ERROR | skipped | skipped | |||||||||||
Package 14/238 | Hostname | OS | Arch | BUILD | CHECK | BUILD BIN | ||||||||||
altcdfenvs1.11.0Laurent GautierLast Changed Date: 2007-05-11 21:56:41 -0700 Last Changed Rev: 24616 | lamb1 | Linux (SUSE 10.1) | x86_64 | OK | OK | |||||||||||
wellington | Linux (SUSE 9.2) | i686 | OK | OK | ||||||||||||
churchill | Solaris 2.9 | sparc | ERROR | skipped | ||||||||||||
lemming | Windows Server 2003 (32-bit) | x64 | OK | OK | skipped | |||||||||||
Package 15/238 | Hostname | OS | Arch | BUILD | CHECK | BUILD BIN | ||||||||||
annaffy1.9.0Colin A. SmithLast Changed Date: 2007-06-08 20:05:20 -0700 Last Changed Rev: 25291 | lamb1 | Linux (SUSE 10.1) | x86_64 | ERROR | skipped | |||||||||||
wellington | Linux (SUSE 9.2) | i686 | ERROR | skipped | ||||||||||||
churchill | Solaris 2.9 | sparc | ERROR | skipped | ||||||||||||
lemming | Windows Server 2003 (32-bit) | x64 | ERROR | skipped | skipped | |||||||||||
Package 16/238 | Hostname | OS | Arch | BUILD | CHECK | BUILD BIN | ||||||||||
AnnBuilder1.15.5J. ZhangLast Changed Date: 2007-05-31 09:06:21 -0700 Last Changed Rev: 25079 | lamb1 | Linux (SUSE 10.1) | x86_64 | OK | ERROR | |||||||||||
wellington | Linux (SUSE 9.2) | i686 | OK | ERROR | ||||||||||||
churchill | Solaris 2.9 | sparc | ERROR | skipped | ||||||||||||
lemming | Windows Server 2003 (32-bit) | x64 | OK | OK | skipped | |||||||||||
Package 17/238 | Hostname | OS | Arch | BUILD | CHECK | BUILD BIN | ||||||||||
annotate1.15.2Biocore TeamLast Changed Date: 2007-06-09 10:46:20 -0700 Last Changed Rev: 25295 | lamb1 | Linux (SUSE 10.1) | x86_64 | OK | OK | |||||||||||
wellington | Linux (SUSE 9.2) | i686 | OK | OK | ||||||||||||
churchill | Solaris 2.9 | sparc | ERROR | skipped | ||||||||||||
lemming | Windows Server 2003 (32-bit) | x64 | OK | OK | skipped | |||||||||||
Package 18/238 | Hostname | OS | Arch | BUILD | CHECK | BUILD BIN | ||||||||||
AnnotationDbi0.0.78Biocore TeamLast Changed Date: 2007-06-08 19:33:06 -0700 Last Changed Rev: 25290 | lamb1 | Linux (SUSE 10.1) | x86_64 | OK | WARNINGS | |||||||||||
wellington | Linux (SUSE 9.2) | i686 | OK | WARNINGS | ||||||||||||
churchill | Solaris 2.9 | sparc | OK | WARNINGS | ||||||||||||
lemming | Windows Server 2003 (32-bit) | x64 | OK | WARNINGS | skipped | |||||||||||
Package 19/238 | Hostname | OS | Arch | BUILD | CHECK | BUILD BIN | ||||||||||
annotationTools1.5.0Alexandre KuhnLast Changed Date: 2007-04-24 11:31:42 -0700 Last Changed Rev: 24217 | lamb1 | Linux (SUSE 10.1) | x86_64 | OK | OK | |||||||||||
wellington | Linux (SUSE 9.2) | i686 | OK | OK | ||||||||||||
churchill | Solaris 2.9 | sparc | OK | OK | ||||||||||||
lemming | Windows Server 2003 (32-bit) | x64 | OK | OK | skipped | |||||||||||
Package 20/238 | Hostname | OS | Arch | BUILD | CHECK | BUILD BIN | ||||||||||
apComplex2.3.0Denise ScholtensLast Changed Date: 2007-04-24 11:31:42 -0700 Last Changed Rev: 24217 | lamb1 | Linux (SUSE 10.1) | x86_64 | OK | OK | |||||||||||
wellington | Linux (SUSE 9.2) | i686 | OK | OK | ||||||||||||
churchill | Solaris 2.9 | sparc | OK | OK | ||||||||||||
lemming | Windows Server 2003 (32-bit) | x64 | OK | OK | skipped | |||||||||||
Package 21/238 | Hostname | OS | Arch | BUILD | CHECK | BUILD BIN | ||||||||||
arji0.3.16Vince CareyLast Changed Date: 2007-06-10 10:22:32 -0700 Last Changed Rev: 25301 | lamb1 | Linux (SUSE 10.1) | x86_64 | OK | WARNINGS | |||||||||||
wellington | Linux (SUSE 9.2) | i686 | OK | WARNINGS | ||||||||||||
churchill | Solaris 2.9 | sparc | ERROR | skipped | ||||||||||||
lemming | Windows Server 2003 (32-bit) | x64 | ERROR | skipped | skipped | |||||||||||
Package 22/238 | Hostname | OS | Arch | BUILD | CHECK | BUILD BIN | ||||||||||
aroma.light1.5.0Henrik BengtssonLast Changed Date: 2007-04-24 11:31:42 -0700 Last Changed Rev: 24217 | lamb1 | Linux (SUSE 10.1) | x86_64 | OK | OK | |||||||||||
wellington | Linux (SUSE 9.2) | i686 | OK | OK | ||||||||||||
churchill | Solaris 2.9 | sparc | OK | OK | ||||||||||||
lemming | Windows Server 2003 (32-bit) | x64 | OK | OK | skipped | |||||||||||
Package 23/238 | Hostname | OS | Arch | BUILD | CHECK | BUILD BIN | ||||||||||
arrayMagic1.15.0Andreas BunessLast Changed Date: 2007-05-11 21:56:41 -0700 Last Changed Rev: 24616 | lamb1 | Linux (SUSE 10.1) | x86_64 | OK | OK | |||||||||||
wellington | Linux (SUSE 9.2) | i686 | OK | OK | ||||||||||||
churchill | Solaris 2.9 | sparc | OK | OK | ||||||||||||
lemming | Windows Server 2003 (32-bit) | x64 | OK | OK | skipped | |||||||||||
Package 24/238 | Hostname | OS | Arch | BUILD | CHECK | BUILD BIN | ||||||||||
arrayQCplot2.5.0Eun-kyung LeeLast Changed Date: 2007-04-24 11:31:42 -0700 Last Changed Rev: 24217 | lamb1 | Linux (SUSE 10.1) | x86_64 | OK | ERROR | |||||||||||
wellington | Linux (SUSE 9.2) | i686 | OK | ERROR | ||||||||||||
churchill | Solaris 2.9 | sparc | OK | ERROR | ||||||||||||
lemming | Windows Server 2003 (32-bit) | x64 | N O T S U P P O R T E D | |||||||||||||
Package 25/238 | Hostname | OS | Arch | BUILD | CHECK | BUILD BIN | ||||||||||
arrayQuality1.13.0Agnes PaquetLast Changed Date: 2007-04-24 11:31:42 -0700 Last Changed Rev: 24217 | lamb1 | Linux (SUSE 10.1) | x86_64 | OK | OK | |||||||||||
wellington | Linux (SUSE 9.2) | i686 | OK | OK | ||||||||||||
churchill | Solaris 2.9 | sparc | OK | OK | ||||||||||||
lemming | Windows Server 2003 (32-bit) | x64 | OK | OK | skipped | |||||||||||
Package 26/238 | Hostname | OS | Arch | BUILD | CHECK | BUILD BIN | ||||||||||
beadarray1.5.3Mark DunningLast Changed Date: 2007-05-31 05:36:45 -0700 Last Changed Rev: 25077 | lamb1 | Linux (SUSE 10.1) | x86_64 | OK | OK | |||||||||||
wellington | Linux (SUSE 9.2) | i686 | OK | OK | ||||||||||||
churchill | Solaris 2.9 | sparc | OK | OK | ||||||||||||
lemming | Windows Server 2003 (32-bit) | x64 | OK | OK | skipped | |||||||||||
Package 27/238 | Hostname | OS | Arch | BUILD | CHECK | BUILD BIN | ||||||||||
beadarraySNP1.3.6Jan OostingLast Changed Date: 2007-06-03 15:12:37 -0700 Last Changed Rev: 25138 | lamb1 | Linux (SUSE 10.1) | x86_64 | OK | WARNINGS | |||||||||||
wellington | Linux (SUSE 9.2) | i686 | OK | WARNINGS | ||||||||||||
churchill | Solaris 2.9 | sparc | OK | WARNINGS | ||||||||||||
lemming | Windows Server 2003 (32-bit) | x64 | OK | WARNINGS | skipped | |||||||||||
Package 28/238 | Hostname | OS | Arch | BUILD | CHECK | BUILD BIN | ||||||||||
BeadExplorer1.3.0Gareth ElvidgeLast Changed Date: 2007-04-24 11:31:42 -0700 Last Changed Rev: 24217 | lamb1 | Linux (SUSE 10.1) | x86_64 | OK | OK | |||||||||||
wellington | Linux (SUSE 9.2) | i686 | OK | OK | ||||||||||||
churchill | Solaris 2.9 | sparc | OK | OK | ||||||||||||
lemming | Windows Server 2003 (32-bit) | x64 | OK | OK | skipped | |||||||||||
Package 29/238 | Hostname | OS | Arch | BUILD | CHECK | BUILD BIN | ||||||||||
bgx1.1.4Ernest TurroLast Changed Date: 2007-06-09 10:20:14 -0700 Last Changed Rev: 25293 | lamb1 | Linux (SUSE 10.1) | x86_64 | OK | OK | |||||||||||
wellington | Linux (SUSE 9.2) | i686 | OK | OK | ||||||||||||
churchill | Solaris 2.9 | sparc | N O T S U P P O R T E D | |||||||||||||
lemming | Windows Server 2003 (32-bit) | x64 | OK | TIMEOUT | skipped | |||||||||||
Package 30/238 | Hostname | OS | Arch | BUILD | CHECK | BUILD BIN | ||||||||||
bim1.9.0Brian S. YandellLast Changed Date: 2007-04-24 11:31:42 -0700 Last Changed Rev: 24217 | lamb1 | Linux (SUSE 10.1) | x86_64 | ERROR | skipped | |||||||||||
wellington | Linux (SUSE 9.2) | i686 | ERROR | skipped | ||||||||||||
churchill | Solaris 2.9 | sparc | ERROR | skipped | ||||||||||||
lemming | Windows Server 2003 (32-bit) | x64 | ERROR | skipped | skipped | |||||||||||
Package 31/238 | Hostname | OS | Arch | BUILD | CHECK | BUILD BIN | ||||||||||
Biobase1.15.14Biocore TeamLast Changed Date: 2007-06-10 10:22:32 -0700 Last Changed Rev: 25301 | lamb1 | Linux (SUSE 10.1) | x86_64 | OK | OK | |||||||||||
wellington | Linux (SUSE 9.2) | i686 | OK | OK | ||||||||||||
churchill | Solaris 2.9 | sparc | OK | OK | ||||||||||||
lemming | Windows Server 2003 (32-bit) | x64 | OK | OK | skipped | |||||||||||
Package 32/238 | Hostname | OS | Arch | BUILD | CHECK | BUILD BIN | ||||||||||
biocGraph0.0.2Li LongLast Changed Date: 2007-05-11 21:56:41 -0700 Last Changed Rev: 24616 | lamb1 | Linux (SUSE 10.1) | x86_64 | OK | OK | |||||||||||
wellington | Linux (SUSE 9.2) | i686 | OK | OK | ||||||||||||
churchill | Solaris 2.9 | sparc | ERROR | skipped | ||||||||||||
lemming | Windows Server 2003 (32-bit) | x64 | OK | OK | skipped | |||||||||||
Package 33/238 | Hostname | OS | Arch | BUILD | CHECK | BUILD BIN | ||||||||||
biocViews1.5.0Seth FalconLast Changed Date: 2007-04-24 11:31:42 -0700 Last Changed Rev: 24217 | lamb1 | Linux (SUSE 10.1) | x86_64 | OK | OK | |||||||||||
wellington | Linux (SUSE 9.2) | i686 | OK | OK | ||||||||||||
churchill | Solaris 2.9 | sparc | ERROR | skipped | ||||||||||||
lemming | Windows Server 2003 (32-bit) | x64 | OK | OK | skipped | |||||||||||
Package 34/238 | Hostname | OS | Arch | BUILD | CHECK | BUILD BIN | ||||||||||
bioDist1.9.1Biocore TeamLast Changed Date: 2007-05-15 20:36:38 -0700 Last Changed Rev: 24693 | lamb1 | Linux (SUSE 10.1) | x86_64 | OK | OK | |||||||||||
wellington | Linux (SUSE 9.2) | i686 | OK | OK | ||||||||||||
churchill | Solaris 2.9 | sparc | OK | OK | ||||||||||||
lemming | Windows Server 2003 (32-bit) | x64 | OK | OK | skipped | |||||||||||
Package 35/238 | Hostname | OS | Arch | BUILD | CHECK | BUILD BIN | ||||||||||
biomaRt1.11.3Steffen DurinckLast Changed Date: 2007-05-11 21:56:41 -0700 Last Changed Rev: 24616 | lamb1 | Linux (SUSE 10.1) | x86_64 | ERROR | skipped | |||||||||||
wellington | Linux (SUSE 9.2) | i686 | ERROR | skipped | ||||||||||||
churchill | Solaris 2.9 | sparc | ERROR | skipped | ||||||||||||
lemming | Windows Server 2003 (32-bit) | x64 | OK | WARNINGS | skipped | |||||||||||
Package 36/238 | Hostname | OS | Arch | BUILD | CHECK | BUILD BIN | ||||||||||
BioMVCClass1.5.0Elizabeth WhalenLast Changed Date: 2007-04-24 11:31:42 -0700 Last Changed Rev: 24217 | lamb1 | Linux (SUSE 10.1) | x86_64 | OK | OK | |||||||||||
wellington | Linux (SUSE 9.2) | i686 | OK | OK | ||||||||||||
churchill | Solaris 2.9 | sparc | OK | OK | ||||||||||||
lemming | Windows Server 2003 (32-bit) | x64 | OK | OK | skipped | |||||||||||
Package 37/238 | Hostname | OS | Arch | BUILD | CHECK | BUILD BIN | ||||||||||
Biostrings2.5.9H. PagesLast Changed Date: 2007-06-06 03:57:52 -0700 Last Changed Rev: 25216 | lamb1 | Linux (SUSE 10.1) | x86_64 | OK | WARNINGS | |||||||||||
wellington | Linux (SUSE 9.2) | i686 | OK | WARNINGS | ||||||||||||
churchill | Solaris 2.9 | sparc | OK | WARNINGS | ||||||||||||
lemming | Windows Server 2003 (32-bit) | x64 | OK | WARNINGS | skipped | |||||||||||
Package 38/238 | Hostname | OS | Arch | BUILD | CHECK | BUILD BIN | ||||||||||
bridge1.9.0Raphael GottardoLast Changed Date: 2007-04-24 11:31:42 -0700 Last Changed Rev: 24217 | lamb1 | Linux (SUSE 10.1) | x86_64 | OK | OK | |||||||||||
wellington | Linux (SUSE 9.2) | i686 | OK | OK | ||||||||||||
churchill | Solaris 2.9 | sparc | OK | OK | ||||||||||||
lemming | Windows Server 2003 (32-bit) | x64 | OK | OK | skipped | |||||||||||
Package 39/238 | Hostname | OS | Arch | BUILD | CHECK | BUILD BIN | ||||||||||
BSgenome1.5.0H. PagesLast Changed Date: 2007-05-11 21:56:41 -0700 Last Changed Rev: 24616 | lamb1 | Linux (SUSE 10.1) | x86_64 | OK | OK | |||||||||||
wellington | Linux (SUSE 9.2) | i686 | OK | OK | ||||||||||||
churchill | Solaris 2.9 | sparc | OK | OK | ||||||||||||
lemming | Windows Server 2003 (32-bit) | x64 | OK | OK | skipped | |||||||||||
Package 40/238 | Hostname | OS | Arch | BUILD | CHECK | BUILD BIN | ||||||||||
BufferedMatrix1.1.1Benjamin Milo BolstadLast Changed Date: 2007-06-10 10:22:32 -0700 Last Changed Rev: 25301 | lamb1 | Linux (SUSE 10.1) | x86_64 | OK | OK | |||||||||||
wellington | Linux (SUSE 9.2) | i686 | OK | OK | ||||||||||||
churchill | Solaris 2.9 | sparc | OK | OK | ||||||||||||
lemming | Windows Server 2003 (32-bit) | x64 | OK | OK | skipped | |||||||||||
Package 41/238 | Hostname | OS | Arch | BUILD | CHECK | BUILD BIN | ||||||||||
BufferedMatrixMethods1.1.2B. M. BolstadLast Changed Date: 2007-06-10 10:22:32 -0700 Last Changed Rev: 25301 | lamb1 | Linux (SUSE 10.1) | x86_64 | OK | OK | |||||||||||
wellington | Linux (SUSE 9.2) | i686 | OK | OK | ||||||||||||
churchill | Solaris 2.9 | sparc | OK | OK | ||||||||||||
lemming | Windows Server 2003 (32-bit) | x64 | OK | OK | skipped | |||||||||||
Package 42/238 | Hostname | OS | Arch | BUILD | CHECK | BUILD BIN | ||||||||||
CALIB1.3.1Hui ZhaoLast Changed Date: 2007-06-10 10:22:32 -0700 Last Changed Rev: 25301 | lamb1 | Linux (SUSE 10.1) | x86_64 | OK | OK | |||||||||||
wellington | Linux (SUSE 9.2) | i686 | OK | OK | ||||||||||||
churchill | Solaris 2.9 | sparc | OK | OK | ||||||||||||
lemming | Windows Server 2003 (32-bit) | x64 | OK | OK | skipped | |||||||||||
Package 43/238 | Hostname | OS | Arch | BUILD | CHECK | BUILD BIN | ||||||||||
Category2.3.13S. FalconLast Changed Date: 2007-06-09 10:46:21 -0700 Last Changed Rev: 25296 | lamb1 | Linux (SUSE 10.1) | x86_64 | OK | OK | |||||||||||
wellington | Linux (SUSE 9.2) | i686 | OK | OK | ||||||||||||
churchill | Solaris 2.9 | sparc | OK | OK | ||||||||||||
lemming | Windows Server 2003 (32-bit) | x64 | OK | OK | skipped | |||||||||||
Package 44/238 | Hostname | OS | Arch | BUILD | CHECK | BUILD BIN | ||||||||||
cellHTS1.7.4Ligia BrasLast Changed Date: 2007-06-01 07:36:32 -0700 Last Changed Rev: 25100 | lamb1 | Linux (SUSE 10.1) | x86_64 | OK | OK | |||||||||||
wellington | Linux (SUSE 9.2) | i686 | OK | OK | ||||||||||||
churchill | Solaris 2.9 | sparc | OK | OK | ||||||||||||
lemming | Windows Server 2003 (32-bit) | x64 | OK | OK | skipped | |||||||||||
Package 45/238 | Hostname | OS | Arch | BUILD | CHECK | BUILD BIN | ||||||||||
cellHTS22.0.0Ligia BrasLast Changed Date: 2007-06-05 08:50:19 -0700 Last Changed Rev: 25184 | lamb1 | Linux (SUSE 10.1) | x86_64 | OK | OK | |||||||||||
wellington | Linux (SUSE 9.2) | i686 | OK | OK | ||||||||||||
churchill | Solaris 2.9 | sparc | OK | OK | ||||||||||||
lemming | Windows Server 2003 (32-bit) | x64 | OK | OK | skipped | |||||||||||
Package 46/238 | Hostname | OS | Arch | BUILD | CHECK | BUILD BIN | ||||||||||
cghMCR1.7.0J. ZhangLast Changed Date: 2007-05-11 21:56:41 -0700 Last Changed Rev: 24616 | lamb1 | Linux (SUSE 10.1) | x86_64 | OK | OK | |||||||||||
wellington | Linux (SUSE 9.2) | i686 | OK | OK | ||||||||||||
churchill | Solaris 2.9 | sparc | OK | OK | ||||||||||||
lemming | Windows Server 2003 (32-bit) | x64 | OK | OK | skipped | |||||||||||
Package 47/238 | Hostname | OS | Arch | BUILD | CHECK | BUILD BIN | ||||||||||
ChromoViz1.9.0Jihoon KimLast Changed Date: 2007-04-24 11:31:42 -0700 Last Changed Rev: 24217 | lamb1 | Linux (SUSE 10.1) | x86_64 | OK | WARNINGS | |||||||||||
wellington | Linux (SUSE 9.2) | i686 | OK | WARNINGS | ||||||||||||
churchill | Solaris 2.9 | sparc | OK | ERROR | ||||||||||||
lemming | Windows Server 2003 (32-bit) | x64 | OK | WARNINGS | skipped | |||||||||||
Package 48/238 | Hostname | OS | Arch | BUILD | CHECK | BUILD BIN | ||||||||||
clusterStab1.9.0James W. MacDonaldLast Changed Date: 2007-05-16 13:40:25 -0700 Last Changed Rev: 24725 | lamb1 | Linux (SUSE 10.1) | x86_64 | OK | OK | |||||||||||
wellington | Linux (SUSE 9.2) | i686 | OK | OK | ||||||||||||
churchill | Solaris 2.9 | sparc | OK | OK | ||||||||||||
lemming | Windows Server 2003 (32-bit) | x64 | OK | OK | skipped | |||||||||||
Package 49/238 | Hostname | OS | Arch | BUILD | CHECK | BUILD BIN | ||||||||||
CoCiteStats1.9.3R. GentlemanLast Changed Date: 2007-06-07 09:48:37 -0700 Last Changed Rev: 25252 | lamb1 | Linux (SUSE 10.1) | x86_64 | OK | OK | |||||||||||
wellington | Linux (SUSE 9.2) | i686 | OK | OK | ||||||||||||
churchill | Solaris 2.9 | sparc | OK | OK | ||||||||||||
lemming | Windows Server 2003 (32-bit) | x64 | OK | OK | skipped | |||||||||||
Package 50/238 | Hostname | OS | Arch | BUILD | CHECK | BUILD BIN | ||||||||||
codelink1.5.9Diego DiezLast Changed Date: 2007-06-08 03:35:09 -0700 Last Changed Rev: 25275 | lamb1 | Linux (SUSE 10.1) | x86_64 | OK | OK | |||||||||||
wellington | Linux (SUSE 9.2) | i686 | OK | OK | ||||||||||||
churchill | Solaris 2.9 | sparc | OK | OK | ||||||||||||
lemming | Windows Server 2003 (32-bit) | x64 | OK | OK | skipped | |||||||||||
Package 51/238 | Hostname | OS | Arch | BUILD | CHECK | BUILD BIN | ||||||||||
convert1.11.0Yee Hwa (Jean) YangLast Changed Date: 2007-04-24 11:31:42 -0700 Last Changed Rev: 24217 | lamb1 | Linux (SUSE 10.1) | x86_64 | OK | OK | |||||||||||
wellington | Linux (SUSE 9.2) | i686 | OK | OK | ||||||||||||
churchill | Solaris 2.9 | sparc | OK | OK | ||||||||||||
lemming | Windows Server 2003 (32-bit) | x64 | OK | OK | skipped | |||||||||||
Package 52/238 | Hostname | OS | Arch | BUILD | CHECK | BUILD BIN | ||||||||||
copa1.5.0James W. MacDonaldLast Changed Date: 2007-05-16 13:31:25 -0700 Last Changed Rev: 24724 | lamb1 | Linux (SUSE 10.1) | x86_64 | OK | OK | |||||||||||
wellington | Linux (SUSE 9.2) | i686 | OK | OK | ||||||||||||
churchill | Solaris 2.9 | sparc | OK | OK | ||||||||||||
lemming | Windows Server 2003 (32-bit) | x64 | OK | OK | skipped | |||||||||||
Package 53/238 | Hostname | OS | Arch | BUILD | CHECK | BUILD BIN | ||||||||||
CORREP1.3.0Dongxiao ZhuLast Changed Date: 2007-04-24 11:31:42 -0700 Last Changed Rev: 24217 | lamb1 | Linux (SUSE 10.1) | x86_64 | OK | OK | |||||||||||
wellington | Linux (SUSE 9.2) | i686 | OK | OK | ||||||||||||
churchill | Solaris 2.9 | sparc | OK | OK | ||||||||||||
lemming | Windows Server 2003 (32-bit) | x64 | OK | OK | skipped | |||||||||||
Package 54/238 | Hostname | OS | Arch | BUILD | CHECK | BUILD BIN | ||||||||||
cosmo1.3.0Oliver BembomLast Changed Date: 2007-04-24 11:31:42 -0700 Last Changed Rev: 24217 | lamb1 | Linux (SUSE 10.1) | x86_64 | OK | OK | |||||||||||
wellington | Linux (SUSE 9.2) | i686 | OK | OK | ||||||||||||
churchill | Solaris 2.9 | sparc | OK | OK | ||||||||||||
lemming | Windows Server 2003 (32-bit) | x64 | OK | OK | skipped | |||||||||||
Package 55/238 | Hostname | OS | Arch | BUILD | CHECK | BUILD BIN | ||||||||||
cosmoGUI1.3.0Oliver BembomLast Changed Date: 2007-04-24 11:31:42 -0700 Last Changed Rev: 24217 | lamb1 | Linux (SUSE 10.1) | x86_64 | OK | OK | |||||||||||
wellington | Linux (SUSE 9.2) | i686 | OK | OK | ||||||||||||
churchill | Solaris 2.9 | sparc | OK | OK | ||||||||||||
lemming | Windows Server 2003 (32-bit) | x64 | OK | OK | skipped | |||||||||||
Package 56/238 | Hostname | OS | Arch | BUILD | CHECK | BUILD BIN | ||||||||||
ctc1.11.0Antoine LucasLast Changed Date: 2007-04-24 11:31:42 -0700 Last Changed Rev: 24217 | lamb1 | Linux (SUSE 10.1) | x86_64 | OK | OK | |||||||||||
wellington | Linux (SUSE 9.2) | i686 | OK | OK | ||||||||||||
churchill | Solaris 2.9 | sparc | OK | OK | ||||||||||||
lemming | Windows Server 2003 (32-bit) | x64 | OK | OK | skipped | |||||||||||
Package 57/238 | Hostname | OS | Arch | BUILD | CHECK | BUILD BIN | ||||||||||
daMA1.9.0Jobst LandgrebeLast Changed Date: 2007-04-24 11:31:42 -0700 Last Changed Rev: 24217 | lamb1 | Linux (SUSE 10.1) | x86_64 | OK | OK | |||||||||||
wellington | Linux (SUSE 9.2) | i686 | OK | OK | ||||||||||||
churchill | Solaris 2.9 | sparc | OK | OK | ||||||||||||
lemming | Windows Server 2003 (32-bit) | x64 | OK | OK | skipped | |||||||||||
Package 58/238 | Hostname | OS | Arch | BUILD | CHECK | BUILD BIN | ||||||||||
DEDS1.9.0Yuanyuan XiaoLast Changed Date: 2007-04-24 11:31:42 -0700 Last Changed Rev: 24217 | lamb1 | Linux (SUSE 10.1) | x86_64 | OK | OK | |||||||||||
wellington | Linux (SUSE 9.2) | i686 | OK | OK | ||||||||||||
churchill | Solaris 2.9 | sparc | OK | OK | ||||||||||||
lemming | Windows Server 2003 (32-bit) | x64 | OK | OK | skipped | |||||||||||
Package 59/238 | Hostname | OS | Arch | BUILD | CHECK | BUILD BIN | ||||||||||
diffGeneAnalysis1.19.0Choudary JagarlamudiLast Changed Date: 2007-04-24 11:31:42 -0700 Last Changed Rev: 24217 | lamb1 | Linux (SUSE 10.1) | x86_64 | OK | OK | |||||||||||
wellington | Linux (SUSE 9.2) | i686 | OK | OK | ||||||||||||
churchill | Solaris 2.9 | sparc | OK | OK | ||||||||||||
lemming | Windows Server 2003 (32-bit) | x64 | OK | OK | skipped | |||||||||||
Package 60/238 | Hostname | OS | Arch | BUILD | CHECK | BUILD BIN | ||||||||||
DNAcopy1.11.0E. S. VenkatramanLast Changed Date: 2007-04-24 11:31:42 -0700 Last Changed Rev: 24217 | lamb1 | Linux (SUSE 10.1) | x86_64 | OK | OK | |||||||||||
wellington | Linux (SUSE 9.2) | i686 | OK | OK | ||||||||||||
churchill | Solaris 2.9 | sparc | OK | OK | ||||||||||||
lemming | Windows Server 2003 (32-bit) | x64 | OK | OK | skipped | |||||||||||
Package 61/238 | Hostname | OS | Arch | BUILD | CHECK | BUILD BIN | ||||||||||
DynDoc1.15.0Biocore TeamLast Changed Date: 2007-05-11 21:56:41 -0700 Last Changed Rev: 24616 | lamb1 | Linux (SUSE 10.1) | x86_64 | OK | OK | |||||||||||
wellington | Linux (SUSE 9.2) | i686 | OK | OK | ||||||||||||
churchill | Solaris 2.9 | sparc | OK | OK | ||||||||||||
lemming | Windows Server 2003 (32-bit) | x64 | OK | OK | skipped | |||||||||||
Package 62/238 | Hostname | OS | Arch | BUILD | CHECK | BUILD BIN | ||||||||||
EBarrays1.9.2Deepayan SarkarLast Changed Date: 2007-05-23 10:51:11 -0700 Last Changed Rev: 24935 | lamb1 | Linux (SUSE 10.1) | x86_64 | OK | OK | |||||||||||
wellington | Linux (SUSE 9.2) | i686 | OK | OK | ||||||||||||
churchill | Solaris 2.9 | sparc | OK | OK | ||||||||||||
lemming | Windows Server 2003 (32-bit) | x64 | OK | OK | skipped | |||||||||||
Package 63/238 | Hostname | OS | Arch | BUILD | CHECK | BUILD BIN | ||||||||||
EBImage2.1.5Oleg SklyarLast Changed Date: 2007-06-10 10:22:32 -0700 Last Changed Rev: 25301 | lamb1 | Linux (SUSE 10.1) | x86_64 | OK | OK | |||||||||||
wellington | Linux (SUSE 9.2) | i686 | ERROR | skipped | ||||||||||||
churchill | Solaris 2.9 | sparc | OK | OK | ||||||||||||
lemming | Windows Server 2003 (32-bit) | x64 | N O T S U P P O R T E D | |||||||||||||
Package 64/238 | Hostname | OS | Arch | BUILD | CHECK | BUILD BIN | ||||||||||
ecolitk1.9.0LaurentLast Changed Date: 2007-04-24 11:31:42 -0700 Last Changed Rev: 24217 | lamb1 | Linux (SUSE 10.1) | x86_64 | OK | WARNINGS | |||||||||||
wellington | Linux (SUSE 9.2) | i686 | OK | WARNINGS | ||||||||||||
churchill | Solaris 2.9 | sparc | OK | WARNINGS | ||||||||||||
lemming | Windows Server 2003 (32-bit) | x64 | OK | WARNINGS | skipped | |||||||||||
Package 65/238 | Hostname | OS | Arch | BUILD | CHECK | BUILD BIN | ||||||||||
edd1.15.0Vince CareyLast Changed Date: 2007-05-11 21:56:41 -0700 Last Changed Rev: 24616 | lamb1 | Linux (SUSE 10.1) | x86_64 | OK | OK | |||||||||||
wellington | Linux (SUSE 9.2) | i686 | OK | OK | ||||||||||||
churchill | Solaris 2.9 | sparc | OK | OK | ||||||||||||
lemming | Windows Server 2003 (32-bit) | x64 | OK | OK | skipped | |||||||||||
Package 66/238 | Hostname | OS | Arch | BUILD | CHECK | BUILD BIN | ||||||||||
exonmap1.1.06Michal OkoniewskiLast Changed Date: 2007-05-25 03:36:45 -0700 Last Changed Rev: 24982 | lamb1 | Linux (SUSE 10.1) | x86_64 | OK | OK | |||||||||||
wellington | Linux (SUSE 9.2) | i686 | OK | ERROR | ||||||||||||
churchill | Solaris 2.9 | sparc | OK | ERROR | ||||||||||||
lemming | Windows Server 2003 (32-bit) | x64 | OK | ERROR | skipped | |||||||||||
Package 67/238 | Hostname | OS | Arch | BUILD | CHECK | BUILD BIN | ||||||||||
externalVector1.5.2Biocore TeamLast Changed Date: 2007-06-03 08:44:51 -0700 Last Changed Rev: 25133 | lamb1 | Linux (SUSE 10.1) | x86_64 | OK | ERROR | |||||||||||
wellington | Linux (SUSE 9.2) | i686 | OK | ERROR | ||||||||||||
churchill | Solaris 2.9 | sparc | OK | ERROR | ||||||||||||
lemming | Windows Server 2003 (32-bit) | x64 | OK | ERROR | skipped | |||||||||||
Package 68/238 | Hostname | OS | Arch | BUILD | CHECK | BUILD BIN | ||||||||||
factDesign1.11.0Denise ScholtensLast Changed Date: 2007-04-24 11:31:42 -0700 Last Changed Rev: 24217 | lamb1 | Linux (SUSE 10.1) | x86_64 | OK | OK | |||||||||||
wellington | Linux (SUSE 9.2) | i686 | OK | OK | ||||||||||||
churchill | Solaris 2.9 | sparc | OK | OK | ||||||||||||
lemming | Windows Server 2003 (32-bit) | x64 | OK | OK | skipped | |||||||||||
Package 69/238 | Hostname | OS | Arch | BUILD | CHECK | BUILD BIN | ||||||||||
fbat1.1.2Weiliang QiuLast Changed Date: 2007-06-10 10:30:03 -0700 Last Changed Rev: 25305 | lamb1 | Linux (SUSE 10.1) | x86_64 | ERROR | skipped | |||||||||||
wellington | Linux (SUSE 9.2) | i686 | ERROR | skipped | ||||||||||||
churchill | Solaris 2.9 | sparc | ERROR | skipped | ||||||||||||
lemming | Windows Server 2003 (32-bit) | x64 | ERROR | skipped | skipped | |||||||||||
Package 70/238 | Hostname | OS | Arch | BUILD | CHECK | BUILD BIN | ||||||||||
fdrame1.9.0Effi KenigsbergLast Changed Date: 2007-04-24 11:31:42 -0700 Last Changed Rev: 24217 | lamb1 | Linux (SUSE 10.1) | x86_64 | OK | OK | |||||||||||
wellington | Linux (SUSE 9.2) | i686 | OK | OK | ||||||||||||
churchill | Solaris 2.9 | sparc | OK | OK | ||||||||||||
lemming | Windows Server 2003 (32-bit) | x64 | OK | OK | skipped | |||||||||||
Package 71/238 | Hostname | OS | Arch | BUILD | CHECK | BUILD BIN | ||||||||||
flowCore1.1.6Nolwenn Le MeurLast Changed Date: 2007-05-30 16:58:48 -0700 Last Changed Rev: 25068 | lamb1 | Linux (SUSE 10.1) | x86_64 | OK | WARNINGS | |||||||||||
wellington | Linux (SUSE 9.2) | i686 | OK | WARNINGS | ||||||||||||
churchill | Solaris 2.9 | sparc | OK | WARNINGS | ||||||||||||
lemming | Windows Server 2003 (32-bit) | x64 | OK | WARNINGS | skipped | |||||||||||
Package 72/238 | Hostname | OS | Arch | BUILD | CHECK | BUILD BIN | ||||||||||
flowQ0.2.3N. Le MeurLast Changed Date: 2007-04-04 17:34:24 -0700 Last Changed Rev: 23625 | lamb1 | Linux (SUSE 10.1) | x86_64 | OK | WARNINGS | |||||||||||
wellington | Linux (SUSE 9.2) | i686 | OK | WARNINGS | ||||||||||||
churchill | Solaris 2.9 | sparc | OK | WARNINGS | ||||||||||||
lemming | Windows Server 2003 (32-bit) | x64 | OK | WARNINGS | skipped | |||||||||||
Package 73/238 | Hostname | OS | Arch | BUILD | CHECK | BUILD BIN | ||||||||||
flowUtils0.2.3Florian HahneLast Changed Date: 2007-05-26 11:41:03 -0700 Last Changed Rev: 25004 | lamb1 | Linux (SUSE 10.1) | x86_64 | OK | ERROR | |||||||||||
wellington | Linux (SUSE 9.2) | i686 | OK | ERROR | ||||||||||||
churchill | Solaris 2.9 | sparc | OK | ERROR | ||||||||||||
lemming | Windows Server 2003 (32-bit) | x64 | OK | ERROR | skipped | |||||||||||
Package 74/238 | Hostname | OS | Arch | BUILD | CHECK | BUILD BIN | ||||||||||
flowViz1.1.4Florian HahneLast Changed Date: 2007-05-11 20:54:33 -0700 Last Changed Rev: 24613 | lamb1 | Linux (SUSE 10.1) | x86_64 | OK | WARNINGS | |||||||||||
wellington | Linux (SUSE 9.2) | i686 | ERROR | skipped | ||||||||||||
churchill | Solaris 2.9 | sparc | ERROR | skipped | ||||||||||||
lemming | Windows Server 2003 (32-bit) | x64 | OK | WARNINGS | skipped | |||||||||||
Package 75/238 | Hostname | OS | Arch | BUILD | CHECK | BUILD BIN | ||||||||||
gaggle1.5.0Paul ShannonLast Changed Date: 2007-04-24 12:49:14 -0700 Last Changed Rev: 24221 | lamb1 | Linux (SUSE 10.1) | x86_64 | OK | OK | |||||||||||
wellington | Linux (SUSE 9.2) | i686 | OK | OK | ||||||||||||
churchill | Solaris 2.9 | sparc | OK | ERROR | ||||||||||||
lemming | Windows Server 2003 (32-bit) | x64 | OK | ERROR | skipped | |||||||||||
Package 76/238 | Hostname | OS | Arch | BUILD | CHECK | BUILD BIN | ||||||||||
gcrma2.9.1Z. WuLast Changed Date: 2007-06-10 10:22:32 -0700 Last Changed Rev: 25301 | lamb1 | Linux (SUSE 10.1) | x86_64 | OK | OK | |||||||||||
wellington | Linux (SUSE 9.2) | i686 | OK | OK | ||||||||||||
churchill | Solaris 2.9 | sparc | OK | OK | ||||||||||||
lemming | Windows Server 2003 (32-bit) | x64 | OK | OK | skipped | |||||||||||
Package 77/238 | Hostname | OS | Arch | BUILD | CHECK | BUILD BIN | ||||||||||
genArise1.13.0IFC Development TeamLast Changed Date: 2007-04-24 11:31:42 -0700 Last Changed Rev: 24217 | lamb1 | Linux (SUSE 10.1) | x86_64 | OK | OK | |||||||||||
wellington | Linux (SUSE 9.2) | i686 | OK | OK | ||||||||||||
churchill | Solaris 2.9 | sparc | OK | OK | ||||||||||||
lemming | Windows Server 2003 (32-bit) | x64 | OK | OK | skipped | |||||||||||
Package 78/238 | Hostname | OS | Arch | BUILD | CHECK | BUILD BIN | ||||||||||
genefilter1.15.6Biocore TeamLast Changed Date: 2007-05-18 10:13:51 -0700 Last Changed Rev: 24806 | lamb1 | Linux (SUSE 10.1) | x86_64 | ERROR | skipped | |||||||||||
wellington | Linux (SUSE 9.2) | i686 | OK | OK | ||||||||||||
churchill | Solaris 2.9 | sparc | OK | OK | ||||||||||||
lemming | Windows Server 2003 (32-bit) | x64 | OK | OK | skipped | |||||||||||
Package 79/238 | Hostname | OS | Arch | BUILD | CHECK | BUILD BIN | ||||||||||
GeneMeta1.9.0Biocore TeamLast Changed Date: 2007-05-11 21:56:41 -0700 Last Changed Rev: 24616 | lamb1 | Linux (SUSE 10.1) | x86_64 | OK | ERROR | |||||||||||
wellington | Linux (SUSE 9.2) | i686 | OK | ERROR | ||||||||||||
churchill | Solaris 2.9 | sparc | OK | ERROR | ||||||||||||
lemming | Windows Server 2003 (32-bit) | x64 | OK | ERROR | skipped | |||||||||||
Package 80/238 | Hostname | OS | Arch | BUILD | CHECK | BUILD BIN | ||||||||||
geneplotter1.15.1Biocore TeamLast Changed Date: 2007-05-11 21:56:41 -0700 Last Changed Rev: 24616 | lamb1 | Linux (SUSE 10.1) | x86_64 | OK | OK | |||||||||||
wellington | Linux (SUSE 9.2) | i686 | OK | OK | ||||||||||||
churchill | Solaris 2.9 | sparc | OK | OK | ||||||||||||
lemming | Windows Server 2003 (32-bit) | x64 | OK | OK | skipped | |||||||||||
Package 81/238 | Hostname | OS | Arch | BUILD | CHECK | BUILD BIN | ||||||||||
GeneR2.7.1Y. d'Aubenton-CarafaLast Changed Date: 2007-06-10 10:22:32 -0700 Last Changed Rev: 25301 | lamb1 | Linux (SUSE 10.1) | x86_64 | OK | WARNINGS | |||||||||||
wellington | Linux (SUSE 9.2) | i686 | OK | WARNINGS | ||||||||||||
churchill | Solaris 2.9 | sparc | OK | WARNINGS | ||||||||||||
lemming | Windows Server 2003 (32-bit) | x64 | OK | WARNINGS | skipped | |||||||||||
Package 82/238 | Hostname | OS | Arch | BUILD | CHECK | BUILD BIN | ||||||||||
geneRecommender1.9.0Greg HatherLast Changed Date: 2007-04-24 11:31:42 -0700 Last Changed Rev: 24217 | lamb1 | Linux (SUSE 10.1) | x86_64 | OK | OK | |||||||||||
wellington | Linux (SUSE 9.2) | i686 | OK | OK | ||||||||||||
churchill | Solaris 2.9 | sparc | OK | OK | ||||||||||||
lemming | Windows Server 2003 (32-bit) | x64 | OK | OK | skipped | |||||||||||
Package 83/238 | Hostname | OS | Arch | BUILD | CHECK | BUILD BIN | ||||||||||
GeneRfold0.1.3Antoine LucasLast Changed Date: 2007-06-10 10:22:32 -0700 Last Changed Rev: 25301 | lamb1 | Linux (SUSE 10.1) | x86_64 | OK | OK | |||||||||||
wellington | Linux (SUSE 9.2) | i686 | ERROR | skipped | ||||||||||||
churchill | Solaris 2.9 | sparc | ERROR | skipped | ||||||||||||
lemming | Windows Server 2003 (32-bit) | x64 | ERROR | skipped | skipped | |||||||||||
Package 84/238 | Hostname | OS | Arch | BUILD | CHECK | BUILD BIN | ||||||||||
GeneSpring2.11.0Thon de BoerLast Changed Date: 2007-05-11 21:56:41 -0700 Last Changed Rev: 24616 | lamb1 | Linux (SUSE 10.1) | x86_64 | OK | OK | |||||||||||
wellington | Linux (SUSE 9.2) | i686 | OK | OK | ||||||||||||
churchill | Solaris 2.9 | sparc | OK | OK | ||||||||||||
lemming | Windows Server 2003 (32-bit) | x64 | OK | OK | skipped | |||||||||||
Package 85/238 | Hostname | OS | Arch | BUILD | CHECK | BUILD BIN | ||||||||||
GeneticsBase1.1.0Gregory WarnesLast Changed Date: 2007-05-16 05:57:10 -0700 Last Changed Rev: 24703 | lamb1 | Linux (SUSE 10.1) | x86_64 | ERROR | skipped | |||||||||||
wellington | Linux (SUSE 9.2) | i686 | ERROR | skipped | ||||||||||||
churchill | Solaris 2.9 | sparc | ERROR | skipped | ||||||||||||
lemming | Windows Server 2003 (32-bit) | x64 | ERROR | skipped | skipped | |||||||||||
Package 86/238 | Hostname | OS | Arch | BUILD | CHECK | BUILD BIN | ||||||||||
GeneticsDesign1.1.0Weiliang QiuLast Changed Date: 2007-04-24 11:31:42 -0700 Last Changed Rev: 24217 | lamb1 | Linux (SUSE 10.1) | x86_64 | OK | OK | |||||||||||
wellington | Linux (SUSE 9.2) | i686 | OK | OK | ||||||||||||
churchill | Solaris 2.9 | sparc | OK | OK | ||||||||||||
lemming | Windows Server 2003 (32-bit) | x64 | OK | OK | skipped | |||||||||||
Package 87/238 | Hostname | OS | Arch | BUILD | CHECK | BUILD BIN | ||||||||||
GeneticsPed1.1.0Gregor GorjancLast Changed Date: 2007-04-24 11:31:42 -0700 Last Changed Rev: 24217 | lamb1 | Linux (SUSE 10.1) | x86_64 | OK | OK | |||||||||||
wellington | Linux (SUSE 9.2) | i686 | OK | OK | ||||||||||||
churchill | Solaris 2.9 | sparc | OK | OK | ||||||||||||
lemming | Windows Server 2003 (32-bit) | x64 | OK | OK | skipped | |||||||||||
Package 88/238 | Hostname | OS | Arch | BUILD | CHECK | BUILD BIN | ||||||||||
GeneTraffic1.9.0Daniel IordanLast Changed Date: 2007-05-11 21:56:41 -0700 Last Changed Rev: 24616 | lamb1 | Linux (SUSE 10.1) | x86_64 | OK | ERROR | |||||||||||
wellington | Linux (SUSE 9.2) | i686 | OK | ERROR | ||||||||||||
churchill | Solaris 2.9 | sparc | OK | ERROR | ||||||||||||
lemming | Windows Server 2003 (32-bit) | x64 | OK | OK | skipped | |||||||||||
Package 89/238 | Hostname | OS | Arch | BUILD | CHECK | BUILD BIN | ||||||||||
GeneTS2.15.0Korbinian StrimmerLast Changed Date: 2007-04-24 11:31:42 -0700 Last Changed Rev: 24217 | lamb1 | Linux (SUSE 10.1) | x86_64 | OK | OK | |||||||||||
wellington | Linux (SUSE 9.2) | i686 | OK | OK | ||||||||||||
churchill | Solaris 2.9 | sparc | OK | OK | ||||||||||||
lemming | Windows Server 2003 (32-bit) | x64 | OK | OK | skipped | |||||||||||
Package 90/238 | Hostname | OS | Arch | BUILD | CHECK | BUILD BIN | ||||||||||
GEOquery2.1.7Sean DavisLast Changed Date: 2007-06-06 04:16:41 -0700 Last Changed Rev: 25217 | lamb1 | Linux (SUSE 10.1) | x86_64 | ERROR | skipped | |||||||||||
wellington | Linux (SUSE 9.2) | i686 | ERROR | skipped | ||||||||||||
churchill | Solaris 2.9 | sparc | ERROR | skipped | ||||||||||||
lemming | Windows Server 2003 (32-bit) | x64 | TIMEOUT | skipped | skipped | |||||||||||
Package 91/238 | Hostname | OS | Arch | BUILD | CHECK | BUILD BIN | ||||||||||
gff3Plotter1.9.0Oleg SklyarLast Changed Date: 2007-05-11 21:56:41 -0700 Last Changed Rev: 24616 | lamb1 | Linux (SUSE 10.1) | x86_64 | OK | WARNINGS | |||||||||||
wellington | Linux (SUSE 9.2) | i686 | OK | WARNINGS | ||||||||||||
churchill | Solaris 2.9 | sparc | OK | WARNINGS | ||||||||||||
lemming | Windows Server 2003 (32-bit) | x64 | OK | WARNINGS | skipped | |||||||||||
Package 92/238 | Hostname | OS | Arch | BUILD | CHECK | BUILD BIN | ||||||||||
GGtools1.5.0Vince CareyLast Changed Date: 2007-04-26 11:59:29 -0700 Last Changed Rev: 24316 | lamb1 | Linux (SUSE 10.1) | x86_64 | ERROR | skipped | |||||||||||
wellington | Linux (SUSE 9.2) | i686 | ERROR | skipped | ||||||||||||
churchill | Solaris 2.9 | sparc | ERROR | skipped | ||||||||||||
lemming | Windows Server 2003 (32-bit) | x64 | ERROR | skipped | skipped | |||||||||||
Package 93/238 | Hostname | OS | Arch | BUILD | CHECK | BUILD BIN | ||||||||||
GLAD1.11.0Philippe HupeLast Changed Date: 2007-05-18 08:41:57 -0700 Last Changed Rev: 24802 | lamb1 | Linux (SUSE 10.1) | x86_64 | OK | OK | |||||||||||
wellington | Linux (SUSE 9.2) | i686 | OK | OK | ||||||||||||
churchill | Solaris 2.9 | sparc | OK | OK | ||||||||||||
lemming | Windows Server 2003 (32-bit) | x64 | OK | OK | skipped | |||||||||||
Package 94/238 | Hostname | OS | Arch | BUILD | CHECK | BUILD BIN | ||||||||||
GlobalAncova3.3.0R. MeisterLast Changed Date: 2007-05-04 05:43:53 -0700 Last Changed Rev: 24506 | lamb1 | Linux (SUSE 10.1) | x86_64 | ERROR | skipped | |||||||||||
wellington | Linux (SUSE 9.2) | i686 | ERROR | skipped | ||||||||||||
churchill | Solaris 2.9 | sparc | ERROR | skipped | ||||||||||||
lemming | Windows Server 2003 (32-bit) | x64 | ERROR | skipped | skipped | |||||||||||
Package 95/238 | Hostname | OS | Arch | BUILD | CHECK | BUILD BIN | ||||||||||
globaltest4.7.1Jelle GoemanLast Changed Date: 2007-05-14 06:37:26 -0700 Last Changed Rev: 24637 | lamb1 | Linux (SUSE 10.1) | x86_64 | ERROR | skipped | |||||||||||
wellington | Linux (SUSE 9.2) | i686 | ERROR | skipped | ||||||||||||
churchill | Solaris 2.9 | sparc | ERROR | skipped | ||||||||||||
lemming | Windows Server 2003 (32-bit) | x64 | ERROR | skipped | skipped | |||||||||||
Package 96/238 | Hostname | OS | Arch | BUILD | CHECK | BUILD BIN | ||||||||||
GOstats2.3.6S. FalconLast Changed Date: 2007-06-07 16:25:13 -0700 Last Changed Rev: 25264 | lamb1 | Linux (SUSE 10.1) | x86_64 | OK | OK | |||||||||||
wellington | Linux (SUSE 9.2) | i686 | OK | OK | ||||||||||||
churchill | Solaris 2.9 | sparc | OK | OK | ||||||||||||
lemming | Windows Server 2003 (32-bit) | x64 | OK | OK | skipped | |||||||||||
Package 97/238 | Hostname | OS | Arch | BUILD | CHECK | BUILD BIN | ||||||||||
goTools1.9.0Agnes PaquetLast Changed Date: 2007-05-11 21:56:41 -0700 Last Changed Rev: 24616 | lamb1 | Linux (SUSE 10.1) | x86_64 | ERROR | skipped | |||||||||||
wellington | Linux (SUSE 9.2) | i686 | ERROR | skipped | ||||||||||||
churchill | Solaris 2.9 | sparc | ERROR | skipped | ||||||||||||
lemming | Windows Server 2003 (32-bit) | x64 | ERROR | skipped | skipped | |||||||||||
Package 98/238 | Hostname | OS | Arch | BUILD | CHECK | BUILD BIN | ||||||||||
gpls1.9.0Biocore TeamLast Changed Date: 2007-04-24 11:31:42 -0700 Last Changed Rev: 24217 | lamb1 | Linux (SUSE 10.1) | x86_64 | OK | OK | |||||||||||
wellington | Linux (SUSE 9.2) | i686 | OK | OK | ||||||||||||
churchill | Solaris 2.9 | sparc | OK | OK | ||||||||||||
lemming | Windows Server 2003 (32-bit) | x64 | OK | OK | skipped | |||||||||||
Package 99/238 | Hostname | OS | Arch | BUILD | CHECK | BUILD BIN | ||||||||||
graph1.15.6Seth FalconLast Changed Date: 2007-06-08 11:15:37 -0700 Last Changed Rev: 25284 | lamb1 | Linux (SUSE 10.1) | x86_64 | OK | OK | |||||||||||
wellington | Linux (SUSE 9.2) | i686 | OK | OK | ||||||||||||
churchill | Solaris 2.9 | sparc | OK | ERROR | ||||||||||||
lemming | Windows Server 2003 (32-bit) | x64 | OK | OK | skipped | |||||||||||
Package 100/238 | Hostname | OS | Arch | BUILD | CHECK | BUILD BIN | ||||||||||
GraphAT1.9.0Thomas LaFramboiseLast Changed Date: 2007-04-24 11:31:42 -0700 Last Changed Rev: 24217 | lamb1 | Linux (SUSE 10.1) | x86_64 | OK | OK | |||||||||||
wellington | Linux (SUSE 9.2) | i686 | OK | OK | ||||||||||||
churchill | Solaris 2.9 | sparc | OK | OK | ||||||||||||
lemming | Windows Server 2003 (32-bit) | x64 | OK | OK | skipped | |||||||||||
Package 101/238 | Hostname | OS | Arch | BUILD | CHECK | BUILD BIN | ||||||||||
GSEABase0.1.9Biocore TeamLast Changed Date: 2007-06-07 12:42:25 -0700 Last Changed Rev: 25261 | lamb1 | Linux (SUSE 10.1) | x86_64 | OK | ERROR | |||||||||||
wellington | Linux (SUSE 9.2) | i686 | OK | ERROR | ||||||||||||
churchill | Solaris 2.9 | sparc | OK | ERROR | ||||||||||||
lemming | Windows Server 2003 (32-bit) | x64 | OK | ERROR | skipped | |||||||||||
Package 102/238 | Hostname | OS | Arch | BUILD | CHECK | BUILD BIN | ||||||||||
gtkWidgets0.11.0Jianhua ZhangLast Changed Date: 2007-05-11 21:56:41 -0700 Last Changed Rev: 24616 | lamb1 | Linux (SUSE 10.1) | x86_64 | OK | OK | |||||||||||
wellington | Linux (SUSE 9.2) | i686 | OK | OK | ||||||||||||
churchill | Solaris 2.9 | sparc | OK | OK | ||||||||||||
lemming | Windows Server 2003 (32-bit) | x64 | OK | OK | skipped | |||||||||||
Package 103/238 | Hostname | OS | Arch | BUILD | CHECK | BUILD BIN | ||||||||||
Harshlight1.5.0Maurizio PellegrinoLast Changed Date: 2007-04-24 11:31:42 -0700 Last Changed Rev: 24217 | lamb1 | Linux (SUSE 10.1) | x86_64 | OK | WARNINGS | |||||||||||
wellington | Linux (SUSE 9.2) | i686 | OK | WARNINGS | ||||||||||||
churchill | Solaris 2.9 | sparc | OK | WARNINGS | ||||||||||||
lemming | Windows Server 2003 (32-bit) | x64 | OK | WARNINGS | skipped | |||||||||||
Package 104/238 | Hostname | OS | Arch | BUILD | CHECK | BUILD BIN | ||||||||||
Heatplus1.7.0Alexander PlonerLast Changed Date: 2007-04-24 11:31:42 -0700 Last Changed Rev: 24217 | lamb1 | Linux (SUSE 10.1) | x86_64 | OK | OK | |||||||||||
wellington | Linux (SUSE 9.2) | i686 | OK | OK | ||||||||||||
churchill | Solaris 2.9 | sparc | OK | OK | ||||||||||||
lemming | Windows Server 2003 (32-bit) | x64 | OK | OK | skipped | |||||||||||
Package 105/238 | Hostname | OS | Arch | BUILD | CHECK | BUILD BIN | ||||||||||
HEM1.9.0HyungJun ChoLast Changed Date: 2007-04-24 11:31:42 -0700 Last Changed Rev: 24217 | lamb1 | Linux (SUSE 10.1) | x86_64 | OK | OK | |||||||||||
wellington | Linux (SUSE 9.2) | i686 | OK | OK | ||||||||||||
churchill | Solaris 2.9 | sparc | OK | OK | ||||||||||||
lemming | Windows Server 2003 (32-bit) | x64 | OK | OK | skipped | |||||||||||
Package 106/238 | Hostname | OS | Arch | BUILD | CHECK | BUILD BIN | ||||||||||
hexbin1.11.0Nicholas Lewin-KohLast Changed Date: 2007-04-24 11:31:42 -0700 Last Changed Rev: 24217 | lamb1 | Linux (SUSE 10.1) | x86_64 | OK | OK | |||||||||||
wellington | Linux (SUSE 9.2) | i686 | OK | OK | ||||||||||||
churchill | Solaris 2.9 | sparc | OK | OK | ||||||||||||
lemming | Windows Server 2003 (32-bit) | x64 | OK | OK | skipped | |||||||||||
Package 107/238 | Hostname | OS | Arch | BUILD | CHECK | BUILD BIN | ||||||||||
hopach1.11.0Katherine S. PollardLast Changed Date: 2007-04-24 11:31:42 -0700 Last Changed Rev: 24217 | lamb1 | Linux (SUSE 10.1) | x86_64 | OK | OK | |||||||||||
wellington | Linux (SUSE 9.2) | i686 | OK | OK | ||||||||||||
churchill | Solaris 2.9 | sparc | OK | OK | ||||||||||||
lemming | Windows Server 2003 (32-bit) | x64 | OK | OK | skipped | |||||||||||
Package 108/238 | Hostname | OS | Arch | BUILD | CHECK | BUILD BIN | ||||||||||
hypergraph1.9.0Seth FalconLast Changed Date: 2007-05-11 21:56:41 -0700 Last Changed Rev: 24616 | lamb1 | Linux (SUSE 10.1) | x86_64 | OK | OK | |||||||||||
wellington | Linux (SUSE 9.2) | i686 | OK | OK | ||||||||||||
churchill | Solaris 2.9 | sparc | OK | OK | ||||||||||||
lemming | Windows Server 2003 (32-bit) | x64 | OK | OK | skipped | |||||||||||
Package 109/238 | Hostname | OS | Arch | BUILD | CHECK | BUILD BIN | ||||||||||
Icens1.9.0Biocore TeamLast Changed Date: 2007-04-24 11:31:42 -0700 Last Changed Rev: 24217 | lamb1 | Linux (SUSE 10.1) | x86_64 | OK | OK | |||||||||||
wellington | Linux (SUSE 9.2) | i686 | OK | OK | ||||||||||||
churchill | Solaris 2.9 | sparc | OK | OK | ||||||||||||
lemming | Windows Server 2003 (32-bit) | x64 | OK | OK | skipped | |||||||||||
Package 110/238 | Hostname | OS | Arch | BUILD | CHECK | BUILD BIN | ||||||||||
idiogram1.11.0Karl J. DykemaLast Changed Date: 2007-04-24 11:31:42 -0700 Last Changed Rev: 24217 | lamb1 | Linux (SUSE 10.1) | x86_64 | OK | WARNINGS | |||||||||||
wellington | Linux (SUSE 9.2) | i686 | OK | WARNINGS | ||||||||||||
churchill | Solaris 2.9 | sparc | OK | WARNINGS | ||||||||||||
lemming | Windows Server 2003 (32-bit) | x64 | OK | WARNINGS | skipped | |||||||||||
Package 111/238 | Hostname | OS | Arch | BUILD | CHECK | BUILD BIN | ||||||||||
impute1.9.0Balasubramanian NarasimhanLast Changed Date: 2007-04-24 11:31:42 -0700 Last Changed Rev: 24217 | lamb1 | Linux (SUSE 10.1) | x86_64 | OK | OK | |||||||||||
wellington | Linux (SUSE 9.2) | i686 | OK | OK | ||||||||||||
churchill | Solaris 2.9 | sparc | OK | OK | ||||||||||||
lemming | Windows Server 2003 (32-bit) | x64 | OK | OK | skipped | |||||||||||
Package 112/238 | Hostname | OS | Arch | BUILD | CHECK | BUILD BIN | ||||||||||
iSNetwork1.7.0Elizabeth WhalenLast Changed Date: 2007-05-11 21:56:41 -0700 Last Changed Rev: 24616 | lamb1 | Linux (SUSE 10.1) | x86_64 | TIMEOUT | skipped | |||||||||||
wellington | Linux (SUSE 9.2) | i686 | OK | WARNINGS | ||||||||||||
churchill | Solaris 2.9 | sparc | OK | WARNINGS | ||||||||||||
lemming | Windows Server 2003 (32-bit) | x64 | N O T S U P P O R T E D | |||||||||||||
Package 113/238 | Hostname | OS | Arch | BUILD | CHECK | BUILD BIN | ||||||||||
iSPlot1.11.0Elizabeth WhalenLast Changed Date: 2007-05-11 21:56:41 -0700 Last Changed Rev: 24616 | lamb1 | Linux (SUSE 10.1) | x86_64 | OK | OK | |||||||||||
wellington | Linux (SUSE 9.2) | i686 | OK | OK | ||||||||||||
churchill | Solaris 2.9 | sparc | OK | OK | ||||||||||||
lemming | Windows Server 2003 (32-bit) | x64 | N O T S U P P O R T E D | |||||||||||||
Package 114/238 | Hostname | OS | Arch | BUILD | CHECK | BUILD BIN | ||||||||||
KEGGSOAP1.11.0J. ZhangLast Changed Date: 2007-04-24 11:31:42 -0700 Last Changed Rev: 24217 | lamb1 | Linux (SUSE 10.1) | x86_64 | OK | ERROR | |||||||||||
wellington | Linux (SUSE 9.2) | i686 | OK | ERROR | ||||||||||||
churchill | Solaris 2.9 | sparc | OK | ERROR | ||||||||||||
lemming | Windows Server 2003 (32-bit) | x64 | OK | ERROR | skipped | |||||||||||
Package 115/238 | Hostname | OS | Arch | BUILD | CHECK | BUILD BIN | ||||||||||
lapmix1.3.0Yann RuffieuxLast Changed Date: 2007-04-24 11:31:42 -0700 Last Changed Rev: 24217 | lamb1 | Linux (SUSE 10.1) | x86_64 | OK | OK | |||||||||||
wellington | Linux (SUSE 9.2) | i686 | OK | OK | ||||||||||||
churchill | Solaris 2.9 | sparc | OK | OK | ||||||||||||
lemming | Windows Server 2003 (32-bit) | x64 | OK | OK | skipped | |||||||||||
Package 116/238 | Hostname | OS | Arch | BUILD | CHECK | BUILD BIN | ||||||||||
LBE1.5.0Cyril DalmassoLast Changed Date: 2007-04-24 11:31:42 -0700 Last Changed Rev: 24217 | lamb1 | Linux (SUSE 10.1) | x86_64 | OK | OK | |||||||||||
wellington | Linux (SUSE 9.2) | i686 | OK | OK | ||||||||||||
churchill | Solaris 2.9 | sparc | OK | OK | ||||||||||||
lemming | Windows Server 2003 (32-bit) | x64 | OK | OK | skipped | |||||||||||
Package 117/238 | Hostname | OS | Arch | BUILD | CHECK | BUILD BIN | ||||||||||
limma2.11.6Gordon SmythLast Changed Date: 2007-06-09 23:53:02 -0700 Last Changed Rev: 25298 | lamb1 | Linux (SUSE 10.1) | x86_64 | OK | OK | |||||||||||
wellington | Linux (SUSE 9.2) | i686 | OK | OK | ||||||||||||
churchill | Solaris 2.9 | sparc | OK | OK | ||||||||||||
lemming | Windows Server 2003 (32-bit) | x64 | OK | OK | skipped | |||||||||||
Package 118/238 | Hostname | OS | Arch | BUILD | CHECK | BUILD BIN | ||||||||||
limmaGUI1.13.0Keith SatterleyLast Changed Date: 2007-04-24 11:31:42 -0700 Last Changed Rev: 24217 | lamb1 | Linux (SUSE 10.1) | x86_64 | OK | OK | |||||||||||
wellington | Linux (SUSE 9.2) | i686 | OK | OK | ||||||||||||
churchill | Solaris 2.9 | sparc | OK | OK | ||||||||||||
lemming | Windows Server 2003 (32-bit) | x64 | OK | OK | skipped | |||||||||||
Package 119/238 | Hostname | OS | Arch | BUILD | CHECK | BUILD BIN | ||||||||||
LMGene1.7.0John TillinghastLast Changed Date: 2007-05-25 23:04:00 -0700 Last Changed Rev: 24997 | lamb1 | Linux (SUSE 10.1) | x86_64 | OK | OK | |||||||||||
wellington | Linux (SUSE 9.2) | i686 | OK | OK | ||||||||||||
churchill | Solaris 2.9 | sparc | OK | OK | ||||||||||||
lemming | Windows Server 2003 (32-bit) | x64 | OK | OK | skipped | |||||||||||
Package 120/238 | Hostname | OS | Arch | BUILD | CHECK | BUILD BIN | ||||||||||
logicFS1.7.1Holger SchwenderLast Changed Date: 2007-05-16 06:21:09 -0700 Last Changed Rev: 24705 | lamb1 | Linux (SUSE 10.1) | x86_64 | OK | OK | |||||||||||
wellington | Linux (SUSE 9.2) | i686 | OK | OK | ||||||||||||
churchill | Solaris 2.9 | sparc | OK | OK | ||||||||||||
lemming | Windows Server 2003 (32-bit) | x64 | OK | OK | skipped | |||||||||||
Package 121/238 | Hostname | OS | Arch | BUILD | CHECK | BUILD BIN | ||||||||||
LPE1.11.0Nitin JainLast Changed Date: 2007-04-24 11:31:42 -0700 Last Changed Rev: 24217 | lamb1 | Linux (SUSE 10.1) | x86_64 | OK | OK | |||||||||||
wellington | Linux (SUSE 9.2) | i686 | OK | OK | ||||||||||||
churchill | Solaris 2.9 | sparc | OK | OK | ||||||||||||
lemming | Windows Server 2003 (32-bit) | x64 | OK | OK | skipped | |||||||||||
Package 122/238 | Hostname | OS | Arch | BUILD | CHECK | BUILD BIN | ||||||||||
lumi1.3.9Pan DuLast Changed Date: 2007-06-07 12:29:13 -0700 Last Changed Rev: 25260 | lamb1 | Linux (SUSE 10.1) | x86_64 | OK | OK | |||||||||||
wellington | Linux (SUSE 9.2) | i686 | OK | OK | ||||||||||||
churchill | Solaris 2.9 | sparc | OK | OK | ||||||||||||
lemming | Windows Server 2003 (32-bit) | x64 | OK | OK | skipped | |||||||||||
Package 123/238 | Hostname | OS | Arch | BUILD | CHECK | BUILD BIN | ||||||||||
maanova1.7.0Lei WuLast Changed Date: 2007-06-10 10:22:32 -0700 Last Changed Rev: 25301 | lamb1 | Linux (SUSE 10.1) | x86_64 | OK | OK | |||||||||||
wellington | Linux (SUSE 9.2) | i686 | OK | OK | ||||||||||||
churchill | Solaris 2.9 | sparc | OK | OK | ||||||||||||
lemming | Windows Server 2003 (32-bit) | x64 | OK | OK | skipped | |||||||||||
Package 124/238 | Hostname | OS | Arch | BUILD | CHECK | BUILD BIN | ||||||||||
macat1.11.3Joern ToedlingLast Changed Date: 2007-05-16 02:03:53 -0700 Last Changed Rev: 24699 | lamb1 | Linux (SUSE 10.1) | x86_64 | OK | OK | |||||||||||
wellington | Linux (SUSE 9.2) | i686 | OK | OK | ||||||||||||
churchill | Solaris 2.9 | sparc | OK | OK | ||||||||||||
lemming | Windows Server 2003 (32-bit) | x64 | OK | OK | skipped | |||||||||||
Package 125/238 | Hostname | OS | Arch | BUILD | CHECK | BUILD BIN | ||||||||||
maCorrPlot1.7.0Alexander PlonerLast Changed Date: 2007-04-24 11:31:42 -0700 Last Changed Rev: 24217 | lamb1 | Linux (SUSE 10.1) | x86_64 | OK | OK | |||||||||||
wellington | Linux (SUSE 9.2) | i686 | OK | OK | ||||||||||||
churchill | Solaris 2.9 | sparc | OK | OK | ||||||||||||
lemming | Windows Server 2003 (32-bit) | x64 | OK | OK | skipped | |||||||||||
Package 126/238 | Hostname | OS | Arch | BUILD | CHECK | BUILD BIN | ||||||||||
maDB1.9.4Johannes RainerLast Changed Date: 2007-05-22 23:01:48 -0700 Last Changed Rev: 24926 | lamb1 | Linux (SUSE 10.1) | x86_64 | OK | ERROR | |||||||||||
wellington | Linux (SUSE 9.2) | i686 | OK | ERROR | ||||||||||||
churchill | Solaris 2.9 | sparc | OK | ERROR | ||||||||||||
lemming | Windows Server 2003 (32-bit) | x64 | OK | ERROR | skipped | |||||||||||
Package 127/238 | Hostname | OS | Arch | BUILD | CHECK | BUILD BIN | ||||||||||
made41.11.0Aedin CulhaneLast Changed Date: 2007-04-24 11:31:42 -0700 Last Changed Rev: 24217 | lamb1 | Linux (SUSE 10.1) | x86_64 | OK | OK | |||||||||||
wellington | Linux (SUSE 9.2) | i686 | OK | OK | ||||||||||||
churchill | Solaris 2.9 | sparc | OK | OK | ||||||||||||
lemming | Windows Server 2003 (32-bit) | x64 | OK | OK | skipped | |||||||||||
Package 128/238 | Hostname | OS | Arch | BUILD | CHECK | BUILD BIN | ||||||||||
makecdfenv1.15.1James W. MacDonaldLast Changed Date: 2007-06-10 10:22:32 -0700 Last Changed Rev: 25301 | lamb1 | Linux (SUSE 10.1) | x86_64 | OK | OK | |||||||||||
wellington | Linux (SUSE 9.2) | i686 | OK | OK | ||||||||||||
churchill | Solaris 2.9 | sparc | OK | OK | ||||||||||||
lemming | Windows Server 2003 (32-bit) | x64 | OK | OK | skipped | |||||||||||
Package 129/238 | Hostname | OS | Arch | BUILD | CHECK | BUILD BIN | ||||||||||
makePlatformDesign1.1.1Benilton CarvalhoLast Changed Date: 2007-06-10 10:22:32 -0700 Last Changed Rev: 25301 | lamb1 | Linux (SUSE 10.1) | x86_64 | OK | OK | |||||||||||
wellington | Linux (SUSE 9.2) | i686 | OK | OK | ||||||||||||
churchill | Solaris 2.9 | sparc | OK | OK | ||||||||||||
lemming | Windows Server 2003 (32-bit) | x64 | OK | OK | skipped | |||||||||||
Package 130/238 | Hostname | OS | Arch | BUILD | CHECK | BUILD BIN | ||||||||||
MANOR1.9.3Pierre NeuvialLast Changed Date: 2007-06-07 09:34:06 -0700 Last Changed Rev: 25251 | lamb1 | Linux (SUSE 10.1) | x86_64 | OK | OK | |||||||||||
wellington | Linux (SUSE 9.2) | i686 | OK | OK | ||||||||||||
churchill | Solaris 2.9 | sparc | OK | OK | ||||||||||||
lemming | Windows Server 2003 (32-bit) | x64 | OK | OK | skipped | |||||||||||
Package 131/238 | Hostname | OS | Arch | BUILD | CHECK | BUILD BIN | ||||||||||
MantelCorr1.7.0Brian SteinmeyerLast Changed Date: 2007-04-24 11:31:42 -0700 Last Changed Rev: 24217 | lamb1 | Linux (SUSE 10.1) | x86_64 | OK | OK | |||||||||||
wellington | Linux (SUSE 9.2) | i686 | OK | OK | ||||||||||||
churchill | Solaris 2.9 | sparc | OK | OK | ||||||||||||
lemming | Windows Server 2003 (32-bit) | x64 | OK | OK | skipped | |||||||||||
Package 132/238 | Hostname | OS | Arch | BUILD | CHECK | BUILD BIN | ||||||||||
marray1.15.1Yee Hwa (Jean) YangLast Changed Date: 2007-05-25 08:25:04 -0700 Last Changed Rev: 24986 | lamb1 | Linux (SUSE 10.1) | x86_64 | OK | OK | |||||||||||
wellington | Linux (SUSE 9.2) | i686 | OK | OK | ||||||||||||
churchill | Solaris 2.9 | sparc | OK | OK | ||||||||||||
lemming | Windows Server 2003 (32-bit) | x64 | OK | OK | skipped | |||||||||||
Package 133/238 | Hostname | OS | Arch | BUILD | CHECK | BUILD BIN | ||||||||||
maSigPro1.9.0Ana ConesaLast Changed Date: 2007-05-11 21:56:41 -0700 Last Changed Rev: 24616 | lamb1 | Linux (SUSE 10.1) | x86_64 | OK | OK | |||||||||||
wellington | Linux (SUSE 9.2) | i686 | OK | OK | ||||||||||||
churchill | Solaris 2.9 | sparc | OK | OK | ||||||||||||
lemming | Windows Server 2003 (32-bit) | x64 | OK | OK | skipped | |||||||||||
Package 134/238 | Hostname | OS | Arch | BUILD | CHECK | BUILD BIN | ||||||||||
MassSpecWavelet1.3.1Pan DuLast Changed Date: 2007-06-05 22:31:09 -0700 Last Changed Rev: 25211 | lamb1 | Linux (SUSE 10.1) | x86_64 | OK | OK | |||||||||||
wellington | Linux (SUSE 9.2) | i686 | OK | OK | ||||||||||||
churchill | Solaris 2.9 | sparc | OK | OK | ||||||||||||
lemming | Windows Server 2003 (32-bit) | x64 | OK | OK | skipped | |||||||||||
Package 135/238 | Hostname | OS | Arch | BUILD | CHECK | BUILD BIN | ||||||||||
matchprobes1.9.8Biocore TeamLast Changed Date: 2007-06-10 10:22:32 -0700 Last Changed Rev: 25301 | lamb1 | Linux (SUSE 10.1) | x86_64 | OK | OK | |||||||||||
wellington | Linux (SUSE 9.2) | i686 | OK | OK | ||||||||||||
churchill | Solaris 2.9 | sparc | OK | OK | ||||||||||||
lemming | Windows Server 2003 (32-bit) | x64 | OK | OK | skipped | |||||||||||
Package 136/238 | Hostname | OS | Arch | BUILD | CHECK | BUILD BIN | ||||||||||
MCRestimate1.9.5Markus RuschhauptLast Changed Date: 2007-05-22 01:53:58 -0700 Last Changed Rev: 24904 | lamb1 | Linux (SUSE 10.1) | x86_64 | OK | OK | |||||||||||
wellington | Linux (SUSE 9.2) | i686 | OK | OK | ||||||||||||
churchill | Solaris 2.9 | sparc | OK | OK | ||||||||||||
lemming | Windows Server 2003 (32-bit) | x64 | OK | OK | skipped | |||||||||||
Package 137/238 | Hostname | OS | Arch | BUILD | CHECK | BUILD BIN | ||||||||||
MeasurementError.cor1.9.0Beiying DingLast Changed Date: 2007-04-24 11:31:42 -0700 Last Changed Rev: 24217 | lamb1 | Linux (SUSE 10.1) | x86_64 | ERROR | skipped | |||||||||||
wellington | Linux (SUSE 9.2) | i686 | ERROR | skipped | ||||||||||||
churchill | Solaris 2.9 | sparc | ERROR | skipped | ||||||||||||
lemming | Windows Server 2003 (32-bit) | x64 | ERROR | skipped | skipped | |||||||||||
Package 138/238 | Hostname | OS | Arch | BUILD | CHECK | BUILD BIN | ||||||||||
MergeMaid2.9.0Xiaogang ZhongLast Changed Date: 2007-04-24 11:31:42 -0700 Last Changed Rev: 24217 | lamb1 | Linux (SUSE 10.1) | x86_64 | OK | OK | |||||||||||
wellington | Linux (SUSE 9.2) | i686 | OK | OK | ||||||||||||
churchill | Solaris 2.9 | sparc | OK | OK | ||||||||||||
lemming | Windows Server 2003 (32-bit) | x64 | OK | OK | skipped | |||||||||||
Package 139/238 | Hostname | OS | Arch | BUILD | CHECK | BUILD BIN | ||||||||||
metaArray1.11.0Hyungwon ChoiLast Changed Date: 2007-04-24 11:31:42 -0700 Last Changed Rev: 24217 | lamb1 | Linux (SUSE 10.1) | x86_64 | OK | OK | |||||||||||
wellington | Linux (SUSE 9.2) | i686 | OK | OK | ||||||||||||
churchill | Solaris 2.9 | sparc | OK | OK | ||||||||||||
lemming | Windows Server 2003 (32-bit) | x64 | OK | OK | skipped | |||||||||||
Package 140/238 | Hostname | OS | Arch | BUILD | CHECK | BUILD BIN | ||||||||||
Mfuzz1.7.1Matthias FutschikLast Changed Date: 2007-04-26 11:09:02 -0700 Last Changed Rev: 24312 | lamb1 | Linux (SUSE 10.1) | x86_64 | OK | OK | |||||||||||
wellington | Linux (SUSE 9.2) | i686 | OK | OK | ||||||||||||
churchill | Solaris 2.9 | sparc | OK | OK | ||||||||||||
lemming | Windows Server 2003 (32-bit) | x64 | OK | OK | skipped | |||||||||||
Package 141/238 | Hostname | OS | Arch | BUILD | CHECK | BUILD BIN | ||||||||||
MiPP1.9.0Sukwoo KimLast Changed Date: 2007-04-24 11:31:42 -0700 Last Changed Rev: 24217 | lamb1 | Linux (SUSE 10.1) | x86_64 | OK | OK | |||||||||||
wellington | Linux (SUSE 9.2) | i686 | OK | OK | ||||||||||||
churchill | Solaris 2.9 | sparc | OK | OK | ||||||||||||
lemming | Windows Server 2003 (32-bit) | x64 | OK | OK | skipped | |||||||||||
Package 142/238 | Hostname | OS | Arch | BUILD | CHECK | BUILD BIN | ||||||||||
MLInterfaces1.11.2V. CareyLast Changed Date: 2007-05-11 21:56:41 -0700 Last Changed Rev: 24616 | lamb1 | Linux (SUSE 10.1) | x86_64 | OK | ERROR | |||||||||||
wellington | Linux (SUSE 9.2) | i686 | OK | ERROR | ||||||||||||
churchill | Solaris 2.9 | sparc | OK | ERROR | ||||||||||||
lemming | Windows Server 2003 (32-bit) | x64 | OK | ERROR | skipped | |||||||||||
Package 143/238 | Hostname | OS | Arch | BUILD | CHECK | BUILD BIN | ||||||||||
mmgmos1.7.0Xuejun LiuLast Changed Date: 2007-06-10 10:22:32 -0700 Last Changed Rev: 25301 | lamb1 | Linux (SUSE 10.1) | x86_64 | OK | ERROR | |||||||||||
wellington | Linux (SUSE 9.2) | i686 | OK | ERROR | ||||||||||||
churchill | Solaris 2.9 | sparc | OK | ERROR | ||||||||||||
lemming | Windows Server 2003 (32-bit) | x64 | OK | ERROR | skipped | |||||||||||
Package 144/238 | Hostname | OS | Arch | BUILD | CHECK | BUILD BIN | ||||||||||
multtest1.15.1Katherine S. PollardLast Changed Date: 2007-04-27 13:39:02 -0700 Last Changed Rev: 24349 | lamb1 | Linux (SUSE 10.1) | x86_64 | OK | OK | |||||||||||
wellington | Linux (SUSE 9.2) | i686 | OK | OK | ||||||||||||
churchill | Solaris 2.9 | sparc | OK | OK | ||||||||||||
lemming | Windows Server 2003 (32-bit) | x64 | OK | OK | skipped | |||||||||||
Package 145/238 | Hostname | OS | Arch | BUILD | CHECK | BUILD BIN | ||||||||||
MVCClass1.11.0Elizabeth WhalenLast Changed Date: 2007-04-24 11:31:42 -0700 Last Changed Rev: 24217 | lamb1 | Linux (SUSE 10.1) | x86_64 | OK | OK | |||||||||||
wellington | Linux (SUSE 9.2) | i686 | OK | OK | ||||||||||||
churchill | Solaris 2.9 | sparc | OK | OK | ||||||||||||
lemming | Windows Server 2003 (32-bit) | x64 | OK | OK | skipped | |||||||||||
Package 146/238 | Hostname | OS | Arch | BUILD | CHECK | BUILD BIN | ||||||||||
nem1.7.0Florian MarkowetzLast Changed Date: 2007-04-24 11:31:42 -0700 Last Changed Rev: 24217 | lamb1 | Linux (SUSE 10.1) | x86_64 | OK | OK | |||||||||||
wellington | Linux (SUSE 9.2) | i686 | OK | OK | ||||||||||||
churchill | Solaris 2.9 | sparc | OK | OK | ||||||||||||
lemming | Windows Server 2003 (32-bit) | x64 | OK | OK | skipped | |||||||||||
Package 147/238 | Hostname | OS | Arch | BUILD | CHECK | BUILD BIN | ||||||||||
nnNorm2.1.0Adi Laurentiu TarcaLast Changed Date: 2007-04-24 11:31:42 -0700 Last Changed Rev: 24217 | lamb1 | Linux (SUSE 10.1) | x86_64 | OK | OK | |||||||||||
wellington | Linux (SUSE 9.2) | i686 | OK | OK | ||||||||||||
churchill | Solaris 2.9 | sparc | OK | OK | ||||||||||||
lemming | Windows Server 2003 (32-bit) | x64 | OK | OK | skipped | |||||||||||
Package 148/238 | Hostname | OS | Arch | BUILD | CHECK | BUILD BIN | ||||||||||
nudge1.5.1N. DeanLast Changed Date: 2007-04-19 15:27:45 -0700 Last Changed Rev: 24052 | lamb1 | Linux (SUSE 10.1) | x86_64 | OK | ERROR | |||||||||||
wellington | Linux (SUSE 9.2) | i686 | OK | ERROR | ||||||||||||
churchill | Solaris 2.9 | sparc | OK | ERROR | ||||||||||||
lemming | Windows Server 2003 (32-bit) | x64 | OK | OK | skipped | |||||||||||
Package 149/238 | Hostname | OS | Arch | BUILD | CHECK | BUILD BIN | ||||||||||
occugene0.1.0Oliver WillLast Changed Date: 2006-11-16 20:17:51 -0800 Last Changed Rev: 21166 | lamb1 | Linux (SUSE 10.1) | x86_64 | OK | OK | |||||||||||
wellington | Linux (SUSE 9.2) | i686 | OK | OK | ||||||||||||
churchill | Solaris 2.9 | sparc | OK | OK | ||||||||||||
lemming | Windows Server 2003 (32-bit) | x64 | OK | OK | skipped | |||||||||||
Package 150/238 | Hostname | OS | Arch | BUILD | CHECK | BUILD BIN | ||||||||||
OCplus1.11.0Alexander PlonerLast Changed Date: 2007-04-24 11:31:42 -0700 Last Changed Rev: 24217 | lamb1 | Linux (SUSE 10.1) | x86_64 | OK | OK | |||||||||||
wellington | Linux (SUSE 9.2) | i686 | OK | OK | ||||||||||||
churchill | Solaris 2.9 | sparc | OK | OK | ||||||||||||
lemming | Windows Server 2003 (32-bit) | x64 | OK | OK | skipped | |||||||||||
Package 151/238 | Hostname | OS | Arch | BUILD | CHECK | BUILD BIN | ||||||||||
oligo1.1.1Benilton CarvalhoLast Changed Date: 2007-06-10 10:22:32 -0700 Last Changed Rev: 25301 | lamb1 | Linux (SUSE 10.1) | x86_64 | ERROR | skipped | |||||||||||
wellington | Linux (SUSE 9.2) | i686 | ERROR | skipped | ||||||||||||
churchill | Solaris 2.9 | sparc | ERROR | skipped | ||||||||||||
lemming | Windows Server 2003 (32-bit) | x64 | ERROR | skipped | skipped | |||||||||||
Package 152/238 | Hostname | OS | Arch | BUILD | CHECK | BUILD BIN | ||||||||||
OLIN1.13.0Matthias FutschikLast Changed Date: 2007-04-24 11:31:42 -0700 Last Changed Rev: 24217 | lamb1 | Linux (SUSE 10.1) | x86_64 | OK | OK | |||||||||||
wellington | Linux (SUSE 9.2) | i686 | OK | OK | ||||||||||||
churchill | Solaris 2.9 | sparc | OK | OK | ||||||||||||
lemming | Windows Server 2003 (32-bit) | x64 | OK | OK | skipped | |||||||||||
Package 153/238 | Hostname | OS | Arch | BUILD | CHECK | BUILD BIN | ||||||||||
OLINgui1.11.0Matthias FutschikLast Changed Date: 2007-04-24 11:31:42 -0700 Last Changed Rev: 24217 | lamb1 | Linux (SUSE 10.1) | x86_64 | OK | OK | |||||||||||
wellington | Linux (SUSE 9.2) | i686 | OK | OK | ||||||||||||
churchill | Solaris 2.9 | sparc | OK | OK | ||||||||||||
lemming | Windows Server 2003 (32-bit) | x64 | OK | OK | skipped | |||||||||||
Package 154/238 | Hostname | OS | Arch | BUILD | CHECK | BUILD BIN | ||||||||||
oneChannelGUI1.3.9Raffaele A CalogeroLast Changed Date: 2007-06-01 02:16:24 -0700 Last Changed Rev: 25096 | lamb1 | Linux (SUSE 10.1) | x86_64 | ERROR | skipped | |||||||||||
wellington | Linux (SUSE 9.2) | i686 | ERROR | skipped | ||||||||||||
churchill | Solaris 2.9 | sparc | TIMEOUT | skipped | ||||||||||||
lemming | Windows Server 2003 (32-bit) | x64 | OK | WARNINGS | skipped | |||||||||||
Package 155/238 | Hostname | OS | Arch | BUILD | CHECK | BUILD BIN | ||||||||||
ontoTools1.13.1Vince CareyLast Changed Date: 2007-05-11 21:56:41 -0700 Last Changed Rev: 24616 | lamb1 | Linux (SUSE 10.1) | x86_64 | OK | WARNINGS | |||||||||||
wellington | Linux (SUSE 9.2) | i686 | OK | WARNINGS | ||||||||||||
churchill | Solaris 2.9 | sparc | OK | WARNINGS | ||||||||||||
lemming | Windows Server 2003 (32-bit) | x64 | OK | WARNINGS | skipped | |||||||||||
Package 156/238 | Hostname | OS | Arch | BUILD | CHECK | BUILD BIN | ||||||||||
OrderedList1.9.0Claudio LottazLast Changed Date: 2007-05-11 21:56:41 -0700 Last Changed Rev: 24616 | lamb1 | Linux (SUSE 10.1) | x86_64 | ERROR | skipped | |||||||||||
wellington | Linux (SUSE 9.2) | i686 | ERROR | skipped | ||||||||||||
churchill | Solaris 2.9 | sparc | ERROR | skipped | ||||||||||||
lemming | Windows Server 2003 (32-bit) | x64 | ERROR | skipped | skipped | |||||||||||
Package 157/238 | Hostname | OS | Arch | BUILD | CHECK | BUILD BIN | ||||||||||
pairseqsim1.9.3Witold WolskiLast Changed Date: 2007-06-10 10:22:32 -0700 Last Changed Rev: 25301 | lamb1 | Linux (SUSE 10.1) | x86_64 | ERROR | skipped | |||||||||||
wellington | Linux (SUSE 9.2) | i686 | ERROR | skipped | ||||||||||||
churchill | Solaris 2.9 | sparc | ERROR | skipped | ||||||||||||
lemming | Windows Server 2003 (32-bit) | x64 | ERROR | skipped | skipped | |||||||||||
Package 158/238 | Hostname | OS | Arch | BUILD | CHECK | BUILD BIN | ||||||||||
pamr1.35.0Rob TibshiraniLast Changed Date: 2007-04-24 11:31:42 -0700 Last Changed Rev: 24217 | lamb1 | Linux (SUSE 10.1) | x86_64 | OK | OK | |||||||||||
wellington | Linux (SUSE 9.2) | i686 | OK | OK | ||||||||||||
churchill | Solaris 2.9 | sparc | OK | OK | ||||||||||||
lemming | Windows Server 2003 (32-bit) | x64 | OK | OK | skipped | |||||||||||
Package 159/238 | Hostname | OS | Arch | BUILD | CHECK | BUILD BIN | ||||||||||
panp1.7.0Peter WarrenLast Changed Date: 2007-04-24 11:31:42 -0700 Last Changed Rev: 24217 | lamb1 | Linux (SUSE 10.1) | x86_64 | OK | OK | |||||||||||
wellington | Linux (SUSE 9.2) | i686 | OK | OK | ||||||||||||
churchill | Solaris 2.9 | sparc | OK | OK | ||||||||||||
lemming | Windows Server 2003 (32-bit) | x64 | OK | OK | skipped | |||||||||||
Package 160/238 | Hostname | OS | Arch | BUILD | CHECK | BUILD BIN | ||||||||||
pathRender1.5.0Li LongLast Changed Date: 2007-05-11 21:56:41 -0700 Last Changed Rev: 24616 | lamb1 | Linux (SUSE 10.1) | x86_64 | OK | OK | |||||||||||
wellington | Linux (SUSE 9.2) | i686 | OK | OK | ||||||||||||
churchill | Solaris 2.9 | sparc | OK | OK | ||||||||||||
lemming | Windows Server 2003 (32-bit) | x64 | OK | OK | skipped | |||||||||||
Package 161/238 | Hostname | OS | Arch | BUILD | CHECK | BUILD BIN | ||||||||||
pcaMethods1.13.0Wolfram StackliesLast Changed Date: 2007-05-11 21:56:41 -0700 Last Changed Rev: 24616 | lamb1 | Linux (SUSE 10.1) | x86_64 | OK | OK | |||||||||||
wellington | Linux (SUSE 9.2) | i686 | OK | OK | ||||||||||||
churchill | Solaris 2.9 | sparc | OK | TIMEOUT | ||||||||||||
lemming | Windows Server 2003 (32-bit) | x64 | OK | OK | skipped | |||||||||||
Package 162/238 | Hostname | OS | Arch | BUILD | CHECK | BUILD BIN | ||||||||||
pcot21.5.0Sarah SongLast Changed Date: 2007-04-24 11:31:42 -0700 Last Changed Rev: 24217 | lamb1 | Linux (SUSE 10.1) | x86_64 | OK | OK | |||||||||||
wellington | Linux (SUSE 9.2) | i686 | OK | OK | ||||||||||||
churchill | Solaris 2.9 | sparc | OK | OK | ||||||||||||
lemming | Windows Server 2003 (32-bit) | x64 | OK | OK | skipped | |||||||||||
Package 163/238 | Hostname | OS | Arch | BUILD | CHECK | BUILD BIN | ||||||||||
pdInfoBuilder1.1.1Seth FalconLast Changed Date: 2007-06-10 10:22:32 -0700 Last Changed Rev: 25301 | lamb1 | Linux (SUSE 10.1) | x86_64 | OK | OK | |||||||||||
wellington | Linux (SUSE 9.2) | i686 | OK | OK | ||||||||||||
churchill | Solaris 2.9 | sparc | OK | OK | ||||||||||||
lemming | Windows Server 2003 (32-bit) | x64 | OK | OK | skipped | |||||||||||
Package 164/238 | Hostname | OS | Arch | BUILD | CHECK | BUILD BIN | ||||||||||
pdmclass1.9.0James W. MacDonaldLast Changed Date: 2007-04-24 11:31:42 -0700 Last Changed Rev: 24217 | lamb1 | Linux (SUSE 10.1) | x86_64 | OK | OK | |||||||||||
wellington | Linux (SUSE 9.2) | i686 | OK | OK | ||||||||||||
churchill | Solaris 2.9 | sparc | OK | OK | ||||||||||||
lemming | Windows Server 2003 (32-bit) | x64 | OK | OK | skipped | |||||||||||
Package 165/238 | Hostname | OS | Arch | BUILD | CHECK | BUILD BIN | ||||||||||
PGSEA1.3.1Karl DykemaLast Changed Date: 2007-06-01 08:10:58 -0700 Last Changed Rev: 25102 | lamb1 | Linux (SUSE 10.1) | x86_64 | OK | OK | |||||||||||
wellington | Linux (SUSE 9.2) | i686 | OK | OK | ||||||||||||
churchill | Solaris 2.9 | sparc | OK | OK | ||||||||||||
lemming | Windows Server 2003 (32-bit) | x64 | OK | OK | skipped | |||||||||||
Package 166/238 | Hostname | OS | Arch | BUILD | CHECK | BUILD BIN | ||||||||||
pgUtils1.9.0Johannes RainerLast Changed Date: 2007-04-25 16:23:45 -0700 Last Changed Rev: 24290 | lamb1 | Linux (SUSE 10.1) | x86_64 | OK | OK | |||||||||||
wellington | Linux (SUSE 9.2) | i686 | OK | OK | ||||||||||||
churchill | Solaris 2.9 | sparc | OK | OK | ||||||||||||
lemming | Windows Server 2003 (32-bit) | x64 | N O T S U P P O R T E D | |||||||||||||
Package 167/238 | Hostname | OS | Arch | BUILD | CHECK | BUILD BIN | ||||||||||
pickgene1.9.0Brian S. YandellLast Changed Date: 2007-04-24 11:31:42 -0700 Last Changed Rev: 24217 | lamb1 | Linux (SUSE 10.1) | x86_64 | OK | OK | |||||||||||
wellington | Linux (SUSE 9.2) | i686 | OK | OK | ||||||||||||
churchill | Solaris 2.9 | sparc | OK | OK | ||||||||||||
lemming | Windows Server 2003 (32-bit) | x64 | OK | OK | skipped | |||||||||||
Package 168/238 | Hostname | OS | Arch | BUILD | CHECK | BUILD BIN | ||||||||||
pkgDepTools1.3.0Seth FalconLast Changed Date: 2007-04-24 11:31:42 -0700 Last Changed Rev: 24217 | lamb1 | Linux (SUSE 10.1) | x86_64 | OK | ERROR | |||||||||||
wellington | Linux (SUSE 9.2) | i686 | OK | ERROR | ||||||||||||
churchill | Solaris 2.9 | sparc | OK | ERROR | ||||||||||||
lemming | Windows Server 2003 (32-bit) | x64 | OK | OK | skipped | |||||||||||
Package 169/238 | Hostname | OS | Arch | BUILD | CHECK | BUILD BIN | ||||||||||
plgem1.9.0Mattia PelizzolaLast Changed Date: 2007-04-24 11:31:42 -0700 Last Changed Rev: 24217 | lamb1 | Linux (SUSE 10.1) | x86_64 | ERROR | skipped | |||||||||||
wellington | Linux (SUSE 9.2) | i686 | ERROR | skipped | ||||||||||||
churchill | Solaris 2.9 | sparc | ERROR | skipped | ||||||||||||
lemming | Windows Server 2003 (32-bit) | x64 | ERROR | skipped | skipped | |||||||||||
Package 170/238 | Hostname | OS | Arch | BUILD | CHECK | BUILD BIN | ||||||||||
plier1.7.0Crispin MillerLast Changed Date: 2007-04-24 11:31:42 -0700 Last Changed Rev: 24217 | lamb1 | Linux (SUSE 10.1) | x86_64 | OK | OK | |||||||||||
wellington | Linux (SUSE 9.2) | i686 | OK | OK | ||||||||||||
churchill | Solaris 2.9 | sparc | OK | OK | ||||||||||||
lemming | Windows Server 2003 (32-bit) | x64 | OK | OK | skipped | |||||||||||
Package 171/238 | Hostname | OS | Arch | BUILD | CHECK | BUILD BIN | ||||||||||
ppiStats1.3.3Tony ChiangLast Changed Date: 2007-06-06 00:54:17 -0700 Last Changed Rev: 25213 | lamb1 | Linux (SUSE 10.1) | x86_64 | OK | WARNINGS | |||||||||||
wellington | Linux (SUSE 9.2) | i686 | OK | WARNINGS | ||||||||||||
churchill | Solaris 2.9 | sparc | OK | WARNINGS | ||||||||||||
lemming | Windows Server 2003 (32-bit) | x64 | OK | WARNINGS | skipped | |||||||||||
Package 172/238 | Hostname | OS | Arch | BUILD | CHECK | BUILD BIN | ||||||||||
prada1.13.1Florian HahneLast Changed Date: 2007-05-23 10:51:11 -0700 Last Changed Rev: 24935 | lamb1 | Linux (SUSE 10.1) | x86_64 | OK | OK | |||||||||||
wellington | Linux (SUSE 9.2) | i686 | OK | OK | ||||||||||||
churchill | Solaris 2.9 | sparc | OK | OK | ||||||||||||
lemming | Windows Server 2003 (32-bit) | x64 | OK | OK | skipped | |||||||||||
Package 173/238 | Hostname | OS | Arch | BUILD | CHECK | BUILD BIN | ||||||||||
preprocessCore0.99.7Benjamin Milo BolstadLast Changed Date: 2007-06-05 17:06:01 -0700 Last Changed Rev: 25205 | lamb1 | Linux (SUSE 10.1) | x86_64 | OK | OK | |||||||||||
wellington | Linux (SUSE 9.2) | i686 | OK | OK | ||||||||||||
churchill | Solaris 2.9 | sparc | OK | OK | ||||||||||||
lemming | Windows Server 2003 (32-bit) | x64 | OK | OK | skipped | |||||||||||
Package 174/238 | Hostname | OS | Arch | BUILD | CHECK | BUILD BIN | ||||||||||
prism0.1.1Raphael GottardoLast Changed Date: 2007-05-11 21:56:41 -0700 Last Changed Rev: 24616 | lamb1 | Linux (SUSE 10.1) | x86_64 | OK | WARNINGS | |||||||||||
wellington | Linux (SUSE 9.2) | i686 | ERROR | skipped | ||||||||||||
churchill | Solaris 2.9 | sparc | OK | WARNINGS | ||||||||||||
lemming | Windows Server 2003 (32-bit) | x64 | N O T S U P P O R T E D | |||||||||||||
Package 175/238 | Hostname | OS | Arch | BUILD | CHECK | BUILD BIN | ||||||||||
PROcess1.13.0Xiaochun LiLast Changed Date: 2007-05-11 21:56:41 -0700 Last Changed Rev: 24616 | lamb1 | Linux (SUSE 10.1) | x86_64 | OK | OK | |||||||||||
wellington | Linux (SUSE 9.2) | i686 | OK | OK | ||||||||||||
churchill | Solaris 2.9 | sparc | OK | OK | ||||||||||||
lemming | Windows Server 2003 (32-bit) | x64 | OK | OK | skipped | |||||||||||
Package 176/238 | Hostname | OS | Arch | BUILD | CHECK | BUILD BIN | ||||||||||
puma1.3.0Richard PearsonLast Changed Date: 2007-06-10 10:22:32 -0700 Last Changed Rev: 25301 | lamb1 | Linux (SUSE 10.1) | x86_64 | OK | OK | |||||||||||
wellington | Linux (SUSE 9.2) | i686 | OK | OK | ||||||||||||
churchill | Solaris 2.9 | sparc | OK | OK | ||||||||||||
lemming | Windows Server 2003 (32-bit) | x64 | OK | ERROR | skipped | |||||||||||
Package 177/238 | Hostname | OS | Arch | BUILD | CHECK | BUILD BIN | ||||||||||
quantsmooth1.3.0Jan OostingLast Changed Date: 2007-04-24 11:31:42 -0700 Last Changed Rev: 24217 | lamb1 | Linux (SUSE 10.1) | x86_64 | OK | OK | |||||||||||
wellington | Linux (SUSE 9.2) | i686 | OK | OK | ||||||||||||
churchill | Solaris 2.9 | sparc | OK | OK | ||||||||||||
lemming | Windows Server 2003 (32-bit) | x64 | OK | OK | skipped | |||||||||||
Package 178/238 | Hostname | OS | Arch | BUILD | CHECK | BUILD BIN | ||||||||||
qvalue1.11.0John D. StoreyLast Changed Date: 2007-04-24 11:31:42 -0700 Last Changed Rev: 24217 | lamb1 | Linux (SUSE 10.1) | x86_64 | OK | OK | |||||||||||
wellington | Linux (SUSE 9.2) | i686 | OK | OK | ||||||||||||
churchill | Solaris 2.9 | sparc | OK | OK | ||||||||||||
lemming | Windows Server 2003 (32-bit) | x64 | OK | OK | skipped | |||||||||||
Package 179/238 | Hostname | OS | Arch | BUILD | CHECK | BUILD BIN | ||||||||||
rama1.9.0Raphael GottardoLast Changed Date: 2007-04-24 11:31:42 -0700 Last Changed Rev: 24217 | lamb1 | Linux (SUSE 10.1) | x86_64 | OK | OK | |||||||||||
wellington | Linux (SUSE 9.2) | i686 | OK | OK | ||||||||||||
churchill | Solaris 2.9 | sparc | OK | OK | ||||||||||||
lemming | Windows Server 2003 (32-bit) | x64 | OK | ERROR | skipped | |||||||||||
Package 180/238 | Hostname | OS | Arch | BUILD | CHECK | BUILD BIN | ||||||||||
RankProd2.9.0Fangxin HongLast Changed Date: 2007-04-24 11:31:42 -0700 Last Changed Rev: 24217 | lamb1 | Linux (SUSE 10.1) | x86_64 | OK | OK | |||||||||||
wellington | Linux (SUSE 9.2) | i686 | OK | OK | ||||||||||||
churchill | Solaris 2.9 | sparc | OK | OK | ||||||||||||
lemming | Windows Server 2003 (32-bit) | x64 | OK | ERROR | skipped | |||||||||||
Package 181/238 | Hostname | OS | Arch | BUILD | CHECK | BUILD BIN | ||||||||||
RbcBook11.5.0Vince CareyLast Changed Date: 2007-05-11 21:56:41 -0700 Last Changed Rev: 24616 | lamb1 | Linux (SUSE 10.1) | x86_64 | OK | OK | |||||||||||
wellington | Linux (SUSE 9.2) | i686 | OK | OK | ||||||||||||
churchill | Solaris 2.9 | sparc | OK | OK | ||||||||||||
lemming | Windows Server 2003 (32-bit) | x64 | OK | skipped | skipped | |||||||||||
Package 182/238 | Hostname | OS | Arch | BUILD | CHECK | BUILD BIN | ||||||||||
RBGL1.13.3Li LongLast Changed Date: 2007-06-07 02:58:29 -0700 Last Changed Rev: 25244 | lamb1 | Linux (SUSE 10.1) | x86_64 | OK | OK | |||||||||||
wellington | Linux (SUSE 9.2) | i686 | OK | OK | ||||||||||||
churchill | Solaris 2.9 | sparc | ERROR | skipped | ||||||||||||
lemming | Windows Server 2003 (32-bit) | x64 | OK | skipped | skipped | |||||||||||
Package 183/238 | Hostname | OS | Arch | BUILD | CHECK | BUILD BIN | ||||||||||
rbsurv1.3.0Sukwoo KimLast Changed Date: 2007-04-24 11:31:42 -0700 Last Changed Rev: 24217 | lamb1 | Linux (SUSE 10.1) | x86_64 | OK | OK | |||||||||||
wellington | Linux (SUSE 9.2) | i686 | OK | OK | ||||||||||||
churchill | Solaris 2.9 | sparc | OK | OK | ||||||||||||
lemming | Windows Server 2003 (32-bit) | x64 | OK | skipped | skipped | |||||||||||
Package 184/238 | Hostname | OS | Arch | BUILD | CHECK | BUILD BIN | ||||||||||
Rdbi1.11.0Jianhua ZhangLast Changed Date: 2007-04-24 11:31:42 -0700 Last Changed Rev: 24217 | lamb1 | Linux (SUSE 10.1) | x86_64 | OK | OK | |||||||||||
wellington | Linux (SUSE 9.2) | i686 | OK | OK | ||||||||||||
churchill | Solaris 2.9 | sparc | OK | OK | ||||||||||||
lemming | Windows Server 2003 (32-bit) | x64 | OK | skipped | skipped | |||||||||||
Package 185/238 | Hostname | OS | Arch | BUILD | CHECK | BUILD BIN | ||||||||||
RdbiPgSQL1.11.0Jianhua ZhangLast Changed Date: 2007-06-10 10:22:32 -0700 Last Changed Rev: 25301 | lamb1 | Linux (SUSE 10.1) | x86_64 | OK | OK | |||||||||||
wellington | Linux (SUSE 9.2) | i686 | OK | OK | ||||||||||||
churchill | Solaris 2.9 | sparc | OK | OK | ||||||||||||
lemming | Windows Server 2003 (32-bit) | x64 | N O T S U P P O R T E D | |||||||||||||
Package 186/238 | Hostname | OS | Arch | BUILD | CHECK | BUILD BIN | ||||||||||
reb1.11.1Karl J. DykemaLast Changed Date: 2007-05-02 10:47:55 -0700 Last Changed Rev: 24449 | lamb1 | Linux (SUSE 10.1) | x86_64 | OK | WARNINGS | |||||||||||
wellington | Linux (SUSE 9.2) | i686 | OK | WARNINGS | ||||||||||||
churchill | Solaris 2.9 | sparc | OK | WARNINGS | ||||||||||||
lemming | Windows Server 2003 (32-bit) | x64 | OK | skipped | skipped | |||||||||||
Package 187/238 | Hostname | OS | Arch | BUILD | CHECK | BUILD BIN | ||||||||||
RefPlus1.5.0Kai-Ming ChangLast Changed Date: 2007-04-24 11:31:42 -0700 Last Changed Rev: 24217 | lamb1 | Linux (SUSE 10.1) | x86_64 | OK | OK | |||||||||||
wellington | Linux (SUSE 9.2) | i686 | OK | OK | ||||||||||||
churchill | Solaris 2.9 | sparc | OK | OK | ||||||||||||
lemming | Windows Server 2003 (32-bit) | x64 | ERROR | skipped | skipped | |||||||||||
Package 188/238 | Hostname | OS | Arch | BUILD | CHECK | BUILD BIN | ||||||||||
Resourcerer1.11.0Jianhua ZhangLast Changed Date: 2007-04-24 11:31:42 -0700 Last Changed Rev: 24217 | lamb1 | Linux (SUSE 10.1) | x86_64 | OK | OK | |||||||||||
wellington | Linux (SUSE 9.2) | i686 | OK | OK | ||||||||||||
churchill | Solaris 2.9 | sparc | ERROR | skipped | ||||||||||||
lemming | Windows Server 2003 (32-bit) | x64 | OK | skipped | skipped | |||||||||||
Package 189/238 | Hostname | OS | Arch | BUILD | CHECK | BUILD BIN | ||||||||||
rflowcyt1.9.1N. LeMeurLast Changed Date: 2007-05-15 20:29:38 -0700 Last Changed Rev: 24690 | lamb1 | Linux (SUSE 10.1) | x86_64 | ERROR | skipped | |||||||||||
wellington | Linux (SUSE 9.2) | i686 | OK | WARNINGS | ||||||||||||
churchill | Solaris 2.9 | sparc | OK | WARNINGS | ||||||||||||
lemming | Windows Server 2003 (32-bit) | x64 | OK | skipped | skipped | |||||||||||
Package 190/238 | Hostname | OS | Arch | BUILD | CHECK | BUILD BIN | ||||||||||
Rgraphviz1.15.4Li LongLast Changed Date: 2007-06-10 10:22:32 -0700 Last Changed Rev: 25301 | lamb1 | Linux (SUSE 10.1) | x86_64 | OK | OK | |||||||||||
wellington | Linux (SUSE 9.2) | i686 | OK | OK | ||||||||||||
churchill | Solaris 2.9 | sparc | ERROR | skipped | ||||||||||||
lemming | Windows Server 2003 (32-bit) | x64 | OK | skipped | skipped | |||||||||||
Package 191/238 | Hostname | OS | Arch | BUILD | CHECK | BUILD BIN | ||||||||||
rhdf51.7.1Biocore TeamLast Changed Date: 2007-06-10 10:22:32 -0700 Last Changed Rev: 25301 | lamb1 | Linux (SUSE 10.1) | x86_64 | ERROR | skipped | |||||||||||
wellington | Linux (SUSE 9.2) | i686 | ERROR | skipped | ||||||||||||
churchill | Solaris 2.9 | sparc | ERROR | skipped | ||||||||||||
lemming | Windows Server 2003 (32-bit) | x64 | ERROR | skipped | skipped | |||||||||||
Package 192/238 | Hostname | OS | Arch | BUILD | CHECK | BUILD BIN | ||||||||||
rHVDM1.3.0Martino BarencoLast Changed Date: 2007-04-24 11:31:42 -0700 Last Changed Rev: 24217 | lamb1 | Linux (SUSE 10.1) | x86_64 | OK | OK | |||||||||||
wellington | Linux (SUSE 9.2) | i686 | OK | OK | ||||||||||||
churchill | Solaris 2.9 | sparc | OK | OK | ||||||||||||
lemming | Windows Server 2003 (32-bit) | x64 | OK | skipped | skipped | |||||||||||
Package 193/238 | Hostname | OS | Arch | BUILD | CHECK | BUILD BIN | ||||||||||
Ringo1.1.5J. ToedlingLast Changed Date: 2007-05-18 02:54:36 -0700 Last Changed Rev: 24797 | lamb1 | Linux (SUSE 10.1) | x86_64 | OK | OK | |||||||||||
wellington | Linux (SUSE 9.2) | i686 | OK | OK | ||||||||||||
churchill | Solaris 2.9 | sparc | OK | OK | ||||||||||||
lemming | Windows Server 2003 (32-bit) | x64 | OK | skipped | skipped | |||||||||||
Package 194/238 | Hostname | OS | Arch | BUILD | CHECK | BUILD BIN | ||||||||||
RLMM0.11.0Nusrat RabbeeLast Changed Date: 2007-01-09 17:06:56 -0800 Last Changed Rev: 21912 | lamb1 | Linux (SUSE 10.1) | x86_64 | OK | OK | |||||||||||
wellington | Linux (SUSE 9.2) | i686 | OK | OK | ||||||||||||
churchill | Solaris 2.9 | sparc | OK | OK | ||||||||||||
lemming | Windows Server 2003 (32-bit) | x64 | OK | skipped | skipped | |||||||||||
Package 195/238 | Hostname | OS | Arch | BUILD | CHECK | BUILD BIN | ||||||||||
RMAGEML2.11.1Steffen DurinckLast Changed Date: 2007-06-10 10:22:32 -0700 Last Changed Rev: 25301 | lamb1 | Linux (SUSE 10.1) | x86_64 | OK | OK | |||||||||||
wellington | Linux (SUSE 9.2) | i686 | OK | OK | ||||||||||||
churchill | Solaris 2.9 | sparc | ERROR | skipped | ||||||||||||
lemming | Windows Server 2003 (32-bit) | x64 | ERROR | skipped | skipped | |||||||||||
Package 196/238 | Hostname | OS | Arch | BUILD | CHECK | BUILD BIN | ||||||||||
RMAPPER1.7.0VJ CareyLast Changed Date: 2007-04-24 11:31:42 -0700 Last Changed Rev: 24217 | lamb1 | Linux (SUSE 10.1) | x86_64 | OK | ERROR | |||||||||||
wellington | Linux (SUSE 9.2) | i686 | OK | ERROR | ||||||||||||
churchill | Solaris 2.9 | sparc | OK | ERROR | ||||||||||||
lemming | Windows Server 2003 (32-bit) | x64 | OK | skipped | skipped | |||||||||||
Package 197/238 | Hostname | OS | Arch | BUILD | CHECK | BUILD BIN | ||||||||||
ROC1.11.0Vince CareyLast Changed Date: 2007-05-11 21:56:41 -0700 Last Changed Rev: 24616 | lamb1 | Linux (SUSE 10.1) | x86_64 | OK | OK | |||||||||||
wellington | Linux (SUSE 9.2) | i686 | OK | OK | ||||||||||||
churchill | Solaris 2.9 | sparc | OK | OK | ||||||||||||
lemming | Windows Server 2003 (32-bit) | x64 | OK | skipped | skipped | |||||||||||
Package 198/238 | Hostname | OS | Arch | BUILD | CHECK | BUILD BIN | ||||||||||
RPostgreSQL0.0.0M. DalphinLast Changed Date: 2007-01-08 18:28:57 -0800 Last Changed Rev: 21881 | lamb1 | Linux (SUSE 10.1) | x86_64 | OK | WARNINGS | |||||||||||
wellington | Linux (SUSE 9.2) | i686 | OK | WARNINGS | ||||||||||||
churchill | Solaris 2.9 | sparc | OK | WARNINGS | ||||||||||||
lemming | Windows Server 2003 (32-bit) | x64 | OK | skipped | skipped | |||||||||||
Package 199/238 | Hostname | OS | Arch | BUILD | CHECK | BUILD BIN | ||||||||||
Rredland1.5.1VJ CareyLast Changed Date: 2007-06-10 10:22:32 -0700 Last Changed Rev: 25301 | lamb1 | Linux (SUSE 10.1) | x86_64 | OK | OK | |||||||||||
wellington | Linux (SUSE 9.2) | i686 | OK | ERROR | ||||||||||||
churchill | Solaris 2.9 | sparc | ERROR | skipped | ||||||||||||
lemming | Windows Server 2003 (32-bit) | x64 | N O T S U P P O R T E D | |||||||||||||
Package 200/238 | Hostname | OS | Arch | BUILD | CHECK | BUILD BIN | ||||||||||
RSNPper1.11.0VJ CareyLast Changed Date: 2007-04-24 11:31:42 -0700 Last Changed Rev: 24217 | lamb1 | Linux (SUSE 10.1) | x86_64 | OK | OK | |||||||||||
wellington | Linux (SUSE 9.2) | i686 | OK | OK | ||||||||||||
churchill | Solaris 2.9 | sparc | ERROR | skipped | ||||||||||||
lemming | Windows Server 2003 (32-bit) | x64 | OK | skipped | skipped | |||||||||||
Package 201/238 | Hostname | OS | Arch | BUILD | CHECK | BUILD BIN | ||||||||||
Ruuid1.15.1Biocore TeamLast Changed Date: 2007-06-04 14:15:19 -0700 Last Changed Rev: 25161 | lamb1 | Linux (SUSE 10.1) | x86_64 | OK | WARNINGS | |||||||||||
wellington | Linux (SUSE 9.2) | i686 | OK | WARNINGS | ||||||||||||
churchill | Solaris 2.9 | sparc | OK | WARNINGS | ||||||||||||
lemming | Windows Server 2003 (32-bit) | x64 | OK | skipped | skipped | |||||||||||
Package 202/238 | Hostname | OS | Arch | BUILD | CHECK | BUILD BIN | ||||||||||
RWebServices1.1.2Biocore TeamLast Changed Date: 2007-05-16 17:26:02 -0700 Last Changed Rev: 24729 | lamb1 | Linux (SUSE 10.1) | x86_64 | OK | OK | |||||||||||
wellington | Linux (SUSE 9.2) | i686 | OK | OK | ||||||||||||
churchill | Solaris 2.9 | sparc | ERROR | skipped | ||||||||||||
lemming | Windows Server 2003 (32-bit) | x64 | ERROR | skipped | skipped | |||||||||||
Package 203/238 | Hostname | OS | Arch | BUILD | CHECK | BUILD BIN | ||||||||||
safe1.9.0William T. BarryLast Changed Date: 2007-04-24 11:31:42 -0700 Last Changed Rev: 24217 | lamb1 | Linux (SUSE 10.1) | x86_64 | OK | OK | |||||||||||
wellington | Linux (SUSE 9.2) | i686 | OK | OK | ||||||||||||
churchill | Solaris 2.9 | sparc | OK | OK | ||||||||||||
lemming | Windows Server 2003 (32-bit) | x64 | OK | skipped | skipped | |||||||||||
Package 204/238 | Hostname | OS | Arch | BUILD | CHECK | BUILD BIN | ||||||||||
SAGElyzer1.15.0Jianhua ZhangLast Changed Date: 2007-04-24 11:31:42 -0700 Last Changed Rev: 24217 | lamb1 | Linux (SUSE 10.1) | x86_64 | OK | WARNINGS | |||||||||||
wellington | Linux (SUSE 9.2) | i686 | OK | WARNINGS | ||||||||||||
churchill | Solaris 2.9 | sparc | ERROR | skipped | ||||||||||||
lemming | Windows Server 2003 (32-bit) | x64 | OK | skipped | skipped | |||||||||||
Package 205/238 | Hostname | OS | Arch | BUILD | CHECK | BUILD BIN | ||||||||||
sagenhaft1.7.2Tim BeissbarthLast Changed Date: 2007-04-18 03:03:37 -0700 Last Changed Rev: 23979 | lamb1 | Linux (SUSE 10.1) | x86_64 | ERROR | skipped | |||||||||||
wellington | Linux (SUSE 9.2) | i686 | ERROR | skipped | ||||||||||||
churchill | Solaris 2.9 | sparc | ERROR | skipped | ||||||||||||
lemming | Windows Server 2003 (32-bit) | x64 | ERROR | skipped | skipped | |||||||||||
Package 206/238 | Hostname | OS | Arch | BUILD | CHECK | BUILD BIN | ||||||||||
SAGx1.11.3Per BrobergLast Changed Date: 2007-05-28 11:47:25 -0700 Last Changed Rev: 25010 | lamb1 | Linux (SUSE 10.1) | x86_64 | OK | OK | |||||||||||
wellington | Linux (SUSE 9.2) | i686 | OK | OK | ||||||||||||
churchill | Solaris 2.9 | sparc | OK | OK | ||||||||||||
lemming | Windows Server 2003 (32-bit) | x64 | OK | skipped | skipped | |||||||||||
Package 207/238 | Hostname | OS | Arch | BUILD | CHECK | BUILD BIN | ||||||||||
SBMLR1.31.0Tomas RadivoyevitchLast Changed Date: 2007-04-24 11:31:42 -0700 Last Changed Rev: 24217 | lamb1 | Linux (SUSE 10.1) | x86_64 | OK | WARNINGS | |||||||||||
wellington | Linux (SUSE 9.2) | i686 | OK | WARNINGS | ||||||||||||
churchill | Solaris 2.9 | sparc | OK | ERROR | ||||||||||||
lemming | Windows Server 2003 (32-bit) | x64 | OK | skipped | skipped | |||||||||||
Package 208/238 | Hostname | OS | Arch | BUILD | CHECK | BUILD BIN | ||||||||||
ScISI1.9.6Tony ChiangLast Changed Date: 2007-05-25 00:51:26 -0700 Last Changed Rev: 24981 | lamb1 | Linux (SUSE 10.1) | x86_64 | ERROR | skipped | |||||||||||
wellington | Linux (SUSE 9.2) | i686 | ERROR | skipped | ||||||||||||
churchill | Solaris 2.9 | sparc | ERROR | skipped | ||||||||||||
lemming | Windows Server 2003 (32-bit) | x64 | ERROR | skipped | skipped | |||||||||||
Package 209/238 | Hostname | OS | Arch | BUILD | CHECK | BUILD BIN | ||||||||||
SemSim1.3.0Xiang GuoLast Changed Date: 2007-04-24 11:31:42 -0700 Last Changed Rev: 24217 | lamb1 | Linux (SUSE 10.1) | x86_64 | OK | OK | |||||||||||
wellington | Linux (SUSE 9.2) | i686 | OK | OK | ||||||||||||
churchill | Solaris 2.9 | sparc | OK | OK | ||||||||||||
lemming | Windows Server 2003 (32-bit) | x64 | OK | skipped | skipped | |||||||||||
Package 210/238 | Hostname | OS | Arch | BUILD | CHECK | BUILD BIN | ||||||||||
seqLogo1.3.0Oliver BembomLast Changed Date: 2007-04-24 11:31:42 -0700 Last Changed Rev: 24217 | lamb1 | Linux (SUSE 10.1) | x86_64 | OK | OK | |||||||||||
wellington | Linux (SUSE 9.2) | i686 | OK | OK | ||||||||||||
churchill | Solaris 2.9 | sparc | OK | OK | ||||||||||||
lemming | Windows Server 2003 (32-bit) | x64 | OK | skipped | skipped | |||||||||||
Package 211/238 | Hostname | OS | Arch | BUILD | CHECK | BUILD BIN | ||||||||||
siggenes1.11.4Holger SchwenderLast Changed Date: 2007-05-24 08:22:18 -0700 Last Changed Rev: 24955 | lamb1 | Linux (SUSE 10.1) | x86_64 | OK | OK | |||||||||||
wellington | Linux (SUSE 9.2) | i686 | OK | OK | ||||||||||||
churchill | Solaris 2.9 | sparc | OK | OK | ||||||||||||
lemming | Windows Server 2003 (32-bit) | x64 | OK | skipped | skipped | |||||||||||
Package 212/238 | Hostname | OS | Arch | BUILD | CHECK | BUILD BIN | ||||||||||
sigPathway1.5.0Weil LaiLast Changed Date: 2007-04-24 11:31:42 -0700 Last Changed Rev: 24217 | lamb1 | Linux (SUSE 10.1) | x86_64 | OK | OK | |||||||||||
wellington | Linux (SUSE 9.2) | i686 | OK | OK | ||||||||||||
churchill | Solaris 2.9 | sparc | OK | OK | ||||||||||||
lemming | Windows Server 2003 (32-bit) | x64 | OK | skipped | skipped | |||||||||||
Package 213/238 | Hostname | OS | Arch | BUILD | CHECK | BUILD BIN | ||||||||||
simpleaffy2.11.21Crispin MillerLast Changed Date: 2007-05-23 04:33:33 -0700 Last Changed Rev: 24927 | lamb1 | Linux (SUSE 10.1) | x86_64 | OK | OK | |||||||||||
wellington | Linux (SUSE 9.2) | i686 | OK | OK | ||||||||||||
churchill | Solaris 2.9 | sparc | OK | OK | ||||||||||||
lemming | Windows Server 2003 (32-bit) | x64 | OK | skipped | skipped | |||||||||||
Package 214/238 | Hostname | OS | Arch | BUILD | CHECK | BUILD BIN | ||||||||||
simulatorAPMS1.9.0Tony ChiangLast Changed Date: 2007-04-24 11:31:42 -0700 Last Changed Rev: 24217 | lamb1 | Linux (SUSE 10.1) | x86_64 | ERROR | skipped | |||||||||||
wellington | Linux (SUSE 9.2) | i686 | ERROR | skipped | ||||||||||||
churchill | Solaris 2.9 | sparc | ERROR | skipped | ||||||||||||
lemming | Windows Server 2003 (32-bit) | x64 | ERROR | skipped | skipped | |||||||||||
Package 215/238 | Hostname | OS | Arch | BUILD | CHECK | BUILD BIN | ||||||||||
sizepower1.7.0Weiliang QiuLast Changed Date: 2007-04-24 11:31:42 -0700 Last Changed Rev: 24217 | lamb1 | Linux (SUSE 10.1) | x86_64 | OK | OK | |||||||||||
wellington | Linux (SUSE 9.2) | i686 | OK | OK | ||||||||||||
churchill | Solaris 2.9 | sparc | OK | OK | ||||||||||||
lemming | Windows Server 2003 (32-bit) | x64 | OK | skipped | skipped | |||||||||||
Package 216/238 | Hostname | OS | Arch | BUILD | CHECK | BUILD BIN | ||||||||||
SLqPCR1.3.0Matthias KohlLast Changed Date: 2007-04-24 11:31:42 -0700 Last Changed Rev: 24217 | lamb1 | Linux (SUSE 10.1) | x86_64 | OK | OK | |||||||||||
wellington | Linux (SUSE 9.2) | i686 | OK | OK | ||||||||||||
churchill | Solaris 2.9 | sparc | OK | OK | ||||||||||||
lemming | Windows Server 2003 (32-bit) | x64 | OK | skipped | skipped | |||||||||||
Package 217/238 | Hostname | OS | Arch | BUILD | CHECK | BUILD BIN | ||||||||||
snapCGH1.5.0John MarioniLast Changed Date: 2007-04-24 11:31:42 -0700 Last Changed Rev: 24217 | lamb1 | Linux (SUSE 10.1) | x86_64 | OK | OK | |||||||||||
wellington | Linux (SUSE 9.2) | i686 | OK | OK | ||||||||||||
churchill | Solaris 2.9 | sparc | OK | OK | ||||||||||||
lemming | Windows Server 2003 (32-bit) | x64 | OK | skipped | skipped | |||||||||||
Package 218/238 | Hostname | OS | Arch | BUILD | CHECK | BUILD BIN | ||||||||||
SNPchip1.1.0Robert ScharpfLast Changed Date: 2007-05-11 21:56:41 -0700 Last Changed Rev: 24616 | lamb1 | Linux (SUSE 10.1) | x86_64 | OK | OK | |||||||||||
wellington | Linux (SUSE 9.2) | i686 | OK | OK | ||||||||||||
churchill | Solaris 2.9 | sparc | OK | OK | ||||||||||||
lemming | Windows Server 2003 (32-bit) | x64 | OK | skipped | skipped | |||||||||||
Package 219/238 | Hostname | OS | Arch | BUILD | CHECK | BUILD BIN | ||||||||||
spikeLI1.5.0Enrico CarlonLast Changed Date: 2007-04-24 11:31:42 -0700 Last Changed Rev: 24217 | lamb1 | Linux (SUSE 10.1) | x86_64 | OK | OK | |||||||||||
wellington | Linux (SUSE 9.2) | i686 | OK | OK | ||||||||||||
churchill | Solaris 2.9 | sparc | OK | OK | ||||||||||||
lemming | Windows Server 2003 (32-bit) | x64 | OK | skipped | skipped | |||||||||||
Package 220/238 | Hostname | OS | Arch | BUILD | CHECK | BUILD BIN | ||||||||||
splicegear1.9.0LaurentLast Changed Date: 2007-05-11 21:56:41 -0700 Last Changed Rev: 24616 | lamb1 | Linux (SUSE 10.1) | x86_64 | OK | WARNINGS | |||||||||||
wellington | Linux (SUSE 9.2) | i686 | OK | WARNINGS | ||||||||||||
churchill | Solaris 2.9 | sparc | ERROR | skipped | ||||||||||||
lemming | Windows Server 2003 (32-bit) | x64 | OK | skipped | skipped | |||||||||||
Package 221/238 | Hostname | OS | Arch | BUILD | CHECK | BUILD BIN | ||||||||||
splots1.3.0Oleg SklyarLast Changed Date: 2007-05-11 21:56:41 -0700 Last Changed Rev: 24616 | lamb1 | Linux (SUSE 10.1) | x86_64 | OK | OK | |||||||||||
wellington | Linux (SUSE 9.2) | i686 | OK | OK | ||||||||||||
churchill | Solaris 2.9 | sparc | OK | OK | ||||||||||||
lemming | Windows Server 2003 (32-bit) | x64 | OK | skipped | skipped | |||||||||||
Package 222/238 | Hostname | OS | Arch | BUILD | CHECK | BUILD BIN | ||||||||||
spotSegmentation1.11.0Chris FraleyLast Changed Date: 2007-04-24 11:31:42 -0700 Last Changed Rev: 24217 | lamb1 | Linux (SUSE 10.1) | x86_64 | OK | OK | |||||||||||
wellington | Linux (SUSE 9.2) | i686 | OK | OK | ||||||||||||
churchill | Solaris 2.9 | sparc | OK | OK | ||||||||||||
lemming | Windows Server 2003 (32-bit) | x64 | OK | skipped | skipped | |||||||||||
Package 223/238 | Hostname | OS | Arch | BUILD | CHECK | BUILD BIN | ||||||||||
sscore1.9.0Richard KennedyLast Changed Date: 2007-04-24 11:31:42 -0700 Last Changed Rev: 24217 | lamb1 | Linux (SUSE 10.1) | x86_64 | OK | OK | |||||||||||
wellington | Linux (SUSE 9.2) | i686 | OK | OK | ||||||||||||
churchill | Solaris 2.9 | sparc | OK | OK | ||||||||||||
lemming | Windows Server 2003 (32-bit) | x64 | OK | skipped | skipped | |||||||||||
Package 224/238 | Hostname | OS | Arch | BUILD | CHECK | BUILD BIN | ||||||||||
ssize1.9.0Gregory R. WarnesLast Changed Date: 2007-04-24 11:31:42 -0700 Last Changed Rev: 24217 | lamb1 | Linux (SUSE 10.1) | x86_64 | OK | OK | |||||||||||
wellington | Linux (SUSE 9.2) | i686 | OK | OK | ||||||||||||
churchill | Solaris 2.9 | sparc | OK | OK | ||||||||||||
lemming | Windows Server 2003 (32-bit) | x64 | OK | skipped | skipped | |||||||||||
Package 225/238 | Hostname | OS | Arch | BUILD | CHECK | BUILD BIN | ||||||||||
stam1.7.0Claudio LottazLast Changed Date: 2007-05-11 21:56:41 -0700 Last Changed Rev: 24616 | lamb1 | Linux (SUSE 10.1) | x86_64 | ERROR | skipped | |||||||||||
wellington | Linux (SUSE 9.2) | i686 | ERROR | skipped | ||||||||||||
churchill | Solaris 2.9 | sparc | ERROR | skipped | ||||||||||||
lemming | Windows Server 2003 (32-bit) | x64 | ERROR | skipped | skipped | |||||||||||
Package 226/238 | Hostname | OS | Arch | BUILD | CHECK | BUILD BIN | ||||||||||
stepNorm1.9.0Yuanyuan XiaoLast Changed Date: 2007-04-24 11:31:42 -0700 Last Changed Rev: 24217 | lamb1 | Linux (SUSE 10.1) | x86_64 | OK | OK | |||||||||||
wellington | Linux (SUSE 9.2) | i686 | OK | OK | ||||||||||||
churchill | Solaris 2.9 | sparc | OK | OK | ||||||||||||
lemming | Windows Server 2003 (32-bit) | x64 | OK | skipped | skipped | |||||||||||
Package 227/238 | Hostname | OS | Arch | BUILD | CHECK | BUILD BIN | ||||||||||
tilingArray1.15.1W. HuberLast Changed Date: 2007-05-31 10:08:21 -0700 Last Changed Rev: 25082 | lamb1 | Linux (SUSE 10.1) | x86_64 | OK | OK | |||||||||||
wellington | Linux (SUSE 9.2) | i686 | OK | OK | ||||||||||||
churchill | Solaris 2.9 | sparc | OK | OK | ||||||||||||
lemming | Windows Server 2003 (32-bit) | x64 | OK | skipped | skipped | |||||||||||
Package 228/238 | Hostname | OS | Arch | BUILD | CHECK | BUILD BIN | ||||||||||
timecourse1.8.1Yu Chuan TaiLast Changed Date: 2007-06-06 09:54:12 -0700 Last Changed Rev: 25228 | lamb1 | Linux (SUSE 10.1) | x86_64 | OK | OK | |||||||||||
wellington | Linux (SUSE 9.2) | i686 | OK | OK | ||||||||||||
churchill | Solaris 2.9 | sparc | OK | OK | ||||||||||||
lemming | Windows Server 2003 (32-bit) | x64 | OK | skipped | skipped | |||||||||||
Package 229/238 | Hostname | OS | Arch | BUILD | CHECK | BUILD BIN | ||||||||||
tkWidgets1.15.0J. ZhangLast Changed Date: 2007-04-24 11:31:42 -0700 Last Changed Rev: 24217 | lamb1 | Linux (SUSE 10.1) | x86_64 | OK | OK | |||||||||||
wellington | Linux (SUSE 9.2) | i686 | OK | OK | ||||||||||||
churchill | Solaris 2.9 | sparc | OK | OK | ||||||||||||
lemming | Windows Server 2003 (32-bit) | x64 | OK | skipped | skipped | |||||||||||
Package 230/238 | Hostname | OS | Arch | BUILD | CHECK | BUILD BIN | ||||||||||
topGO1.3.0Adrian AlexaLast Changed Date: 2007-04-24 11:31:42 -0700 Last Changed Rev: 24217 | lamb1 | Linux (SUSE 10.1) | x86_64 | OK | OK | |||||||||||
wellington | Linux (SUSE 9.2) | i686 | OK | OK | ||||||||||||
churchill | Solaris 2.9 | sparc | OK | OK | ||||||||||||
lemming | Windows Server 2003 (32-bit) | x64 | OK | skipped | skipped | |||||||||||
Package 231/238 | Hostname | OS | Arch | BUILD | CHECK | BUILD BIN | ||||||||||
twilight1.13.0Stefanie ScheidLast Changed Date: 2007-04-24 11:31:42 -0700 Last Changed Rev: 24217 | lamb1 | Linux (SUSE 10.1) | x86_64 | OK | OK | |||||||||||
wellington | Linux (SUSE 9.2) | i686 | OK | OK | ||||||||||||
churchill | Solaris 2.9 | sparc | OK | OK | ||||||||||||
lemming | Windows Server 2003 (32-bit) | x64 | OK | skipped | skipped | |||||||||||
Package 232/238 | Hostname | OS | Arch | BUILD | CHECK | BUILD BIN | ||||||||||
TypeInfo1.3.0Duncan Temple LangLast Changed Date: 2007-05-23 10:51:11 -0700 Last Changed Rev: 24935 | lamb1 | Linux (SUSE 10.1) | x86_64 | OK | OK | |||||||||||
wellington | Linux (SUSE 9.2) | i686 | OK | OK | ||||||||||||
churchill | Solaris 2.9 | sparc | OK | OK | ||||||||||||
lemming | Windows Server 2003 (32-bit) | x64 | OK | skipped | skipped | |||||||||||
Package 233/238 | Hostname | OS | Arch | BUILD | CHECK | BUILD BIN | ||||||||||
vsn2.3.5Wolfgang HuberLast Changed Date: 2007-06-03 10:27:45 -0700 Last Changed Rev: 25136 | lamb1 | Linux (SUSE 10.1) | x86_64 | OK | OK | |||||||||||
wellington | Linux (SUSE 9.2) | i686 | OK | OK | ||||||||||||
churchill | Solaris 2.9 | sparc | OK | OK | ||||||||||||
lemming | Windows Server 2003 (32-bit) | x64 | OK | skipped | skipped | |||||||||||
Package 234/238 | Hostname | OS | Arch | BUILD | CHECK | BUILD BIN | ||||||||||
weaver1.3.0Seth FalconLast Changed Date: 2007-04-24 11:31:42 -0700 Last Changed Rev: 24217 | lamb1 | Linux (SUSE 10.1) | x86_64 | OK | OK | |||||||||||
wellington | Linux (SUSE 9.2) | i686 | OK | OK | ||||||||||||
churchill | Solaris 2.9 | sparc | OK | OK | ||||||||||||
lemming | Windows Server 2003 (32-bit) | x64 | OK | skipped | skipped | |||||||||||
Package 235/238 | Hostname | OS | Arch | BUILD | CHECK | BUILD BIN | ||||||||||
webbioc1.9.0Colin A. SmithLast Changed Date: 2007-05-11 21:56:41 -0700 Last Changed Rev: 24616 | lamb1 | Linux (SUSE 10.1) | x86_64 | OK | OK | |||||||||||
wellington | Linux (SUSE 9.2) | i686 | OK | OK | ||||||||||||
churchill | Solaris 2.9 | sparc | OK | OK | ||||||||||||
lemming | Windows Server 2003 (32-bit) | x64 | OK | skipped | skipped | |||||||||||
Package 236/238 | Hostname | OS | Arch | BUILD | CHECK | BUILD BIN | ||||||||||
widgetInvoke1.9.1Jeff GentryLast Changed Date: 2007-05-11 21:56:41 -0700 Last Changed Rev: 24616 | lamb1 | Linux (SUSE 10.1) | x86_64 | OK | OK | |||||||||||
wellington | Linux (SUSE 9.2) | i686 | OK | OK | ||||||||||||
churchill | Solaris 2.9 | sparc | ERROR | skipped | ||||||||||||
lemming | Windows Server 2003 (32-bit) | x64 | N O T S U P P O R T E D | |||||||||||||
Package 237/238 | Hostname | OS | Arch | BUILD | CHECK | BUILD BIN | ||||||||||
widgetTools1.13.1Jianhua ZhangLast Changed Date: 2007-05-15 20:37:53 -0700 Last Changed Rev: 24694 | lamb1 | Linux (SUSE 10.1) | x86_64 | OK | OK | |||||||||||
wellington | Linux (SUSE 9.2) | i686 | OK | OK | ||||||||||||
churchill | Solaris 2.9 | sparc | OK | OK | ||||||||||||
lemming | Windows Server 2003 (32-bit) | x64 | OK | skipped | skipped | |||||||||||
Package 238/238 | Hostname | OS | Arch | BUILD | CHECK | BUILD BIN | ||||||||||
xcms1.9.2Colin A. SmithLast Changed Date: 2007-05-29 02:19:58 -0700 Last Changed Rev: 25012 | lamb1 | Linux (SUSE 10.1) | x86_64 | OK | OK | |||||||||||
wellington | Linux (SUSE 9.2) | i686 | OK | ERROR | ||||||||||||
churchill | Solaris 2.9 | sparc | ERROR | skipped | ||||||||||||
lemming | Windows Server 2003 (32-bit) | x64 | OK | skipped | skipped |