Back to the "Multiple platform build/check report"
NOTES: (1) a maintainance reboot of lemming prevented these builds to complete on this machine (2) these are the last builds with R 2.6.0 (2007-06-03 r41797) on lamb1 and lemming, next builds will be with R 2.6.0 (2007-06-10 r41908) configured with --enable-strict-barrier |
Package 216/238 | Hostname | OS | Arch | BUILD | CHECK | BUILD BIN |
SLqPCR1.3.0Matthias KohlLast Changed Date: 2007-04-24 11:31:42 -0700 Last Changed Rev: 24217 | lamb1 | Linux (SUSE 10.1) | x86_64 | OK | OK | |
wellington | Linux (SUSE 9.2) | i686 | OK | OK | ||
churchill | Solaris 2.9 | sparc | OK | OK | ||
lemming | Windows Server 2003 (32-bit) | x64 | [ OK ] | skipped | skipped |
Package: SLqPCR |
Version: 1.3.0 |
Command: D:\biocbld\bbs-2.1-bioc\R\bin\R.exe CMD build SLqPCR |
RetCode: 0 |
Time: 14.5 seconds |
Status: OK |
PackageFile: SLqPCR_1.3.0.tar.gz |
* checking for file 'SLqPCR/DESCRIPTION' ... OK * preparing 'SLqPCR': * checking DESCRIPTION meta-information ... OK * installing the package to re-build vignettes installing R.css in D:/biocbld/bbs-2.1-bioc/tmpdir/Rinst342844900 ---------- Making package SLqPCR ------------ adding build stamp to DESCRIPTION installing R files installing inst files installing data files installing man source files installing indices not zipping data installing help >>> Building/Updating help pages for package 'SLqPCR' Formats: text html latex example chm SLqPCR-package text html latex chm SLqPCRdata text html latex example chm geneStabM text html latex chm geomMean text html latex chm normPCR text html latex example chm relQuantPCR text html latex chm selectHKgenes text html latex example chm vandesompele text html latex example chm Microsoft HTML Help Compiler 4.74.8702 Compiling d:\biocbld\bbs-2.1-bioc\meat\SLqPCR\chm\SLqPCR.chm Compile time: 0 minutes, 0 seconds 9 Topics 17 Local links 8 Internet links 1 Graphic Created d:\biocbld\bbs-2.1-bioc\meat\SLqPCR\chm\SLqPCR.chm, 24,199 bytes Compression decreased file by 3,507 bytes. adding MD5 sums * DONE (SLqPCR) * creating vignettes ... OK * removing junk files * checking for LF line-endings in source files * checking for empty or unneeded directories * building 'SLqPCR_1.3.0.tar.gz'