Back to the "Multiple platform build/check report"
| NOTES: (1) a maintainance reboot of lemming prevented these builds to complete on this machine (2) these are the last builds with R 2.6.0 (2007-06-03 r41797) on lamb1 and lemming, next builds will be with R 2.6.0 (2007-06-10 r41908) configured with --enable-strict-barrier |
| Package 228/238 | Hostname | OS | Arch | BUILD | CHECK | BUILD BIN |
timecourse1.8.1Yu Chuan TaiLast Changed Date: 2007-06-06 09:54:12 -0700 Last Changed Rev: 25228 | lamb1 | Linux (SUSE 10.1) | x86_64 | OK | [ OK ] | |
| wellington | Linux (SUSE 9.2) | i686 | OK | OK | ||
| churchill | Solaris 2.9 | sparc | OK | OK | ||
| lemming | Windows Server 2003 (32-bit) | x64 | OK | skipped | skipped |
| Package: timecourse |
| Version: 1.8.1 |
| Command: /home/biocbuild/bbs-2.1-bioc/R/bin/R CMD check timecourse_1.8.1.tar.gz |
| RetCode: 0 |
| Time: 75.6 seconds |
| Status: OK |
| CheckDir: timecourse.Rcheck |
| Warnings: 0 |
* checking for working latex ... OK * using log directory '/home/biocbuild/bbs-2.1-bioc/meat/timecourse.Rcheck' * using R version 2.6.0 Under development (unstable) (2007-06-03 r41797) * checking for file 'timecourse/DESCRIPTION' ... OK * this is package 'timecourse' version '1.8.1' * checking package dependencies ... OK * checking if this is a source package ... OK * checking whether package 'timecourse' can be installed ... OK * checking package directory ... OK * checking for portable file names ... OK * checking for sufficient/correct file permissions ... OK * checking DESCRIPTION meta-information ... OK * checking top-level files ... OK * checking index information ... OK * checking package subdirectories ... OK * checking R files for non-ASCII characters ... OK * checking R files for syntax errors ... OK * checking whether the package can be loaded ... OK * checking whether the package can be loaded with stated dependencies ... OK * checking for unstated dependencies in R code ... OK * checking S3 generic/method consistency ... OK * checking replacement functions ... OK * checking foreign function calls ... OK * checking R code for possible problems ... NOTE mb.2D : <anonymous>: no visible binding for global variable 'n' mb.2D : <anonymous>: no visible binding for global variable 'T1' mb.2D : <anonymous>: no visible binding for global variable 'xbar' mb.2D : <anonymous>: no visible binding for global variable 'modS1' mb.2D : <anonymous>: no visible binding for global variable 'T1' mb.2D : <anonymous>: no visible binding for global variable 'xbar' mb.2D : <anonymous>: no visible binding for global variable 'n' mb.2D : <anonymous>: no visible binding for global variable 'T1' mb.2D : <anonymous>: no visible binding for global variable 'xbar' mb.2D : <anonymous>: no visible binding for global variable 'modS1' mb.2D : <anonymous>: no visible binding for global variable 'T1' mb.2D : <anonymous>: no visible binding for global variable 'xbar' mb.2D : <anonymous>: no visible binding for global variable 'n' mb.2D : <anonymous>: no visible binding for global variable 'T1' mb.2D : <anonymous>: no visible binding for global variable 'xbar' mb.2D : <anonymous>: no visible binding for global variable 'modS1' mb.2D : <anonymous>: no visible binding for global variable 'T1' mb.2D : <anonymous>: no visible binding for global variable 'xbar' * checking Rd files ... OK * checking Rd cross-references ... OK * checking for missing documentation entries ... OK * checking for code/documentation mismatches ... OK * checking Rd \usage sections ... OK * checking data for non-ASCII characters ... OK * creating timecourse-Ex.R ... OK * checking examples ... OK * checking package vignettes in 'inst/doc' ... OK * creating timecourse-manual.tex ... OK * checking timecourse-manual.tex ... OK
timecourse.Rcheck/00install.out:
* Installing *source* package 'timecourse' ...
** R
** data
** inst
** preparing package for lazy loading
Loading required package: limma
Loading required package: MASS
Loading required package: Biobase
Loading required package: tools
Welcome to Bioconductor
Vignettes contain introductory material. To view, type
'openVignette()'. To cite Bioconductor, see
'citation("Biobase")' and for packages 'citation(pkgname)'.
** help
>>> Building/Updating help pages for package 'timecourse'
Formats: text html latex example
abs2ratio text html latex
fruitfly text html latex
marrayTC-class text html latex
matrix.cov text html latex
mb.MANOVA text html latex example
mb.long text html latex example
ot.helmert text html latex
plotProfile text html latex
univ.func text html latex
** building package indices ...
* DONE (timecourse)