Back to the "Multiple platform build/check report"
NOTES: (1) a maintainance reboot of lemming prevented these builds to complete on this machine (2) these are the last builds with R 2.6.0 (2007-06-03 r41797) on lamb1 and lemming, next builds will be with R 2.6.0 (2007-06-10 r41908) configured with --enable-strict-barrier |
Package 62/238 | Hostname | OS | Arch | BUILD | CHECK | BUILD BIN |
EBarrays1.9.2Deepayan SarkarLast Changed Date: 2007-05-23 10:51:11 -0700 Last Changed Rev: 24935 | lamb1 | Linux (SUSE 10.1) | x86_64 | OK | OK | |
wellington | Linux (SUSE 9.2) | i686 | OK | OK | ||
churchill | Solaris 2.9 | sparc | OK | OK | ||
lemming | Windows Server 2003 (32-bit) | x64 | OK | [ OK ] | skipped |
Package: EBarrays |
Version: 1.9.2 |
Command: D:\biocbld\bbs-2.1-bioc\R\bin\R.exe CMD check EBarrays_1.9.2.tar.gz |
RetCode: 0 |
Time: 174.3 seconds |
Status: OK |
CheckDir: EBarrays.Rcheck |
Warnings: 0 |
* checking for working latex ... OK * using log directory 'D:/biocbld/bbs-2.1-bioc/meat/EBarrays.Rcheck' * using R version 2.6.0 Under development (unstable) (2007-06-03 r41797) * checking for file 'EBarrays/DESCRIPTION' ... OK * this is package 'EBarrays' version '1.9.2' * checking package dependencies ... OK * checking if this is a source package ... OK * checking whether package 'EBarrays' can be installed ... OK * checking package directory ... OK * checking for portable file names ... OK * checking DESCRIPTION meta-information ... OK * checking top-level files ... OK * checking index information ... OK * checking package subdirectories ... OK * checking R files for non-ASCII characters ... OK * checking R files for syntax errors ... OK * checking whether the package can be loaded ... OK * checking whether the package can be loaded with stated dependencies ... OK * checking for unstated dependencies in R code ... OK * checking S3 generic/method consistency ... OK * checking replacement functions ... OK * checking foreign function calls ... OK * checking R code for possible problems ... OK * checking Rd files ... OK * checking Rd cross-references ... OK * checking for missing documentation entries ... OK * checking for code/documentation mismatches ... OK * checking Rd \usage sections ... OK * checking data for non-ASCII characters ... OK * checking for CRLF line endings in C/C++/Fortran sources/headers ... OK * checking for portable use of $BLAS_LIBS ... OK * creating EBarrays-Ex.R ... OK * checking examples ... OK * checking tests ... make[1]: Entering directory `/cygdrive/d/biocbld/bbs-2.1-bioc/meat/EBarrays.Rcheck/tests' Running 'test.R' make[1]: Leaving directory `/cygdrive/d/biocbld/bbs-2.1-bioc/meat/EBarrays.Rcheck/tests' OK * checking package vignettes in 'inst/doc' ... OK * creating EBarrays-manual.tex ... OK * checking EBarrays-manual.tex ... OK
EBarrays.Rcheck/00install.out:
installing R.css in D:/biocbld/bbs-2.1-bioc/meat/EBarrays.Rcheck ---------- Making package EBarrays ------------ adding build stamp to DESCRIPTION making DLL ... making ebarrays.d from ebarrays.c gcc -Id:/biocbld/bbs-2.1-bioc/R/include -Wall -O3 -std=gnu99 -c ebarrays.c -o ebarrays.o windres -I d:/biocbld/bbs-2.1-bioc/R/include -i EBarrays_res.rc -o EBarrays_res.o gcc -shared -s -o EBarrays.dll EBarrays.def ebarrays.o EBarrays_res.o -Ld:/biocbld/bbs-2.1-bioc/R/bin -lR ... DLL made installing DLL installing R files preparing package EBarrays for lazy loading Loading required package: Biobase Loading required package: tools Welcome to Bioconductor Vignettes contain introductory material. To view, type 'openVignette()'. To cite Bioconductor, see 'citation("Biobase")' and for packages 'citation(pkgname)'. Loading required package: lattice installing demos installing inst files installing data files installing man source files installing indices not zipping data installing help >>> Building/Updating help pages for package 'EBarrays' Formats: text html latex example chm ebarraysFamily-class text html latex example chm ebplots text html latex example chm emfit text html latex example chm gould text html latex example chm postprob text html latex chm utilities text html latex example chm Microsoft HTML Help Compiler 4.74.8702 Compiling d:\biocbld\bbs-2.1-bioc\meat\EBarrays.Rcheck\00_pkg_src\EBarrays\chm\EBarrays.chm Compile time: 0 minutes, 0 seconds 7 Topics 51 Local links 1 Internet link 1 Graphic Created d:\biocbld\bbs-2.1-bioc\meat\EBarrays.Rcheck\00_pkg_src\EBarrays\chm\EBarrays.chm, 29,087 bytes Compression decreased file by 9,597 bytes. adding MD5 sums * DONE (EBarrays)