Back to the "Multiple platform build/check report"
| NOTES: (1) a maintainance reboot of lemming prevented these builds to complete on this machine (2) these are the last builds with R 2.6.0 (2007-06-03 r41797) on lamb1 and lemming, next builds will be with R 2.6.0 (2007-06-10 r41908) configured with --enable-strict-barrier |
| Package 171/238 | Hostname | OS | Arch | BUILD | CHECK | BUILD BIN |
ppiStats1.3.3Tony ChiangLast Changed Date: 2007-06-06 00:54:17 -0700 Last Changed Rev: 25213 | lamb1 | Linux (SUSE 10.1) | x86_64 | [ OK ] | WARNINGS | |
| wellington | Linux (SUSE 9.2) | i686 | OK | WARNINGS | ||
| churchill | Solaris 2.9 | sparc | OK | WARNINGS | ||
| lemming | Windows Server 2003 (32-bit) | x64 | OK | WARNINGS | skipped |
| Package: ppiStats |
| Version: 1.3.3 |
| Command: /home/biocbuild/bbs-2.1-bioc/R/bin/R CMD build ppiStats |
| RetCode: 0 |
| Time: 76.5 seconds |
| Status: OK |
| PackageFile: ppiStats_1.3.3.tar.gz |
* checking for file 'ppiStats/DESCRIPTION' ... OK
* preparing 'ppiStats':
* checking DESCRIPTION meta-information ... OK
* installing the package to re-build vignettes
* Installing *source* package 'ppiStats' ...
** R
** inst
** help
>>> Building/Updating help pages for package 'ppiStats'
Formats: text html latex example
assessSymmetry text html latex example
bpMatrix text html latex example
calcInOutDegStats text html latex example
estErrProbMethodOfMoments text html latex example
genBPGraph text html latex example
idProteinErrorType text html latex example
idProteinType text html latex example
nullDistDoublyTestedEdges text html latex example
twPERM text html latex example
** building package indices ...
* DONE (ppiStats)
* creating vignettes ... OK
* removing junk files
* checking for LF line-endings in source files
* checking for empty or unneeded directories
* building 'ppiStats_1.3.3.tar.gz'