Back to the "Multiple platform build/check report"
| NOTES: (1) a maintainance reboot of lemming prevented these builds to complete on this machine (2) these are the last builds with R 2.6.0 (2007-06-03 r41797) on lamb1 and lemming, next builds will be with R 2.6.0 (2007-06-10 r41908) configured with --enable-strict-barrier |
| Package 146/238 | Hostname | OS | Arch | BUILD | CHECK | BUILD BIN |
nem1.7.0Florian MarkowetzLast Changed Date: 2007-04-24 11:31:42 -0700 Last Changed Rev: 24217 | lamb1 | Linux (SUSE 10.1) | x86_64 | OK | OK | |
| wellington | Linux (SUSE 9.2) | i686 | OK | OK | ||
| churchill | Solaris 2.9 | sparc | OK | OK | ||
| lemming | Windows Server 2003 (32-bit) | x64 | [ OK ] | OK | skipped |
| Package: nem |
| Version: 1.7.0 |
| Command: D:\biocbld\bbs-2.1-bioc\R\bin\R.exe CMD build nem |
| RetCode: 0 |
| Time: 33.4 seconds |
| Status: OK |
| PackageFile: nem_1.7.0.tar.gz |
* checking for file 'nem/DESCRIPTION' ... OK
* preparing 'nem':
* checking DESCRIPTION meta-information ... OK
* installing the package to re-build vignettes
installing R.css in D:/biocbld/bbs-2.1-bioc/tmpdir/Rinst619656823
---------- Making package nem ------------
adding build stamp to DESCRIPTION
installing R files
installing inst files
installing data files
installing man source files
installing indices
not zipping data
installing help
>>> Building/Updating help pages for package 'nem'
Formats: text html latex example chm
BFSlevel text html latex example chm
BoutrosRNAi2002 text html latex example chm
FULLmLL text html latex example chm
SCCgraph text html latex example chm
enumerate.models text html latex example chm
local.model.prior text html latex example chm
mLL text html latex example chm
moduleNetwork text html latex example chm
nem text html latex example chm
nem.cont.preprocess text html latex example chm
nem.discretize text html latex example chm
nemModelSelection text html latex example chm
network.AIC text html latex example chm
pairwise.posterior text html latex example chm
plot.effects text html latex example chm
plot.nem text html latex chm
score text html latex example chm
subsets text html latex example chm
transitive.closure text html latex example chm
transitive.reduction text html latex example chm
triples.posterior text html latex example chm
Microsoft HTML Help Compiler 4.74.8702
Compiling d:\biocbld\bbs-2.1-bioc\meat\nem\chm\nem.chm
Compile time: 0 minutes, 0 seconds
22 Topics
93 Local links
0 Internet links
1 Graphic
Created d:\biocbld\bbs-2.1-bioc\meat\nem\chm\nem.chm, 46,442 bytes
Compression decreased file by 43,493 bytes.
preparing package nem for lazy loading
Loading required package: e1071
Loading required package: class
Loading required package: graph
Loading required package: Rgraphviz
Loading required package: RBGL
Attaching package: 'RBGL'
The following object(s) are masked from package:e1071 :
extractPath
Loading required package: time
adding MD5 sums
* DONE (nem)
* creating vignettes ... OK
* removing junk files
* checking for LF line-endings in source files
* checking for empty or unneeded directories
* building 'nem_1.7.0.tar.gz'