Back to the "Multiple platform build/check report"
NOTES: (1) a maintainance reboot of lemming prevented these builds to complete on this machine (2) these are the last builds with R 2.6.0 (2007-06-03 r41797) on lamb1 and lemming, next builds will be with R 2.6.0 (2007-06-10 r41908) configured with --enable-strict-barrier |
Package 119/238 | Hostname | OS | Arch | BUILD | CHECK | BUILD BIN |
LMGene1.7.0John TillinghastLast Changed Date: 2007-05-25 23:04:00 -0700 Last Changed Rev: 24997 | lamb1 | Linux (SUSE 10.1) | x86_64 | OK | OK | |
wellington | Linux (SUSE 9.2) | i686 | OK | OK | ||
churchill | Solaris 2.9 | sparc | OK | OK | ||
lemming | Windows Server 2003 (32-bit) | x64 | [ OK ] | OK | skipped |
Package: LMGene |
Version: 1.7.0 |
Command: D:\biocbld\bbs-2.1-bioc\R\bin\R.exe CMD build LMGene |
RetCode: 0 |
Time: 84.6 seconds |
Status: OK |
PackageFile: LMGene_1.7.0.tar.gz |
* checking for file 'LMGene/DESCRIPTION' ... OK * preparing 'LMGene': * checking DESCRIPTION meta-information ... OK * installing the package to re-build vignettes installing R.css in D:/biocbld/bbs-2.1-bioc/tmpdir/Rinst685249478 ---------- Making package LMGene ------------ adding build stamp to DESCRIPTION installing R files installing inst files installing data files installing man source files installing indices not zipping data installing help >>> Building/Updating help pages for package 'LMGene' Formats: text html latex example chm GetLMObj text html latex example chm LMGene text html latex example chm genediff text html latex example chm glog text html latex example chm jggrad2 text html latex example chm jglog text html latex example chm lnorm text html latex example chm lnormeS text html latex example chm mlm2lm text html latex example chm msa text html latex example chm msecalc text html latex example chm msecalcmult text html latex example chm neweS text html latex example chm norm text html latex example chm psmeans text html latex example chm pvadjust text html latex example chm rowaov text html latex example chm rowlist text html latex example chm sample.eS text html latex example chm sample.ind text html latex example chm sample.mat text html latex example chm tranest text html latex example chm tranest2 text html latex example chm tranestmult text html latex example chm transeS text html latex example chm vlist text html latex example chm Microsoft HTML Help Compiler 4.74.8702 Compiling d:\biocbld\bbs-2.1-bioc\meat\LMGene\chm\LMGene.chm Compile time: 0 minutes, 2 seconds 27 Topics 109 Local links 19 Internet links 1 Graphic Created d:\biocbld\bbs-2.1-bioc\meat\LMGene\chm\LMGene.chm, 38,421 bytes Compression decreased file by 40,648 bytes. adding MD5 sums * DONE (LMGene) * creating vignettes ... OK * removing junk files * checking for LF line-endings in source files * checking for empty or unneeded directories * building 'LMGene_1.7.0.tar.gz'