Back to the "Multiple platform build/check report"
| NOTES: (1) a maintainance reboot of lemming prevented these builds to complete on this machine (2) these are the last builds with R 2.6.0 (2007-06-03 r41797) on lamb1 and lemming, next builds will be with R 2.6.0 (2007-06-10 r41908) configured with --enable-strict-barrier |
| Package 155/238 | Hostname | OS | Arch | BUILD | CHECK | BUILD BIN |
ontoTools1.13.1Vince CareyLast Changed Date: 2007-05-11 21:56:41 -0700 Last Changed Rev: 24616 | lamb1 | Linux (SUSE 10.1) | x86_64 | OK | WARNINGS | |
| wellington | Linux (SUSE 9.2) | i686 | [ OK ] | WARNINGS | ||
| churchill | Solaris 2.9 | sparc | OK | WARNINGS | ||
| lemming | Windows Server 2003 (32-bit) | x64 | OK | WARNINGS | skipped |
| Package: ontoTools |
| Version: 1.13.1 |
| Command: /loc/biocbuild/bbs-2.1-bioc/R/bin/R CMD build ontoTools |
| RetCode: 0 |
| Time: 570.1 seconds |
| Status: OK |
| PackageFile: ontoTools_1.13.1.tar.gz |
* checking for file 'ontoTools/DESCRIPTION' ... OK
* preparing 'ontoTools':
* checking DESCRIPTION meta-information ... OK
* installing the package to re-build vignettes
* Installing *source* package 'ontoTools' ...
** R
** data
** inst
** preparing package for lazy loading
Loading required package: graph
Loading required package: SparseM
Package SparseM (0.72) loaded. To cite, see citation("SparseM")
Loading required package: GO
Loading required package: Biobase
Loading required package: tools
Welcome to Bioconductor
Vignettes contain introductory material. To view, type
'openVignette()'. To cite Bioconductor, see
'citation("Biobase")' and for packages 'citation(pkgname)'.
Loading required package: annotate
Loading required package: AnnotationDbi
Loading required package: DBI
Loading required package: RSQLite
Creating a new generic function for "grep" in "ontoTools"
** help
>>> Building/Updating help pages for package 'ontoTools'
Formats: text html latex example
A.csr text html latex
GDI text html latex example
LLGOMFcp text html latex
OOC-class text html latex example
SGDIvocab text html latex example
STMA text html latex example
accessMat text html latex example
buildGOgraph text html latex example
compoundGraph-class text html latex example
depthStruct text html latex example
gomfAmat text html latex
litOnto text html latex
namedSparse-class text html latex example
ontology-class text html latex example
ooMapLL2GOMFdemo text html latex
otkvEnv2namedSparse text html latex example
rootedDAG-class text html latex example
semsim text html latex example
taggedHierNomenclature-class text html latex example
toDot-methods text html latex example
** building package indices ...
Warning: 'GDI_NCIThesaurus' looks like a pre-2.4.0 S4 object: please recreate it
Warning: 'SGDIvocab' looks like a pre-2.4.0 S4 object: please recreate it
Warning: 'STMA' looks like a pre-2.4.0 S4 object: please recreate it
Warning: 'gomfAmat' looks like a pre-2.4.0 S4 object: please recreate it
* DONE (ontoTools)
* creating vignettes ... OK
* removing junk files
* checking for LF line-endings in source files
* checking for empty or unneeded directories
* building 'ontoTools_1.13.1.tar.gz'