Back to the "Multiple platform build/check report"

NOTES: (1) a maintainance reboot of lemming prevented these builds to complete on this machine (2) these are the last builds with R 2.6.0 (2007-06-03 r41797) on lamb1 and lemming, next builds will be with R 2.6.0 (2007-06-10 r41908) configured with --enable-strict-barrier
Package 159/238HostnameOSArchBUILDCHECKBUILD BIN

panp

1.7.0

Peter Warren
Last Changed Date: 2007-04-24 11:31:42 -0700
Last Changed Rev: 24217
lamb1 Linux (SUSE 10.1) x86_64  OK  OK 
wellington Linux (SUSE 9.2) i686  OK  OK 
churchill Solaris 2.9 sparc  OK  OK 
lemming Windows Server 2003 (32-bit) x64 [ OK ] OK skipped
Package: panp
Version: 1.7.0
Command: D:\biocbld\bbs-2.1-bioc\R\bin\R.exe CMD build panp
RetCode: 0
Time: 20.9 seconds
Status: OK
PackageFile: panp_1.7.0.tar.gz

Command output

* checking for file 'panp/DESCRIPTION' ... OK
* preparing 'panp':
* checking DESCRIPTION meta-information ... OK
* installing the package to re-build vignettes
installing R.css in D:/biocbld/bbs-2.1-bioc/tmpdir/Rinst270818725


---------- Making package panp ------------
  adding build stamp to DESCRIPTION
  installing R files
  installing inst files
  installing data files
  installing man source files
  installing indices
  not zipping data
  installing help
 >>> Building/Updating help pages for package 'panp'
     Formats: text html latex example chm 
  NSMPnames.hgu133a                 text    html    latex           chm
  NSMPnames.hgu133plus2             text    html    latex           chm
  gcrma.exprSet                     text    html    latex           chm
  pa.calls                          text    html    latex   example chm
  test133a                          text    html    latex           chm
Microsoft HTML Help Compiler 4.74.8702



Compiling d:\biocbld\bbs-2.1-bioc\meat\panp\chm\panp.chm





Compile time: 0 minutes, 0 seconds

6	Topics

10	Local links

0	Internet links

1	Graphic





Created d:\biocbld\bbs-2.1-bioc\meat\panp\chm\panp.chm, 26,555 bytes

Compression increased file by 4,247 bytes.

  adding MD5 sums

* DONE (panp)
* creating vignettes ... OK
* removing junk files
* excluding invalid files from 'panp'
Subdirectory 'man' contains invalid file names:
  README
* checking for LF line-endings in source files
* checking for empty or unneeded directories
* building 'panp_1.7.0.tar.gz'