Back to the "Multiple platform build/check report"
| NOTES: (1) a maintainance reboot of lemming prevented these builds to complete on this machine (2) these are the last builds with R 2.6.0 (2007-06-03 r41797) on lamb1 and lemming, next builds will be with R 2.6.0 (2007-06-10 r41908) configured with --enable-strict-barrier |
| Package 74/238 | Hostname | OS | Arch | BUILD | CHECK | BUILD BIN |
flowViz1.1.4Florian HahneLast Changed Date: 2007-05-11 20:54:33 -0700 Last Changed Rev: 24613 | lamb1 | Linux (SUSE 10.1) | x86_64 | OK | WARNINGS | |
| wellington | Linux (SUSE 9.2) | i686 | [ ERROR ] | skipped | ||
| churchill | Solaris 2.9 | sparc | ERROR | skipped | ||
| lemming | Windows Server 2003 (32-bit) | x64 | OK | WARNINGS | skipped |
| Package: flowViz |
| Version: 1.1.4 |
| Command: /loc/biocbuild/bbs-2.1-bioc/R/bin/R CMD build flowViz |
| RetCode: 1 |
| Time: 5.8 seconds |
| Status: ERROR |
| PackageFile: None |
* checking for file 'flowViz/DESCRIPTION' ... OK
* preparing 'flowViz':
* checking DESCRIPTION meta-information ... OK
* installing the package to re-build vignettes
* Installing *source* package 'flowViz' ...
** R
** inst
** preparing package for lazy loading
Loading required package: flowCore
Loading required package: Biobase
Loading required package: tools
Welcome to Bioconductor
Vignettes contain introductory material. To view, type
'openVignette()'. To cite Bioconductor, see
'citation("Biobase")' and for packages 'citation(pkgname)'.
Loading required package: rrcov
Scalable Robust Estimators with High Breakdown Point (version 0.3-05)
KernSmooth 2.22 installed
Copyright M. P. Wand 1997
Loading required package: rgl
Warning in library(pkg, character.only = TRUE, logical.return = TRUE, lib.loc = lib.loc) :
there is no package called 'rgl'
Error: package 'rgl' could not be loaded
Execution halted
ERROR: lazy loading failed for package 'flowViz'
** Removing '/tmp/Rinst1712256045/flowViz'
ERROR
Installation failed.
Removing '/tmp/Rinst1712256045'