Back to the "Multiple platform build/check report"
NOTES: (1) a maintainance reboot of lemming prevented these builds to complete on this machine (2) these are the last builds with R 2.6.0 (2007-06-03 r41797) on lamb1 and lemming, next builds will be with R 2.6.0 (2007-06-10 r41908) configured with --enable-strict-barrier |
Package 40/238 | Hostname | OS | Arch | BUILD | CHECK | BUILD BIN |
BufferedMatrix1.1.1Benjamin Milo BolstadLast Changed Date: 2007-06-10 10:22:32 -0700 Last Changed Rev: 25301 | lamb1 | Linux (SUSE 10.1) | x86_64 | OK | OK | |
wellington | Linux (SUSE 9.2) | i686 | OK | OK | ||
churchill | Solaris 2.9 | sparc | OK | OK | ||
lemming | Windows Server 2003 (32-bit) | x64 | [ OK ] | OK | skipped |
Package: BufferedMatrix |
Version: 1.1.1 |
Command: D:\biocbld\bbs-2.1-bioc\R\bin\R.exe CMD build BufferedMatrix |
RetCode: 0 |
Time: 21.5 seconds |
Status: OK |
PackageFile: BufferedMatrix_1.1.1.tar.gz |
* checking for file 'BufferedMatrix/DESCRIPTION' ... OK * preparing 'BufferedMatrix': * checking DESCRIPTION meta-information ... OK * cleaning src * installing the package to re-build vignettes installing R.css in D:/biocbld/bbs-2.1-bioc/tmpdir/Rinst514416513 ---------- Making package BufferedMatrix ------------ adding build stamp to DESCRIPTION making DLL ... making RBufferedMatrix.d from RBufferedMatrix.c making doubleBufferedMatrix.d from doubleBufferedMatrix.c making doubleBufferedMatrix_C_tests.d from doubleBufferedMatrix_C_tests.c making init_package.d from init_package.c gcc -Id:/biocbld/bbs-2.1-bioc/R/include -Wall -O3 -std=gnu99 -c RBufferedMatrix.c -o RBufferedMatrix.o gcc -Id:/biocbld/bbs-2.1-bioc/R/include -Wall -O3 -std=gnu99 -c doubleBufferedMatrix.c -o doubleBufferedMatrix.o doubleBufferedMatrix.c:3323: warning: 'sort_double' defined but not used gcc -Id:/biocbld/bbs-2.1-bioc/R/include -Wall -O3 -std=gnu99 -c doubleBufferedMatrix_C_tests.c -o doubleBufferedMatrix_C_tests.o doubleBufferedMatrix_C_tests.c: In function `dbm_c_tester': doubleBufferedMatrix_C_tests.c:26: warning: implicit declaration of function `Rprintf' gcc -Id:/biocbld/bbs-2.1-bioc/R/include -Wall -O3 -std=gnu99 -c init_package.c -o init_package.o windres -I d:/biocbld/bbs-2.1-bioc/R/include -i BufferedMatrix_res.rc -o BufferedMatrix_res.o gcc -shared -s -o BufferedMatrix.dll BufferedMatrix.def RBufferedMatrix.o doubleBufferedMatrix.o doubleBufferedMatrix_C_tests.o init_package.o BufferedMatrix_res.o -Ld:/biocbld/bbs-2.1-bioc/R/bin -lR ... DLL made installing DLL installing R files preparing package BufferedMatrix for lazy loading Creating a new generic function for "ncol" in "BufferedMatrix" Creating a new generic function for "nrow" in "BufferedMatrix" Creating a new generic function for "log" in "BufferedMatrix" Creating a new generic function for "mean" in "BufferedMatrix" Creating a new generic function for "as.matrix" in "BufferedMatrix" installing inst files installing man source files installing indices installing help Note: unmatched right brace in 'createBufferedMatrix' on or after line 5 Note: unmatched right brace in 'createBufferedMatrix.Rd' on or after line 5 >>> Building/Updating help pages for package 'BufferedMatrix' Formats: text html latex example chm BufferedMatrix-class text html latex chm as.BufferedMatrix text html latex chm createBufferedMatrix text html latex example chm Microsoft HTML Help Compiler 4.74.8702 Compiling d:\biocbld\bbs-2.1-bioc\meat\BufferedMatrix\chm\BufferedMatrix.chm Compile time: 0 minutes, 0 seconds 4 Topics 101 Local links 0 Internet links 1 Graphic Created d:\biocbld\bbs-2.1-bioc\meat\BufferedMatrix\chm\BufferedMatrix.chm, 23,023 bytes Compression decreased file by 28,215 bytes. adding MD5 sums * DONE (BufferedMatrix) * creating vignettes ... OK * cleaning src * removing junk files * checking for LF line-endings in source files * checking for empty or unneeded directories * building 'BufferedMatrix_1.1.1.tar.gz'