Back to the "Multiple platform build/check report"
| NOTES: (1) a maintainance reboot of lemming prevented these builds to complete on this machine (2) these are the last builds with R 2.6.0 (2007-06-03 r41797) on lamb1 and lemming, next builds will be with R 2.6.0 (2007-06-10 r41908) configured with --enable-strict-barrier |
| Package 94/238 | Hostname | OS | Arch | BUILD | CHECK | BUILD BIN |
GlobalAncova3.3.0R. MeisterLast Changed Date: 2007-05-04 05:43:53 -0700 Last Changed Rev: 24506 | lamb1 | Linux (SUSE 10.1) | x86_64 | ERROR | skipped | |
| wellington | Linux (SUSE 9.2) | i686 | ERROR | skipped | ||
| churchill | Solaris 2.9 | sparc | ERROR | skipped | ||
| lemming | Windows Server 2003 (32-bit) | x64 | [ ERROR ] | skipped | skipped |
| Package: GlobalAncova |
| Version: 3.3.0 |
| Command: D:\biocbld\bbs-2.1-bioc\R\bin\R.exe CMD build GlobalAncova |
| RetCode: 1 |
| Time: 17.8 seconds |
| Status: ERROR |
| PackageFile: None |
* checking for file 'GlobalAncova/DESCRIPTION' ... OK
* preparing 'GlobalAncova':
* checking DESCRIPTION meta-information ... OK
* installing the package to re-build vignettes
installing R.css in D:/biocbld/bbs-2.1-bioc/tmpdir/Rinst763695413
---------- Making package GlobalAncova ------------
adding build stamp to DESCRIPTION
installing NAMESPACE file and metadata
installing R files
installing inst files
installing data files
installing man source files
installing indices
not zipping data
installing help
>>> Building/Updating help pages for package 'GlobalAncova'
Formats: text html latex example chm
GAGO text html latex example chm
GlobalAncova-methods text html latex chm
GlobalAncova text html latex example chm
GlobalAncova.closed-methods text html latex chm
GlobalAncova.closed text html latex chm
GlobalAncova.decomp text html latex example chm
Plot.all text html latex example chm
Plot.genes-methods text html latex chm
Plot.genes text html latex example chm
Plot.sequential text html latex example chm
Plot.subjects-methods text html latex chm
Plot.subjects text html latex example chm
colon.normal text html latex example chm
colon.pheno text html latex example chm
colon.tumour text html latex example chm
pair.compare text html latex example chm
pathways text html latex example chm
phenodata text html latex example chm
vantVeer text html latex example chm
Microsoft HTML Help Compiler 4.74.8702
Compiling d:\biocbld\bbs-2.1-bioc\meat\GlobalAncova\chm\GlobalAncova.chm
Compile time: 0 minutes, 0 seconds
20 Topics
85 Local links
0 Internet links
1 Graphic
Created d:\biocbld\bbs-2.1-bioc\meat\GlobalAncova\chm\GlobalAncova.chm, 46,753 bytes
Compression decreased file by 51,575 bytes.
preparing package GlobalAncova for lazy loading
Loading required package: corpcor
Loading required package: globaltest
Warning in library(pkg, character.only = TRUE, logical.return = TRUE, lib.loc = lib.loc) :
there is no package called 'globaltest'
Error: package 'globaltest' could not be loaded
Execution halted
make: *** [lazyload] Error 1
*** Installation of GlobalAncova failed ***
Removing 'D:/biocbld/bbs-2.1-bioc/tmpdir/Rinst763695413/GlobalAncova'
ERROR
Installation failed.
Removing 'D:/biocbld/bbs-2.1-bioc/tmpdir/Rinst763695413'