Back to the "Multiple platform build/check report"
| NOTES: (1) a maintainance reboot of lemming prevented these builds to complete on this machine (2) these are the last builds with R 2.6.0 (2007-06-03 r41797) on lamb1 and lemming, next builds will be with R 2.6.0 (2007-06-10 r41908) configured with --enable-strict-barrier |
| Package 82/238 | Hostname | OS | Arch | BUILD | CHECK | BUILD BIN |
geneRecommender1.9.0Greg HatherLast Changed Date: 2007-04-24 11:31:42 -0700 Last Changed Rev: 24217 | lamb1 | Linux (SUSE 10.1) | x86_64 | OK | OK | |
| wellington | Linux (SUSE 9.2) | i686 | OK | OK | ||
| churchill | Solaris 2.9 | sparc | OK | OK | ||
| lemming | Windows Server 2003 (32-bit) | x64 | [ OK ] | OK | skipped |
| Package: geneRecommender |
| Version: 1.9.0 |
| Command: D:\biocbld\bbs-2.1-bioc\R\bin\R.exe CMD build geneRecommender |
| RetCode: 0 |
| Time: 12.5 seconds |
| Status: OK |
| PackageFile: geneRecommender_1.9.0.tar.gz |
* checking for file 'geneRecommender/DESCRIPTION' ... OK
* preparing 'geneRecommender':
* checking DESCRIPTION meta-information ... OK
* installing the package to re-build vignettes
installing R.css in D:/biocbld/bbs-2.1-bioc/tmpdir/Rinst94823684
---------- Making package geneRecommender ------------
adding build stamp to DESCRIPTION
installing R files
installing inst files
installing man source files
installing indices
installing help
>>> Building/Updating help pages for package 'geneRecommender'
Formats: text html latex example chm
gr.cv text html latex example chm
gr.main text html latex example chm
gr.normalize text html latex example chm
Microsoft HTML Help Compiler 4.74.8702
Compiling d:\biocbld\bbs-2.1-bioc\meat\geneRecommender\chm\geneRecommender.chm
Compile time: 0 minutes, 0 seconds
4 Topics
6 Local links
0 Internet links
1 Graphic
Created d:\biocbld\bbs-2.1-bioc\meat\geneRecommender\chm\geneRecommender.chm, 22,070 bytes
Compression increased file by 3,737 bytes.
adding MD5 sums
* DONE (geneRecommender)
* creating vignettes ... OK
* removing junk files
* checking for LF line-endings in source files
* checking for empty or unneeded directories
* building 'geneRecommender_1.9.0.tar.gz'