Back to the "Multiple platform build/check report"
| NOTES: (1) a maintainance reboot of lemming prevented these builds to complete on this machine (2) these are the last builds with R 2.6.0 (2007-06-03 r41797) on lamb1 and lemming, next builds will be with R 2.6.0 (2007-06-10 r41908) configured with --enable-strict-barrier |
| Package 93/238 | Hostname | OS | Arch | BUILD | CHECK | BUILD BIN |
GLAD1.11.0Philippe HupeLast Changed Date: 2007-05-18 08:41:57 -0700 Last Changed Rev: 24802 | lamb1 | Linux (SUSE 10.1) | x86_64 | OK | [ OK ] | |
| wellington | Linux (SUSE 9.2) | i686 | OK | OK | ||
| churchill | Solaris 2.9 | sparc | OK | OK | ||
| lemming | Windows Server 2003 (32-bit) | x64 | OK | OK | skipped |
| Package: GLAD |
| Version: 1.11.0 |
| Command: /home/biocbuild/bbs-2.1-bioc/R/bin/R CMD check GLAD_1.11.0.tar.gz |
| RetCode: 0 |
| Time: 40.6 seconds |
| Status: OK |
| CheckDir: GLAD.Rcheck |
| Warnings: 0 |
* checking for working latex ... OK * using log directory '/home/biocbuild/bbs-2.1-bioc/meat/GLAD.Rcheck' * using R version 2.6.0 Under development (unstable) (2007-06-03 r41797) * checking for file 'GLAD/DESCRIPTION' ... OK * this is package 'GLAD' version '1.11.0' * checking package dependencies ... OK * checking if this is a source package ... OK * checking whether package 'GLAD' can be installed ... OK * checking package directory ... OK * checking for portable file names ... OK * checking for sufficient/correct file permissions ... OK * checking DESCRIPTION meta-information ... OK * checking top-level files ... OK * checking index information ... OK * checking package subdirectories ... OK * checking R files for non-ASCII characters ... OK * checking R files for syntax errors ... OK * checking whether the package can be loaded ... OK * checking whether the package can be loaded with stated dependencies ... OK * checking for unstated dependencies in R code ... OK * checking S3 generic/method consistency ... OK * checking replacement functions ... OK * checking foreign function calls ... OK * checking R code for possible problems ... NOTE as.data.frame.profileCGH: no visible binding for global variable 'ChromosomeChar' chrBreakpoints.profileCGH: no visible binding for global variable 'timeBkp' chrBreakpoints.profileCGH: no visible binding for global variable 'LevelNewOrder' daglad.profileCGH: no visible binding for global variable 'Smoothing' daglad.profileCGH: no visible binding for global variable 'ChromosomeTrue' daglad.profileCGH: no visible binding for global variable 'Smoothing' daglad.profileCGH: no visible binding for global variable 'Region' daglad.profileCGH: no visible binding for global variable 'Breakpoints' daglad.profileCGH: no visible binding for global variable 'MinPosOrder' daglad.profileCGH: no visible binding for global variable 'MaxPosOrder' daglad.profileCGH: no visible binding for global variable 'LevelG' daglad.profileCGH: no visible binding for global variable 'MinPosOrderC' daglad.profileCGH: no visible binding for global variable 'MaxPosOrderC' daglad.profileCGH: no visible binding for global variable 'OutliersAwsC' daglad.profileCGH: no visible binding for global variable 'LevelC' daglad.profileCGH: no visible binding for global variable 'RegionC' daglad.profileCGH: no visible binding for global variable 'BreakpointsC' daglad.profileCGH: no visible binding for global variable 'ZoneGen' daglad.profileCGH: no visible binding for global variable 'Side' daglad.profileCGH: no visible binding for global variable 'BkpToDel' daglad.profileCGH: no visible binding for global variable 'NextPosOrder' daglad.profileCGH: no visible binding for global variable 'ZoneGNL' daglad.profileCGH: no visible binding for global variable 'ZoneGen' daglad.profileCGH: no visible binding for global variable 'NormalRange' daglad.profileCGH: no visible binding for global variable 'ZoneGen' daglad.profileCGH: no visible binding for global variable 'ZoneGNLGen' daglad.profileCGH: no visible binding for global variable 'NewPosOrder' daglad.profileCGH: no visible binding for global variable 'SmoothingNext' daglad.profileCGH: no visible binding for global variable 'NextLogRatio' daglad.profileCGH: no visible binding for global variable 'MaxPosOrder' daglad.profileCGH: no visible binding for global variable 'MinPosOrder' daglad.profileCGH: no visible binding for global variable 'ZoneGNLnext' daglad.profileCGH: no visible binding for global variable 'NewPosOrder' daglad.profileCGH: no visible binding for global variable 'DiffBase' daglad.profileCGH: no visible binding for global variable 'Region' daglad.profileCGH: no visible binding for global variable 'NextLogRatio' daglad.profileCGH: no visible binding for global variable 'MaxPosOrder' daglad.profileCGH: no visible binding for global variable 'MinPosOrder' filterBkp.profileCGH: no visible binding for global variable 'Smoothing' filterBkp.profileCGH: no visible binding for global variable 'ZoneGNL' filterBkp.profileCGH: no visible binding for global variable 'ZoneGen' filterBkp.profileCGH: no visible binding for global variable 'NormalRange' glad.profileCGH: no visible binding for global variable 'Smoothing' plotProfile.profileCGH: no visible binding for global variable 'cytoband' plotProfile.profileCGH: no visible binding for global variable 'cytoband' plotProfile.profileCGH: no visible binding for global variable 'cytoband' plotProfile.profileCGH: no visible binding for global variable 'cytoband' plotProfile.profileCGH: no visible binding for global variable 'cytoband' testBkpToMove.profileCGH: no visible binding for global variable 'NextPosOrder' testBkpToMove.profileCGH: no visible binding for global variable 'BeforePosOrder' tkdaglad.default: no visible global function definition for 'tktoplevel' tkdaglad.default: no visible global function definition for 'tkframe' tkdaglad.default: no visible global function definition for 'tkframe' tkdaglad.default: no visible global function definition for 'tkwm.title' tkdaglad.default: no visible global function definition for 'tkpack' tkdaglad.default: no visible global function definition for 'tklabel' tkdaglad.default: no visible global function definition for 'tclVar' tkdaglad.default: no visible global function definition for 'tkimage.create' tkdaglad.default: no visible global function definition for 'tkframe' tkdaglad.default: no visible global function definition for 'tkpack' tkdaglad.default: no visible global function definition for 'tklabel' tkdaglad.default: no visible global function definition for 'tclVar' tkdaglad.default: no visible global function definition for 'tkcheckbutton' tkdaglad.default: no visible global function definition for 'tkpack' tkdaglad.default: no visible global function definition for 'tkpack' tkdaglad.default: no visible global function definition for 'tkframe' tkdaglad.default: no visible global function definition for 'tkframe' tkdaglad.default: no visible global function definition for 'tkframe' tkdaglad.default: no visible global function definition for 'tkframe' tkdaglad.default: no visible global function definition for 'tkframe' tkdaglad.default: no visible global function definition for 'tkpack' tkdaglad.default: no visible global function definition for 'tklabel' tkdaglad.default: no visible global function definition for 'tkpack' tkdaglad.default: no visible global function definition for 'tklabel' tkdaglad.default: no visible global function definition for 'tkpack' tkdaglad.default: no visible global function definition for 'tklabel' tkdaglad.default: no visible global function definition for 'tclVar' tkdaglad.default: no visible global function definition for 'tkradiobutton' tkdaglad.default: no visible global function definition for 'tkpack' tkdaglad.default: no visible global function definition for 'tclVar' tkdaglad.default: no visible global function definition for 'tkradiobutton' tkdaglad.default: no visible global function definition for 'tkpack' tkdaglad.default: no visible global function definition for 'tkframe' tkdaglad.default: no visible global function definition for 'tkframe' tkdaglad.default: no visible global function definition for 'tclVar' tkdaglad.default: no visible global function definition for 'tklabel' tkdaglad.default: no visible global function definition for 'tkentry' tkdaglad.default: no visible global function definition for 'tclVar' tkdaglad.default: no visible global function definition for 'tklabel' tkdaglad.default: no visible global function definition for 'tkentry' tkdaglad.default: no visible global function definition for 'tclVar' tkdaglad.default: no visible global function definition for 'tklabel' tkdaglad.default: no visible global function definition for 'tkentry' tkdaglad.default: no visible global function definition for 'tkpack' tkdaglad.default: no visible global function definition for 'tkpack' tkdaglad.default: no visible global function definition for 'tkpack' tkdaglad.default: no visible global function definition for 'tkpack' tkdaglad.default: no visible global function definition for 'tkpack' tkdaglad.default: no visible global function definition for 'tkpack' tkdaglad.default: no visible global function definition for 'tkpack' tkdaglad.default: no visible global function definition for 'tkpack' tkdaglad.default: no visible global function definition for 'tkpack' tkdaglad.default: no visible global function definition for 'tkpack' tkdaglad.default: no visible global function definition for 'tkpack' tkdaglad.default: no visible global function definition for 'tkframe' tkdaglad.default: no visible global function definition for 'tkpack' tkdaglad.default: no visible global function definition for 'tklabel' tkdaglad.default: no visible global function definition for 'tclVar' tkdaglad.default: no visible global function definition for 'tkcheckbutton' tkdaglad.default: no visible global function definition for 'tclVar' tkdaglad.default: no visible global function definition for 'tkcheckbutton' tkdaglad.default: no visible global function definition for 'tkpack' tkdaglad.default: no visible global function definition for 'tkpack' tkdaglad.default: no visible global function definition for 'tkframe' tkdaglad.default: no visible global function definition for 'tkpack' tkdaglad.default: no visible global function definition for 'tklabel' tkdaglad.default: no visible global function definition for 'tclVar' tkdaglad.default: no visible global function definition for 'tklabel' tkdaglad.default: no visible global function definition for 'tkentry' tkdaglad.default: no visible global function definition for 'tclVar' tkdaglad.default: no visible global function definition for 'tklabel' tkdaglad.default: no visible global function definition for 'tkentry' tkdaglad.default: no visible global function definition for 'tkpack' tkdaglad.default: no visible global function definition for 'tkpack' tkdaglad.default: no visible global function definition for 'tkframe' tkdaglad.default: no visible global function definition for 'tkpack' tkdaglad.default: no visible global function definition for 'tklabel' tkdaglad.default: no visible global function definition for 'tclVar' tkdaglad.default: no visible global function definition for 'tklabel' tkdaglad.default: no visible global function definition for 'tkentry' tkdaglad.default: no visible global function definition for 'tclVar' tkdaglad.default: no visible global function definition for 'tklabel' tkdaglad.default: no visible global function definition for 'tkentry' tkdaglad.default: no visible global function definition for 'tkpack' tkdaglad.default: no visible global function definition for 'tkpack' tkdaglad.default: no visible global function definition for 'tkframe' tkdaglad.default: no visible global function definition for 'tkpack' tkdaglad.default: no visible global function definition for 'tklabel' tkdaglad.default: no visible global function definition for 'tkframe' tkdaglad.default: no visible global function definition for 'tkframe' tkdaglad.default: no visible global function definition for 'tkframe' tkdaglad.default: no visible global function definition for 'tclVar' tkdaglad.default: no visible global function definition for 'tklabel' tkdaglad.default: no visible global function definition for 'tkentry' tkdaglad.default: no visible global function definition for 'tkpack' tkdaglad.default: no visible global function definition for 'tkpack' tkdaglad.default: no visible global function definition for 'tclVar' tkdaglad.default: no visible global function definition for 'tklabel' tkdaglad.default: no visible global function definition for 'tkentry' tkdaglad.default: no visible global function definition for 'tkpack' tkdaglad.default: no visible global function definition for 'tkpack' tkdaglad.default: no visible global function definition for 'tclVar' tkdaglad.default: no visible global function definition for 'tklabel' tkdaglad.default: no visible global function definition for 'tkentry' tkdaglad.default: no visible global function definition for 'tkpack' tkdaglad.default: no visible global function definition for 'tkpack' tkdaglad.default: no visible global function definition for 'tclVar' tkdaglad.default: no visible global function definition for 'tklabel' tkdaglad.default: no visible global function definition for 'tkentry' tkdaglad.default: no visible global function definition for 'tkpack' tkdaglad.default: no visible global function definition for 'tkpack' tkdaglad.default: no visible global function definition for 'tclVar' tkdaglad.default: no visible global function definition for 'tklabel' tkdaglad.default: no visible global function definition for 'tkentry' tkdaglad.default: no visible global function definition for 'tkpack' tkdaglad.default: no visible global function definition for 'tkpack' tkdaglad.default: no visible global function definition for 'tclVar' tkdaglad.default: no visible global function definition for 'tklabel' tkdaglad.default: no visible global function definition for 'tkentry' tkdaglad.default: no visible global function definition for 'tkpack' tkdaglad.default: no visible global function definition for 'tkpack' tkdaglad.default: no visible global function definition for 'tkpack' tkdaglad.default: no visible global function definition for 'tkpack' tkdaglad.default: no visible global function definition for 'tkpack' tkdaglad.default: no visible global function definition for 'tkframe' tkdaglad.default: no visible global function definition for 'tkpack' tkdaglad.default: no visible global function definition for 'tklabel' tkdaglad.default: no visible global function definition for 'tkframe' tkdaglad.default: no visible global function definition for 'tkframe' tkdaglad.default: no visible global function definition for 'tclVar' tkdaglad.default: no visible global function definition for 'tklabel' tkdaglad.default: no visible global function definition for 'tkentry' tkdaglad.default: no visible global function definition for 'tkpack' tkdaglad.default: no visible global function definition for 'tkpack' tkdaglad.default: no visible global function definition for 'tclVar' tkdaglad.default: no visible global function definition for 'tklabel' tkdaglad.default: no visible global function definition for 'tkentry' tkdaglad.default: no visible global function definition for 'tkpack' tkdaglad.default: no visible global function definition for 'tkpack' tkdaglad.default: no visible global function definition for 'tkpack' tkdaglad.default: no visible global function definition for 'tkpack' tkdaglad.default: no visible global function definition for 'tkframe' tkdaglad.default: no visible global function definition for 'tkpack' tkdaglad.default: no visible global function definition for 'tklabel' tkdaglad.default: no visible global function definition for 'tclVar' tkdaglad.default: no visible global function definition for 'tkcheckbutton' tkdaglad.default: no visible global function definition for 'tkpack' tkdaglad.default: no visible global function definition for 'tkpack' tkdaglad.default : OnAnalysis: no visible global function definition for 'tclvalue' tkdaglad.default : OnAnalysis: no visible global function definition for 'tclvalue' tkdaglad.default : OnAnalysis: no visible global function definition for 'tclvalue' tkdaglad.default : OnAnalysis: no visible global function definition for 'tclvalue' tkdaglad.default : OnAnalysis: no visible global function definition for 'tclvalue' tkdaglad.default : OnAnalysis: no visible global function definition for 'tclvalue' tkdaglad.default : OnAnalysis: no visible global function definition for 'tclvalue' tkdaglad.default : OnAnalysis: no visible global function definition for 'tclvalue' tkdaglad.default : OnAnalysis: no visible global function definition for 'tclvalue' tkdaglad.default : OnAnalysis: no visible global function definition for 'tclvalue' tkdaglad.default : OnAnalysis: no visible global function definition for 'tclvalue' tkdaglad.default : OnAnalysis: no visible global function definition for 'tclvalue' tkdaglad.default : OnAnalysis: no visible global function definition for 'tclvalue' tkdaglad.default : OnAnalysis: no visible global function definition for 'tclvalue' tkdaglad.default : OnAnalysis: no visible global function definition for 'tclvalue' tkdaglad.default : OnAnalysis: no visible global function definition for 'tclvalue' tkdaglad.default : OnAnalysis: no visible global function definition for 'tclvalue' tkdaglad.default : OnAnalysis: no visible global function definition for 'tclvalue' tkdaglad.default : OnAnalysis: no visible global function definition for 'tclvalue' tkdaglad.default : OnAnalysis: no visible global function definition for 'tclvalue' tkdaglad.default : OnAnalysis: no visible global function definition for 'tclvalue' tkdaglad.default : OnAnalysis: no visible global function definition for 'tkmessageBox' tkdaglad.default : OnQuit: no visible global function definition for 'tkdestroy' tkdaglad.default : OnDefault: no visible global function definition for 'tclvalue<-' tkdaglad.default : OnDefault: no visible global function definition for 'tclvalue<-' tkdaglad.default : OnDefault: no visible global function definition for 'tclvalue<-' tkdaglad.default : OnDefault: no visible global function definition for 'tclvalue<-' tkdaglad.default : OnDefault: no visible global function definition for 'tclvalue<-' tkdaglad.default : OnDefault: no visible global function definition for 'tclvalue<-' tkdaglad.default : OnDefault: no visible global function definition for 'tclvalue<-' tkdaglad.default : OnDefault: no visible global function definition for 'tclvalue<-' tkdaglad.default : OnDefault: no visible global function definition for 'tclvalue<-' tkdaglad.default : OnDefault: no visible global function definition for 'tclvalue<-' tkdaglad.default : OnDefault: no visible global function definition for 'tclvalue<-' tkdaglad.default : OnDefault: no visible global function definition for 'tclvalue<-' tkdaglad.default : OnDefault: no visible global function definition for 'tclvalue<-' tkdaglad.default : OnDefault: no visible global function definition for 'tclvalue<-' tkdaglad.default : OnDefault: no visible global function definition for 'tclvalue<-' tkdaglad.default : OnDefault: no visible global function definition for 'tclvalue<-' tkdaglad.default : OnDefault: no visible global function definition for 'tclvalue<-' tkdaglad.default : OnDefault: no visible global function definition for 'tclvalue<-' tkdaglad.default : OnDefault: no visible global function definition for 'tclvalue<-' tkdaglad.default : OnDefault: no visible global function definition for 'tclvalue<-' tkdaglad.default : OnPlot: no visible global function definition for 'tclvalue' tkdaglad.default : OnPlot: no visible global function definition for 'tkget' tkdaglad.default : OnPlot: no visible global function definition for 'tkcurselection' tkdaglad.default : OnPlot: no visible global function definition for 'tkget' tkdaglad.default : OnPlot: no visible global function definition for 'tkcurselection' tkdaglad.default : OnPlot: no visible global function definition for 'tclvalue' tkdaglad.default : OnPlot: no visible global function definition for 'tclvalue' tkdaglad.default : OnPlot: no visible global function definition for 'tclvalue' tkdaglad.default : OnLogo: no visible global function definition for 'tkmessageBox' tkdaglad.default: no visible global function definition for 'tkframe' tkdaglad.default: no visible global function definition for 'tkbutton' tkdaglad.default: no visible global function definition for 'tkbutton' tkdaglad.default: no visible global function definition for 'tkbutton' tkdaglad.default: no visible global function definition for 'tkframe' tkdaglad.default: no visible global function definition for 'tkpack' tkdaglad.default: no visible global function definition for 'tklabel' tkdaglad.default: no visible global function definition for 'tkframe' tkdaglad.default: no visible global function definition for 'tkpack' tkdaglad.default: no visible global function definition for 'tkframe' tkdaglad.default: no visible global function definition for 'tkframe' tkdaglad.default: no visible global function definition for 'tclVar' tkdaglad.default: no visible global function definition for 'tkcheckbutton' tkdaglad.default: no visible global function definition for 'tkpack' tkdaglad.default: no visible global function definition for 'tclVar' tkdaglad.default: no visible global function definition for 'tklabel' tkdaglad.default: no visible global function definition for 'tkentry' tkdaglad.default: no visible global function definition for 'tkpack' tkdaglad.default: no visible global function definition for 'tkpack' tkdaglad.default: no visible global function definition for 'tclVar' tkdaglad.default: no visible global function definition for 'tkcheckbutton' tkdaglad.default: no visible global function definition for 'tkpack' tkdaglad.default: no visible global function definition for 'tclVar' tkdaglad.default: no visible global function definition for 'tklabel' tkdaglad.default: no visible global function definition for 'tkentry' tkdaglad.default: no visible global function definition for 'tkpack' tkdaglad.default: no visible global function definition for 'tkpack' tkdaglad.default: no visible global function definition for 'tkpack' tkdaglad.default: no visible global function definition for 'tkpack' tkdaglad.default: no visible global function definition for 'tklabel' tkdaglad.default: no visible global function definition for 'tkframe' tkdaglad.default: no visible global function definition for 'tkscrollbar' tkdaglad.default : <anonymous>: no visible global function definition for 'tkyview' tkdaglad.default: no visible global function definition for 'tklistbox' tkdaglad.default : <anonymous>: no visible global function definition for 'tkset' tkdaglad.default: no visible global function definition for 'tklabel' tkdaglad.default: no visible global function definition for 'tkframe' tkdaglad.default: no visible global function definition for 'tkscrollbar' tkdaglad.default : <anonymous>: no visible global function definition for 'tkyview' tkdaglad.default: no visible global function definition for 'tklistbox' tkdaglad.default : <anonymous>: no visible global function definition for 'tkset' tkdaglad.default : MakeListBox: no visible global function definition for 'tkdelete' tkdaglad.default : MakeListBox: no visible global function definition for 'tksize' tkdaglad.default : MakeListBox: no visible global function definition for 'tkdelete' tkdaglad.default : MakeListBox: no visible global function definition for 'tksize' tkdaglad.default : MakeListBox: no visible global function definition for 'tkinsert' tkdaglad.default : MakeListBox: no visible global function definition for 'tkinsert' tkdaglad.default : MakeListBox: no visible global function definition for 'tkinsert' tkdaglad.default : MakeListBox: no visible global function definition for 'tkselection.set' tkdaglad.default : MakeListBox: no visible global function definition for 'tkselection.set' tkdaglad.default : MakeListBox: no visible global function definition for 'tkselection.set' tkdaglad.default: no visible global function definition for 'tkpack' tkdaglad.default: no visible global function definition for 'tkpack' tkdaglad.default: no visible global function definition for 'tkpack' tkdaglad.default: no visible global function definition for 'tkpack' tkdaglad.default: no visible global function definition for 'tkpack' tkdaglad.default: no visible global function definition for 'tkpack' tkdaglad.default: no visible global function definition for 'tkbutton' tkdaglad.default: no visible global function definition for 'tkpack' tkdaglad.default: no visible global function definition for 'tkpack' tkdaglad.default: no visible global function definition for 'tkbutton' tkdaglad.default: no visible global function definition for 'tkpack' tkdaglad.default: no visible global function definition for 'tkpack' tkdaglad.default: no visible global function definition for 'tkpack' tkglad.default: no visible global function definition for 'tktoplevel' tkglad.default: no visible global function definition for 'tkframe' tkglad.default: no visible global function definition for 'tkframe' tkglad.default: no visible global function definition for 'tkwm.title' tkglad.default: no visible global function definition for 'tkpack' tkglad.default: no visible global function definition for 'tklabel' tkglad.default: no visible global function definition for 'tclVar' tkglad.default: no visible global function definition for 'tkimage.create' tkglad.default: no visible global function definition for 'tkframe' tkglad.default: no visible global function definition for 'tkpack' tkglad.default: no visible global function definition for 'tklabel' tkglad.default: no visible global function definition for 'tclVar' tkglad.default: no visible global function definition for 'tkcheckbutton' tkglad.default: no visible global function definition for 'tkpack' tkglad.default: no visible global function definition for 'tkpack' tkglad.default: no visible global function definition for 'tkframe' tkglad.default: no visible global function definition for 'tkframe' tkglad.default: no visible global function definition for 'tkframe' tkglad.default: no visible global function definition for 'tkframe' tkglad.default: no visible global function definition for 'tkframe' tkglad.default: no visible global function definition for 'tkpack' tkglad.default: no visible global function definition for 'tklabel' tkglad.default: no visible global function definition for 'tkpack' tkglad.default: no visible global function definition for 'tklabel' tkglad.default: no visible global function definition for 'tkpack' tkglad.default: no visible global function definition for 'tklabel' tkglad.default: no visible global function definition for 'tclVar' tkglad.default: no visible global function definition for 'tkradiobutton' tkglad.default: no visible global function definition for 'tkpack' tkglad.default: no visible global function definition for 'tclVar' tkglad.default: no visible global function definition for 'tkradiobutton' tkglad.default: no visible global function definition for 'tkpack' tkglad.default: no visible global function definition for 'tkframe' tkglad.default: no visible global function definition for 'tkframe' tkglad.default: no visible global function definition for 'tclVar' tkglad.default: no visible global function definition for 'tklabel' tkglad.default: no visible global function definition for 'tkentry' tkglad.default: no visible global function definition for 'tclVar' tkglad.default: no visible global function definition for 'tklabel' tkglad.default: no visible global function definition for 'tkentry' tkglad.default: no visible global function definition for 'tclVar' tkglad.default: no visible global function definition for 'tklabel' tkglad.default: no visible global function definition for 'tkentry' tkglad.default: no visible global function definition for 'tkpack' tkglad.default: no visible global function definition for 'tkpack' tkglad.default: no visible global function definition for 'tkpack' tkglad.default: no visible global function definition for 'tkpack' tkglad.default: no visible global function definition for 'tkpack' tkglad.default: no visible global function definition for 'tkpack' tkglad.default: no visible global function definition for 'tkpack' tkglad.default: no visible global function definition for 'tkpack' tkglad.default: no visible global function definition for 'tkpack' tkglad.default: no visible global function definition for 'tkpack' tkglad.default: no visible global function definition for 'tkpack' tkglad.default: no visible global function definition for 'tkframe' tkglad.default: no visible global function definition for 'tkpack' tkglad.default: no visible global function definition for 'tklabel' tkglad.default: no visible global function definition for 'tclVar' tkglad.default: no visible global function definition for 'tklabel' tkglad.default: no visible global function definition for 'tkentry' tkglad.default: no visible global function definition for 'tclVar' tkglad.default: no visible global function definition for 'tklabel' tkglad.default: no visible global function definition for 'tkentry' tkglad.default: no visible global function definition for 'tkpack' tkglad.default: no visible global function definition for 'tkpack' tkglad.default: no visible global function definition for 'tkframe' tkglad.default: no visible global function definition for 'tkpack' tkglad.default: no visible global function definition for 'tklabel' tkglad.default: no visible global function definition for 'tkframe' tkglad.default: no visible global function definition for 'tkframe' tkglad.default: no visible global function definition for 'tkframe' tkglad.default: no visible global function definition for 'tclVar' tkglad.default: no visible global function definition for 'tklabel' tkglad.default: no visible global function definition for 'tkentry' tkglad.default: no visible global function definition for 'tkpack' tkglad.default: no visible global function definition for 'tkpack' tkglad.default: no visible global function definition for 'tclVar' tkglad.default: no visible global function definition for 'tklabel' tkglad.default: no visible global function definition for 'tkentry' tkglad.default: no visible global function definition for 'tkpack' tkglad.default: no visible global function definition for 'tkpack' tkglad.default: no visible global function definition for 'tkpack' tkglad.default: no visible global function definition for 'tkpack' tkglad.default: no visible global function definition for 'tkpack' tkglad.default: no visible global function definition for 'tkframe' tkglad.default: no visible global function definition for 'tkpack' tkglad.default: no visible global function definition for 'tklabel' tkglad.default: no visible global function definition for 'tclVar' tkglad.default: no visible global function definition for 'tklabel' tkglad.default: no visible global function definition for 'tkentry' tkglad.default: no visible global function definition for 'tclVar' tkglad.default: no visible global function definition for 'tklabel' tkglad.default: no visible global function definition for 'tkentry' tkglad.default: no visible global function definition for 'tkpack' tkglad.default: no visible global function definition for 'tkpack' tkglad.default: no visible global function definition for 'tkframe' tkglad.default: no visible global function definition for 'tkpack' tkglad.default: no visible global function definition for 'tklabel' tkglad.default: no visible global function definition for 'tkframe' tkglad.default: no visible global function definition for 'tkframe' tkglad.default: no visible global function definition for 'tkframe' tkglad.default: no visible global function definition for 'tclVar' tkglad.default: no visible global function definition for 'tklabel' tkglad.default: no visible global function definition for 'tkentry' tkglad.default: no visible global function definition for 'tkpack' tkglad.default : OnAnalysis: no visible global function definition for 'tclvalue' tkglad.default : OnAnalysis: no visible global function definition for 'tclvalue' tkglad.default : OnAnalysis: no visible global function definition for 'tclvalue' tkglad.default : OnAnalysis: no visible global function definition for 'tclvalue' tkglad.default : OnAnalysis: no visible global function definition for 'tclvalue' tkglad.default : OnAnalysis: no visible global function definition for 'tclvalue' tkglad.default : OnAnalysis: no visible global function definition for 'tclvalue' tkglad.default : OnAnalysis: no visible global function definition for 'tclvalue' tkglad.default : OnAnalysis: no visible global function definition for 'tclvalue' tkglad.default : OnAnalysis: no visible global function definition for 'tclvalue' tkglad.default : OnAnalysis: no visible global function definition for 'tclvalue' tkglad.default : OnAnalysis: no visible global function definition for 'tclvalue' tkglad.default : OnAnalysis: no visible global function definition for 'tkmessageBox' tkglad.default : OnQuit: no visible global function definition for 'tkdestroy' tkglad.default : OnDefault: no visible global function definition for 'tclvalue<-' tkglad.default : OnDefault: no visible global function definition for 'tclvalue<-' tkglad.default : OnDefault: no visible global function definition for 'tclvalue<-' tkglad.default : OnDefault: no visible global function definition for 'tclvalue<-' tkglad.default : OnDefault: no visible global function definition for 'tclvalue<-' tkglad.default : OnDefault: no visible global function definition for 'tclvalue<-' tkglad.default : OnDefault: no visible global function definition for 'tclvalue<-' tkglad.default : OnDefault: no visible global function definition for 'tclvalue<-' tkglad.default : OnDefault: no visible global function definition for 'tclvalue<-' tkglad.default : OnDefault: no visible global function definition for 'tclvalue<-' tkglad.default : OnPlot: no visible global function definition for 'tclvalue' tkglad.default : OnPlot: no visible global function definition for 'tkget' tkglad.default : OnPlot: no visible global function definition for 'tkcurselection' tkglad.default : OnPlot: no visible global function definition for 'tkget' tkglad.default : OnPlot: no visible global function definition for 'tkcurselection' tkglad.default : OnPlot: no visible global function definition for 'tclvalue' tkglad.default : OnPlot: no visible global function definition for 'tclvalue' tkglad.default : OnPlot: no visible global function definition for 'tclvalue' tkglad.default : OnLogo: no visible global function definition for 'tkmessageBox' tkglad.default: no visible global function definition for 'tkframe' tkglad.default: no visible global function definition for 'tkbutton' tkglad.default: no visible global function definition for 'tkbutton' tkglad.default: no visible global function definition for 'tkbutton' tkglad.default: no visible global function definition for 'tkframe' tkglad.default: no visible global function definition for 'tkpack' tkglad.default: no visible global function definition for 'tklabel' tkglad.default: no visible global function definition for 'tkframe' tkglad.default: no visible global function definition for 'tkpack' tkglad.default: no visible global function definition for 'tkframe' tkglad.default: no visible global function definition for 'tkframe' tkglad.default: no visible global function definition for 'tclVar' tkglad.default: no visible global function definition for 'tkcheckbutton' tkglad.default: no visible global function definition for 'tkpack' tkglad.default: no visible global function definition for 'tclVar' tkglad.default: no visible global function definition for 'tklabel' tkglad.default: no visible global function definition for 'tkentry' tkglad.default: no visible global function definition for 'tkpack' tkglad.default: no visible global function definition for 'tkpack' tkglad.default: no visible global function definition for 'tclVar' tkglad.default: no visible global function definition for 'tkcheckbutton' tkglad.default: no visible global function definition for 'tkpack' tkglad.default: no visible global function definition for 'tclVar' tkglad.default: no visible global function definition for 'tklabel' tkglad.default: no visible global function definition for 'tkentry' tkglad.default: no visible global function definition for 'tkpack' tkglad.default: no visible global function definition for 'tkpack' tkglad.default: no visible global function definition for 'tkpack' tkglad.default: no visible global function definition for 'tkpack' tkglad.default: no visible global function definition for 'tklabel' tkglad.default: no visible global function definition for 'tkframe' tkglad.default: no visible global function definition for 'tkscrollbar' tkglad.default : <anonymous>: no visible global function definition for 'tkyview' tkglad.default: no visible global function definition for 'tklistbox' tkglad.default : <anonymous>: no visible global function definition for 'tkset' tkglad.default: no visible global function definition for 'tklabel' tkglad.default: no visible global function definition for 'tkframe' tkglad.default: no visible global function definition for 'tkscrollbar' tkglad.default : <anonymous>: no visible global function definition for 'tkyview' tkglad.default: no visible global function definition for 'tklistbox' tkglad.default : <anonymous>: no visible global function definition for 'tkset' tkglad.default : MakeListBox: no visible global function definition for 'tkdelete' tkglad.default : MakeListBox: no visible global function definition for 'tksize' tkglad.default : MakeListBox: no visible global function definition for 'tkdelete' tkglad.default : MakeListBox: no visible global function definition for 'tksize' tkglad.default : MakeListBox: no visible global function definition for 'tkinsert' tkglad.default : MakeListBox: no visible global function definition for 'tkinsert' tkglad.default : MakeListBox: no visible global function definition for 'tkinsert' tkglad.default : MakeListBox: no visible global function definition for 'tkselection.set' tkglad.default : MakeListBox: no visible global function definition for 'tkselection.set' tkglad.default : MakeListBox: no visible global function definition for 'tkselection.set' tkglad.default: no visible global function definition for 'tkpack' tkglad.default: no visible global function definition for 'tkpack' tkglad.default: no visible global function definition for 'tkpack' tkglad.default: no visible global function definition for 'tkpack' tkglad.default: no visible global function definition for 'tkpack' tkglad.default: no visible global function definition for 'tkpack' tkglad.default: no visible global function definition for 'tkbutton' tkglad.default: no visible global function definition for 'tkpack' tkglad.default: no visible global function definition for 'tkpack' tkglad.default: no visible global function definition for 'tkbutton' tkglad.default: no visible global function definition for 'tkpack' tkglad.default: no visible global function definition for 'tkpack' tkglad.default: no visible global function definition for 'tkpack' * checking Rd files ... OK * checking Rd cross-references ... OK * checking for missing documentation entries ... OK * checking for code/documentation mismatches ... OK * checking Rd \usage sections ... OK * checking data for non-ASCII characters ... OK * checking for CRLF line endings in C/C++/Fortran sources/headers ... OK * checking for portable use of $BLAS_LIBS ... OK * creating GLAD-Ex.R ... OK * checking examples ... OK * checking package vignettes in 'inst/doc' ... OK * creating GLAD-manual.tex ... OK * checking GLAD-manual.tex ... OK
GLAD.Rcheck/00install.out:
* Installing *source* package 'GLAD' ...
Configuring variable environment
** libs
gcc -std=gnu99 -I/home/biocbuild/bbs-2.1-bioc/R/include -I/home/biocbuild/bbs-2.1-bioc/R/include -I/usr/local/include -fpic -g -O2 -Wall -c distance.c -o distance.o
g++ -I/home/biocbuild/bbs-2.1-bioc/R/include -I/home/biocbuild/bbs-2.1-bioc/R/include -I/usr/local/include -fpic -g -O2 -Wall -c glad.cpp -o glad.o
glad.cpp: In function 'void detectOutliers(double*, int*, int*, int*, int*, int*, double*, int*)':
glad.cpp:112: warning: comparison between signed and unsigned integer expressions
gcc -std=gnu99 -I/home/biocbuild/bbs-2.1-bioc/R/include -I/home/biocbuild/bbs-2.1-bioc/R/include -I/usr/local/include -fpic -g -O2 -Wall -c glad-function.c -o glad-function.o
gcc -std=gnu99 -I/home/biocbuild/bbs-2.1-bioc/R/include -I/home/biocbuild/bbs-2.1-bioc/R/include -I/usr/local/include -fpic -g -O2 -Wall -c hclust.c -o hclust.o
gcc -std=gnu99 -I/home/biocbuild/bbs-2.1-bioc/R/include -I/home/biocbuild/bbs-2.1-bioc/R/include -I/usr/local/include -fpic -g -O2 -Wall -c laws.c -o laws.o
g++ -shared -L/usr/local/lib64 -o GLAD.so distance.o glad.o glad-function.o hclust.o laws.o -L/home/biocbuild/bbs-2.1-bioc/R/lib -lR
** R
** data
** demo
** inst
** preparing package for lazy loading
Loading required package: aws
** help
>>> Building/Updating help pages for package 'GLAD'
Formats: text html latex example
ChrNumeric text html latex example
ColorBar text html latex example
GLAD-internal text html latex
arrayCGH text html latex example
arrayPersp text html latex example
arrayPlot text html latex example
as.data.frame.profileCGH text html latex example
as.profileCGH text html latex example
bladder text html latex example
cytoband text html latex example
daglad text html latex example
glad text html latex example
hclust text html latex example
kernel text html latex
myPalette text html latex example
plotProfile text html latex example
profileCGH text html latex example
snijders text html latex example
tkdaglad text html latex example
veltman text html latex example
** building package indices ...
* DONE (GLAD)