Back to the "Multiple platform build/check report"
| NOTES: (1) a maintainance reboot of lemming prevented these builds to complete on this machine (2) these are the last builds with R 2.6.0 (2007-06-03 r41797) on lamb1 and lemming, next builds will be with R 2.6.0 (2007-06-10 r41908) configured with --enable-strict-barrier | 
| Package 116/238 | Hostname | OS | Arch | BUILD | CHECK | BUILD BIN | 
| LBE1.5.0Cyril DalmassoLast Changed Date: 2007-04-24 11:31:42 -0700 Last Changed Rev: 24217 | lamb1 | Linux (SUSE 10.1) | x86_64 | [ OK ] | OK | |
| wellington | Linux (SUSE 9.2) | i686 | OK | OK | ||
| churchill | Solaris 2.9 | sparc | OK | OK | ||
| lemming | Windows Server 2003 (32-bit) | x64 | OK | OK | skipped | 
| Package: LBE | 
| Version: 1.5.0 | 
| Command: /home/biocbuild/bbs-2.1-bioc/R/bin/R CMD build LBE | 
| RetCode: 0 | 
| Time: 4.5 seconds | 
| Status: OK | 
| PackageFile: LBE_1.5.0.tar.gz | 
* checking for file 'LBE/DESCRIPTION' ... OK
* preparing 'LBE':
* checking DESCRIPTION meta-information ... OK
* installing the package to re-build vignettes
* Installing *source* package 'LBE' ...
** R
** data
** inst
** help
Note: unmatched right brace in 'LBE-package' on or after line 10
Note: unmatched right brace in 'LBE-package' on or after line 11
 >>> Building/Updating help pages for package 'LBE'
     Formats: text html latex example 
  LBE-package                       text    html    latex
  LBE                               text    html    latex   example
  LBEa                              text    html    latex   example
  LBEplot                           text    html    latex   example
  LBEsummary                        text    html    latex   example
  LBEwrite                          text    html    latex   example
  golub.pval                        text    html    latex
  hedenfalk.pval                    text    html    latex
** building package indices ...
* DONE (LBE)
* creating vignettes ... OK
* removing junk files
* checking for LF line-endings in source files
* checking for empty or unneeded directories
* building 'LBE_1.5.0.tar.gz'