Back to the "Multiple platform build/check report"
| NOTES: (1) a maintainance reboot of lemming prevented these builds to complete on this machine (2) these are the last builds with R 2.6.0 (2007-06-03 r41797) on lamb1 and lemming, next builds will be with R 2.6.0 (2007-06-10 r41908) configured with --enable-strict-barrier |
| Package 177/238 | Hostname | OS | Arch | BUILD | CHECK | BUILD BIN |
quantsmooth1.3.0Jan OostingLast Changed Date: 2007-04-24 11:31:42 -0700 Last Changed Rev: 24217 | lamb1 | Linux (SUSE 10.1) | x86_64 | OK | OK | |
| wellington | Linux (SUSE 9.2) | i686 | [ OK ] | OK | ||
| churchill | Solaris 2.9 | sparc | OK | OK | ||
| lemming | Windows Server 2003 (32-bit) | x64 | OK | OK | skipped |
| Package: quantsmooth |
| Version: 1.3.0 |
| Command: /loc/biocbuild/bbs-2.1-bioc/R/bin/R CMD build quantsmooth |
| RetCode: 0 |
| Time: 35.9 seconds |
| Status: OK |
| PackageFile: quantsmooth_1.3.0.tar.gz |
* checking for file 'quantsmooth/DESCRIPTION' ... OK
* preparing 'quantsmooth':
* checking DESCRIPTION meta-information ... OK
* installing the package to re-build vignettes
* Installing *source* package 'quantsmooth' ...
** R
** data
** inst
** help
>>> Building/Updating help pages for package 'quantsmooth'
Formats: text html latex example
Chromosome14 text html latex
drawSimpleChrom text html latex example
getChangedIdx text html latex
getChangedRegions text html latex example
getLambdaMin text html latex example
lengthChromosome text html latex example
numericCHR text html latex example
paintCytobands text html latex example
plotChromosome text html latex
plotSmoothed text html latex example
prepareGenomePlot text html latex
quantsmooth text html latex example
quantsmooth.cv text html latex example
scaleto text html latex
** building package indices ...
* DONE (quantsmooth)
* creating vignettes ... OK
* removing junk files
* checking for LF line-endings in source files
* checking for empty or unneeded directories
* building 'quantsmooth_1.3.0.tar.gz'