Back to the "Multiple platform build/check report"
NOTES: (1) a maintainance reboot of lemming prevented these builds to complete on this machine (2) these are the last builds with R 2.6.0 (2007-06-03 r41797) on lamb1 and lemming, next builds will be with R 2.6.0 (2007-06-10 r41908) configured with --enable-strict-barrier |
Package 48/238 | Hostname | OS | Arch | BUILD | CHECK | BUILD BIN |
clusterStab1.9.0James W. MacDonaldLast Changed Date: 2007-05-16 13:40:25 -0700 Last Changed Rev: 24725 | lamb1 | Linux (SUSE 10.1) | x86_64 | OK | OK | |
wellington | Linux (SUSE 9.2) | i686 | OK | OK | ||
churchill | Solaris 2.9 | sparc | OK | OK | ||
lemming | Windows Server 2003 (32-bit) | x64 | OK | [ OK ] | skipped |
Package: clusterStab |
Version: 1.9.0 |
Command: D:\biocbld\bbs-2.1-bioc\R\bin\R.exe CMD check clusterStab_1.9.0.tar.gz |
RetCode: 0 |
Time: 57.5 seconds |
Status: OK |
CheckDir: clusterStab.Rcheck |
Warnings: 0 |
* checking for working latex ... OK * using log directory 'D:/biocbld/bbs-2.1-bioc/meat/clusterStab.Rcheck' * using R version 2.6.0 Under development (unstable) (2007-06-03 r41797) * checking for file 'clusterStab/DESCRIPTION' ... OK * this is package 'clusterStab' version '1.9.0' * checking package dependencies ... OK * checking if this is a source package ... OK * checking whether package 'clusterStab' can be installed ... OK * checking package directory ... OK * checking for portable file names ... OK * checking DESCRIPTION meta-information ... OK * checking top-level files ... OK * checking index information ... OK * checking package subdirectories ... OK * checking R files for non-ASCII characters ... OK * checking R files for syntax errors ... OK * checking whether the package can be loaded ... OK * checking whether the package can be loaded with stated dependencies ... OK * checking for unstated dependencies in R code ... OK * checking S3 generic/method consistency ... OK * checking replacement functions ... OK * checking foreign function calls ... OK * checking R code for possible problems ... OK * checking Rd files ... OK * checking Rd cross-references ... OK * checking for missing documentation entries ... OK * checking for code/documentation mismatches ... OK * checking Rd \usage sections ... OK * creating clusterStab-Ex.R ... OK * checking examples ... OK * checking package vignettes in 'inst/doc' ... OK * creating clusterStab-manual.tex ... OK * checking clusterStab-manual.tex ... OK
clusterStab.Rcheck/00install.out:
installing R.css in D:/biocbld/bbs-2.1-bioc/meat/clusterStab.Rcheck ---------- Making package clusterStab ------------ adding build stamp to DESCRIPTION installing R files preparing package clusterStab for lazy loading Loading required package: Biobase Loading required package: tools Welcome to Bioconductor Vignettes contain introductory material. To view, type 'openVignette()'. To cite Bioconductor, see 'citation("Biobase")' and for packages 'citation(pkgname)'. installing inst files installing man source files installing indices installing help >>> Building/Updating help pages for package 'clusterStab' Formats: text html latex example chm benhur-class text html latex chm benhur text html latex example chm clusterComp-class text html latex chm clusterComp text html latex example chm Microsoft HTML Help Compiler 4.74.8702 Compiling d:\biocbld\bbs-2.1-bioc\meat\clusterStab.Rcheck\00_pkg_src\clusterStab\chm\clusterStab.chm Compile time: 0 minutes, 0 seconds 5 Topics 22 Local links 0 Internet links 1 Graphic Created d:\biocbld\bbs-2.1-bioc\meat\clusterStab.Rcheck\00_pkg_src\clusterStab\chm\clusterStab.chm, 23,072 bytes Compression decreased file by 1,904 bytes. adding MD5 sums * DONE (clusterStab)