Back to the "Multiple platform build/check report"
NOTES: (1) a maintainance reboot of lemming prevented these builds to complete on this machine (2) these are the last builds with R 2.6.0 (2007-06-03 r41797) on lamb1 and lemming, next builds will be with R 2.6.0 (2007-06-10 r41908) configured with --enable-strict-barrier |
Package 64/238 | Hostname | OS | Arch | BUILD | CHECK | BUILD BIN |
ecolitk1.9.0LaurentLast Changed Date: 2007-04-24 11:31:42 -0700 Last Changed Rev: 24217 | lamb1 | Linux (SUSE 10.1) | x86_64 | OK | WARNINGS | |
wellington | Linux (SUSE 9.2) | i686 | OK | WARNINGS | ||
churchill | Solaris 2.9 | sparc | OK | WARNINGS | ||
lemming | Windows Server 2003 (32-bit) | x64 | [ OK ] | WARNINGS | skipped |
Package: ecolitk |
Version: 1.9.0 |
Command: D:\biocbld\bbs-2.1-bioc\R\bin\R.exe CMD build ecolitk |
RetCode: 0 |
Time: 53.4 seconds |
Status: OK |
PackageFile: ecolitk_1.9.0.tar.gz |
* checking for file 'ecolitk/DESCRIPTION' ... OK * preparing 'ecolitk': * checking DESCRIPTION meta-information ... OK * checking whether 'INDEX' is up-to-date ... NO * use '--force' to overwrite the existing 'INDEX' * installing the package to re-build vignettes installing R.css in D:/biocbld/bbs-2.1-bioc/tmpdir/Rinst489634014 ---------- Making package ecolitk ------------ adding build stamp to DESCRIPTION installing R files installing inst files installing data files installing man source files installing indices not zipping data installing help Note: unmatched right brace in 'linkedmultiget' on or after line 6 Note: unmatched right brace in 'linkedmultiget.Rd' on or after line 6 Note: unmatched right brace in 'wstringapply' on or after line 6 Note: unmatched right brace in 'wstringapply.Rd' on or after line 6 >>> Building/Updating help pages for package 'ecolitk' Formats: text html latex example chm ecoli.data text html latex example chm ecoligenome.operon text html latex example chm ecoligenomeBNUM text html latex chm ecoligenomeBNUM2MULTIFUN text html latex chm gccontent text html latex chm linkedmultiget text html latex example chm multiFun text html latex example chm pointsCircle text html latex example chm polar2xy text html latex example chm polygonChrom text html latex example chm wstringapply text html latex example chm Microsoft HTML Help Compiler 4.74.8702 Compiling d:\biocbld\bbs-2.1-bioc\meat\ecolitk\chm\ecolitk.chm Compile time: 0 minutes, 0 seconds 12 Topics 45 Local links 4 Internet links 1 Graphic Created d:\biocbld\bbs-2.1-bioc\meat\ecolitk\chm\ecolitk.chm, 29,482 bytes Compression decreased file by 13,351 bytes. adding MD5 sums * DONE (ecolitk) * creating vignettes ... OK * removing junk files * checking for LF line-endings in source files * checking for empty or unneeded directories * building 'ecolitk_1.9.0.tar.gz'