Back to the "Multiple platform build/check report"
| NOTES: (1) a maintainance reboot of lemming prevented these builds to complete on this machine (2) these are the last builds with R 2.6.0 (2007-06-03 r41797) on lamb1 and lemming, next builds will be with R 2.6.0 (2007-06-10 r41908) configured with --enable-strict-barrier |
| Package 103/238 | Hostname | OS | Arch | BUILD | CHECK | BUILD BIN |
Harshlight1.5.0Maurizio PellegrinoLast Changed Date: 2007-04-24 11:31:42 -0700 Last Changed Rev: 24217 | lamb1 | Linux (SUSE 10.1) | x86_64 | OK | WARNINGS | |
| wellington | Linux (SUSE 9.2) | i686 | OK | WARNINGS | ||
| churchill | Solaris 2.9 | sparc | OK | WARNINGS | ||
| lemming | Windows Server 2003 (32-bit) | x64 | [ OK ] | WARNINGS | skipped |
| Package: Harshlight |
| Version: 1.5.0 |
| Command: D:\biocbld\bbs-2.1-bioc\R\bin\R.exe CMD build Harshlight |
| RetCode: 0 |
| Time: 19.4 seconds |
| Status: OK |
| PackageFile: Harshlight_1.5.0.tar.gz |
* checking for file 'Harshlight/DESCRIPTION' ... OK
* preparing 'Harshlight':
* checking DESCRIPTION meta-information ... OK
* cleaning src
* installing the package to re-build vignettes
installing R.css in D:/biocbld/bbs-2.1-bioc/tmpdir/Rinst747297601
---------- Making package Harshlight ------------
adding build stamp to DESCRIPTION
making DLL ...
making Harshlight.d from Harshlight.c
gcc -Id:/biocbld/bbs-2.1-bioc/R/include -Wall -O3 -std=gnu99 -c Harshlight.c -o Harshlight.o
windres -I d:/biocbld/bbs-2.1-bioc/R/include -i Harshlight_res.rc -o Harshlight_res.o
gcc -shared -s -o Harshlight.dll Harshlight.def Harshlight.o Harshlight_res.o -Ld:/biocbld/bbs-2.1-bioc/R/bin -lR
... DLL made
installing DLL
installing R files
installing inst files
installing data files
installing man source files
installing indices
not zipping data
installing help
>>> Building/Updating help pages for package 'Harshlight'
Formats: text html latex example chm
HarshComp text html latex chm
HarshExt text html latex chm
Harshlight text html latex example chm
sim text html latex chm
Microsoft HTML Help Compiler 4.74.8702
Compiling d:\biocbld\bbs-2.1-bioc\meat\Harshlight\chm\Harshlight.chm
Compile time: 0 minutes, 0 seconds
5 Topics
11 Local links
3 Internet links
1 Graphic
Created d:\biocbld\bbs-2.1-bioc\meat\Harshlight\chm\Harshlight.chm, 24,749 bytes
Compression decreased file by 1,986 bytes.
preparing package Harshlight for lazy loading
Loading required package: affy
Loading required package: Biobase
Loading required package: tools
Welcome to Bioconductor
Vignettes contain introductory material. To view, type
'openVignette()'. To cite Bioconductor, see
'citation("Biobase")' and for packages 'citation(pkgname)'.
Loading required package: affyio
Loading required package: preprocessCore
adding MD5 sums
* DONE (Harshlight)
* creating vignettes ... OK
* cleaning src
* removing junk files
* checking for LF line-endings in source files
* checking for empty or unneeded directories
* building 'Harshlight_1.5.0.tar.gz'