Back to the "Multiple platform build/check report"

NOTES: (1) a maintainance reboot of lemming prevented these builds to complete on this machine (2) these are the last builds with R 2.6.0 (2007-06-03 r41797) on lamb1 and lemming, next builds will be with R 2.6.0 (2007-06-10 r41908) configured with --enable-strict-barrier
Package 142/238HostnameOSArchBUILDCHECKBUILD BIN

MLInterfaces

1.11.2

V. Carey
Last Changed Date: 2007-05-11 21:56:41 -0700
Last Changed Rev: 24616
lamb1 Linux (SUSE 10.1) x86_64  OK  ERROR 
wellington Linux (SUSE 9.2) i686  OK  ERROR 
churchill Solaris 2.9 sparc  OK  ERROR 
lemming Windows Server 2003 (32-bit) x64 [ OK ] ERROR skipped
Package: MLInterfaces
Version: 1.11.2
Command: D:\biocbld\bbs-2.1-bioc\R\bin\R.exe CMD build MLInterfaces
RetCode: 0
Time: 44.5 seconds
Status: OK
PackageFile: MLInterfaces_1.11.2.tar.gz

Command output

* checking for file 'MLInterfaces/DESCRIPTION' ... OK
* preparing 'MLInterfaces':
* checking DESCRIPTION meta-information ... OK
* installing the package to re-build vignettes
installing R.css in D:/biocbld/bbs-2.1-bioc/tmpdir/Rinst282486730


---------- Making package MLInterfaces ------------
  adding build stamp to DESCRIPTION
  installing R files
  preparing package MLInterfaces for lazy loading
Loading required package: Biobase
Loading required package: tools

Welcome to Bioconductor

  Vignettes contain introductory material. To view, type
  'openVignette()'. To cite Bioconductor, see
  'citation("Biobase")' and for packages 'citation(pkgname)'.

Loading required package: genefilter
Loading required package: survival
Loading required package: splines
Loading required package: rpart
Loading required package: rda
  installing inst files
  installing man source files
  installing indices
  installing help
 >>> Building/Updating help pages for package 'MLInterfaces'
     Formats: text html latex example chm 
  MLIclust                          text    html    latex   example chm
  MLIntInternals                    text    html    latex   example chm
  MLearn-methods                    text    html    latex   example chm
  RAB                               text    html    latex   example chm
  SOMB                              text    html    latex   example chm
  classifOutput-class               text    html    latex   example chm
  clustOutput-class                 text    html    latex   example chm
  confuMat-methods                  text    html    latex   example chm
  knnB                              text    html    latex   example chm
  planarPlot-methods                text    html    latex   example chm
  raboostCont-class                 text    html    latex   example chm
  varImpStruct-class                text    html    latex   example chm
  xval-methods                      text    html    latex   example chm
  xvalLoop-methods                  text    html    latex           chm
  xvalLoop                          text    html    latex   example chm
Microsoft HTML Help Compiler 4.74.8702



Compiling d:\biocbld\bbs-2.1-bioc\meat\MLInterfaces\chm\MLInterfaces.chm





Compile time: 0 minutes, 0 seconds

16	Topics

245	Local links

0	Internet links

1	Graphic





Created d:\biocbld\bbs-2.1-bioc\meat\MLInterfaces\chm\MLInterfaces.chm, 47,785 bytes

Compression decreased file by 87,679 bytes.

  adding MD5 sums

* DONE (MLInterfaces)
* creating vignettes ... OK
* removing junk files
* checking for LF line-endings in source files
* checking for empty or unneeded directories
* building 'MLInterfaces_1.11.2.tar.gz'