Back to the "Multiple platform build/check report"
| NOTES: (1) a maintainance reboot of lemming prevented these builds to complete on this machine (2) these are the last builds with R 2.6.0 (2007-06-03 r41797) on lamb1 and lemming, next builds will be with R 2.6.0 (2007-06-10 r41908) configured with --enable-strict-barrier | 
| Package 164/238 | Hostname | OS | Arch | BUILD | CHECK | BUILD BIN | 
pdmclass1.9.0James W. MacDonaldLast Changed Date: 2007-04-24 11:31:42 -0700 Last Changed Rev: 24217  | lamb1 | Linux (SUSE 10.1) | x86_64 | OK | OK | |
| wellington | Linux (SUSE 9.2) | i686 | [ OK ] | OK | ||
| churchill | Solaris 2.9 | sparc | OK | OK | ||
| lemming | Windows Server 2003 (32-bit) | x64 | OK | OK | skipped | 
| Package: pdmclass | 
| Version: 1.9.0 | 
| Command: /loc/biocbuild/bbs-2.1-bioc/R/bin/R CMD build pdmclass | 
| RetCode: 0 | 
| Time: 180.5 seconds | 
| Status: OK | 
| PackageFile: pdmclass_1.9.0.tar.gz | 
* checking for file 'pdmclass/DESCRIPTION' ... OK
* preparing 'pdmclass':
* checking DESCRIPTION meta-information ... OK
* installing the package to re-build vignettes
* Installing *source* package 'pdmclass' ...
** R
** inst
** help
 >>> Building/Updating help pages for package 'pdmclass'
     Formats: text html latex example 
  my.svd                            text    html    latex
  pdmClass                          text    html    latex   example
  pdmClass.cv                       text    html    latex   example
  pdmGenes                          text    html    latex   example
  pls1c                             text    html    latex
  predict.pls                       text    html    latex   example
  svdpls1c                          text    html    latex
  svdr                              text    html    latex
** building package indices ...
* DONE (pdmclass)
* creating vignettes ... OK
* removing junk files
* checking for LF line-endings in source files
* checking for empty or unneeded directories
* building 'pdmclass_1.9.0.tar.gz'