Back to the "Multiple platform build/check report"
| NOTES: (1) a maintainance reboot of lemming prevented these builds to complete on this machine (2) these are the last builds with R 2.6.0 (2007-06-03 r41797) on lamb1 and lemming, next builds will be with R 2.6.0 (2007-06-10 r41908) configured with --enable-strict-barrier |
| Package 188/238 | Hostname | OS | Arch | BUILD | CHECK | BUILD BIN |
Resourcerer1.11.0Jianhua ZhangLast Changed Date: 2007-04-24 11:31:42 -0700 Last Changed Rev: 24217 | lamb1 | Linux (SUSE 10.1) | x86_64 | OK | OK | |
| wellington | Linux (SUSE 9.2) | i686 | OK | OK | ||
| churchill | Solaris 2.9 | sparc | [ ERROR ] | skipped | ||
| lemming | Windows Server 2003 (32-bit) | x64 | OK | skipped | skipped |
| Package: Resourcerer |
| Version: 1.11.0 |
| Command: /loc/biocbuild/bbs-2.1-bioc/R/bin/R CMD build Resourcerer |
| RetCode: 1 |
| Time: 6.0 seconds |
| Status: ERROR |
| PackageFile: None |
* checking for file 'Resourcerer/DESCRIPTION' ... OK
* preparing 'Resourcerer':
* checking DESCRIPTION meta-information ... OK
* installing the package to re-build vignettes
* Installing *source* package 'Resourcerer' ...
** R
** inst
** preparing package for lazy loading
Loading required package: Biobase
Loading required package: tools
Welcome to Bioconductor
Vignettes contain introductory material. To view, type
'openVignette()'. To cite Bioconductor, see
'citation("Biobase")' and for packages 'citation(pkgname)'.
Error: package 'AnnBuilder' required by 'Resourcerer' could not be found
Execution halted
ERROR: lazy loading failed for package 'Resourcerer'
** Removing '/tmp/Rinst2752804644/Resourcerer'
ERROR
Installation failed.
Removing '/tmp/Rinst2752804644'