Back to the "Multiple platform build/check report"
| NOTES: (1) a maintainance reboot of lemming prevented these builds to complete on this machine (2) these are the last builds with R 2.6.0 (2007-06-03 r41797) on lamb1 and lemming, next builds will be with R 2.6.0 (2007-06-10 r41908) configured with --enable-strict-barrier |
| Package 20/238 | Hostname | OS | Arch | BUILD | CHECK | BUILD BIN |
apComplex2.3.0Denise ScholtensLast Changed Date: 2007-04-24 11:31:42 -0700 Last Changed Rev: 24217 | lamb1 | Linux (SUSE 10.1) | x86_64 | OK | OK | |
| wellington | Linux (SUSE 9.2) | i686 | OK | OK | ||
| churchill | Solaris 2.9 | sparc | OK | OK | ||
| lemming | Windows Server 2003 (32-bit) | x64 | [ OK ] | OK | skipped |
| Package: apComplex |
| Version: 2.3.0 |
| Command: D:\biocbld\bbs-2.1-bioc\R\bin\R.exe CMD build apComplex |
| RetCode: 0 |
| Time: 24.5 seconds |
| Status: OK |
| PackageFile: apComplex_2.3.0.tar.gz |
* checking for file 'apComplex/DESCRIPTION' ... OK
* preparing 'apComplex':
* checking DESCRIPTION meta-information ... OK
* checking whether 'INDEX' is up-to-date ... NO
* use '--force' to overwrite the existing 'INDEX'
* installing the package to re-build vignettes
installing R.css in D:/biocbld/bbs-2.1-bioc/tmpdir/Rinst764068191
---------- Making package apComplex ------------
adding build stamp to DESCRIPTION
installing R files
installing inst files
installing data files
installing man source files
installing indices
not zipping data
installing help
>>> Building/Updating help pages for package 'apComplex'
Formats: text html latex example chm
FilteredEstimates text html latex example chm
HMSPCI text html latex example chm
Krogan text html latex example chm
LCjoin text html latex example chm
MBMEcHMSPCI text html latex example chm
MBMEcKrogan text html latex example chm
MBMEcTAP text html latex example chm
TAP text html latex example chm
apEX text html latex example chm
bhmaxSubgraph text html latex example chm
findComplexes text html latex example chm
gavinBP2006 text html latex example chm
kroganBPMat2006 text html latex example chm
mergeComplexes text html latex example chm
sortComplexes text html latex example chm
yNameTAP text html latex example chm
yTAP text html latex example chm
Microsoft HTML Help Compiler 4.74.8702
Compiling d:\biocbld\bbs-2.1-bioc\meat\apComplex\chm\apComplex.chm
Compile time: 0 minutes, 0 seconds
18 Topics
94 Local links
0 Internet links
1 Graphic
Created d:\biocbld\bbs-2.1-bioc\meat\apComplex\chm\apComplex.chm, 34,900 bytes
Compression decreased file by 27,943 bytes.
adding MD5 sums
* DONE (apComplex)
* creating vignettes ... OK
* removing junk files
* checking for LF line-endings in source files
* checking for empty or unneeded directories
* building 'apComplex_2.3.0.tar.gz'