Back to the "Multiple platform build/check report"
| NOTES: (1) a maintainance reboot of lemming prevented these builds to complete on this machine (2) these are the last builds with R 2.6.0 (2007-06-03 r41797) on lamb1 and lemming, next builds will be with R 2.6.0 (2007-06-10 r41908) configured with --enable-strict-barrier |
| Package 4/238 | Hostname | OS | Arch | BUILD | CHECK | BUILD BIN |
adSplit1.7.0Claudio LottazLast Changed Date: 2007-05-11 21:56:41 -0700 Last Changed Rev: 24616 | lamb1 | Linux (SUSE 10.1) | x86_64 | OK | OK | |
| wellington | Linux (SUSE 9.2) | i686 | OK | OK | ||
| churchill | Solaris 2.9 | sparc | OK | OK | ||
| lemming | Windows Server 2003 (32-bit) | x64 | OK | [ OK ] | skipped |
| Package: adSplit |
| Version: 1.7.0 |
| Command: D:\biocbld\bbs-2.1-bioc\R\bin\R.exe CMD check adSplit_1.7.0.tar.gz |
| RetCode: 0 |
| Time: 192.2 seconds |
| Status: OK |
| CheckDir: adSplit.Rcheck |
| Warnings: 0 |
* checking for working latex ... OK * using log directory 'D:/biocbld/bbs-2.1-bioc/meat/adSplit.Rcheck' * using R version 2.6.0 Under development (unstable) (2007-06-03 r41797) * checking for file 'adSplit/DESCRIPTION' ... OK * this is package 'adSplit' version '1.7.0' * checking package name space information ... OK * checking package dependencies ... OK * checking if this is a source package ... OK * checking whether package 'adSplit' can be installed ... OK * checking package directory ... OK * checking for portable file names ... OK * checking DESCRIPTION meta-information ... OK * checking top-level files ... OK * checking index information ... OK * checking package subdirectories ... OK * checking R files for non-ASCII characters ... OK * checking R files for syntax errors ... OK * checking whether the package can be loaded ... OK * checking whether the package can be loaded with stated dependencies ... OK * checking whether the name space can be loaded with stated dependencies ... OK * checking for unstated dependencies in R code ... OK * checking S3 generic/method consistency ... OK * checking replacement functions ... OK * checking foreign function calls ... OK * checking R code for possible problems ... NOTE figure_ccimage: no visible global function definition for 'cc_image' figure_ccimage: no visible binding for global variable 'res' figure_induced: no visible binding for global variable 'rossResult' figure_induced: no visible global function definition for 'oneGOGraph' figure_induced: no visible global function definition for 'GOGraph' figure_induced: no visible global function definition for 'join' figure_induced: no visible global function definition for 'nodes' figure_induced: no visible global function definition for 'edges' figure_induced: no visible global function definition for 'nodes' image.splitSet: no visible binding for '<<-' assignment to 'root.dist' image.splitSet: no visible binding for '<<-' assignment to 'root.dist' image.splitSet: no visible binding for global variable 'root.dist' image.splitSet: no visible binding for global variable 'root.dist' image.splitSet: no visible global function definition for 'collect.lines' image.splitSet: no visible binding for global variable 'root.dist' image.splitSet: no visible binding for global variable 'root.dist' image.splitSet: no visible binding for global variable 'root.dist' image.splitSet: no visible binding for global variable 'root.dist' * checking Rd files ... OK * checking Rd cross-references ... OK * checking for missing documentation entries ... OK * checking for code/documentation mismatches ... OK * checking Rd \usage sections ... OK * checking data for non-ASCII characters ... OK * checking for CRLF line endings in C/C++/Fortran sources/headers ... OK * checking for portable use of $BLAS_LIBS ... OK * creating adSplit-Ex.R ... OK * checking examples ... OK * checking package vignettes in 'inst/doc' ... OK * creating adSplit-manual.tex ... OK * checking adSplit-manual.tex ... OK
adSplit.Rcheck/00install.out:
installing R.css in D:/biocbld/bbs-2.1-bioc/meat/adSplit.Rcheck
---------- Making package adSplit ------------
adding build stamp to DESCRIPTION
installing NAMESPACE file and metadata
making DLL ...
making adSplit.d from adSplit.cpp
g++ -Id:/biocbld/bbs-2.1-bioc/R/include -Wall -O2 -c adSplit.cpp -o adSplit.o
adSplit.cpp: In function `void isis(char**, double*, int*, int*, int*, int*, int*, double*, int*)':
adSplit.cpp:437: warning: 's' might be used uninitialized in this function
windres -I d:/biocbld/bbs-2.1-bioc/R/include -i adSplit_res.rc -o adSplit_res.o
g++ -shared -s -o adSplit.dll adSplit.def adSplit.o adSplit_res.o -Ld:/biocbld/bbs-2.1-bioc/R/bin -lR
... DLL made
installing DLL
installing R files
preparing package adSplit for lazy loading
Loading required package: cluster
Loading required package: multtest
Loading required package: Biobase
Loading required package: tools
Welcome to Bioconductor
Vignettes contain introductory material. To view, type
'openVignette()'. To cite Bioconductor, see
'citation("Biobase")' and for packages 'citation(pkgname)'.
Loading required package: survival
Loading required package: splines
Loading required package: affy
Loading required package: affyio
Loading required package: preprocessCore
Loading required package: GO
Loading required package: KEGG
installing inst files
installing data files
installing man source files
installing indices
not zipping data
installing help
>>> Building/Updating help pages for package 'adSplit'
Formats: text html latex example chm
adSplit-internal text html latex chm
adSplit text html latex example chm
diana2means text html latex example chm
drawRandomPS text html latex example chm
golubKEGGSplits text html latex example chm
hist.splitSet text html latex example chm
image.splitSet text html latex example chm
makeEID2PROBESenv text html latex example chm
print.split text html latex chm
print.splitSet text html latex example chm
randomDiana2means text html latex example chm
Microsoft HTML Help Compiler 4.74.8702
Compiling d:\biocbld\bbs-2.1-bioc\meat\adSplit.Rcheck\00_pkg_src\adSplit\chm\adSplit.chm
Compile time: 0 minutes, 0 seconds
12 Topics
28 Local links
0 Internet links
1 Graphic
Created d:\biocbld\bbs-2.1-bioc\meat\adSplit.Rcheck\00_pkg_src\adSplit\chm\adSplit.chm, 28,368 bytes
Compression decreased file by 6,904 bytes.
adding MD5 sums
* DONE (adSplit)