Back to the "Multiple platform build/check report"
NOTES: (1) a maintainance reboot of lemming prevented these builds to complete on this machine (2) these are the last builds with R 2.6.0 (2007-06-03 r41797) on lamb1 and lemming, next builds will be with R 2.6.0 (2007-06-10 r41908) configured with --enable-strict-barrier |
Package 237/238 | Hostname | OS | Arch | BUILD | CHECK | BUILD BIN |
widgetTools1.13.1Jianhua ZhangLast Changed Date: 2007-05-15 20:37:53 -0700 Last Changed Rev: 24694 | lamb1 | Linux (SUSE 10.1) | x86_64 | OK | OK | |
wellington | Linux (SUSE 9.2) | i686 | OK | OK | ||
churchill | Solaris 2.9 | sparc | OK | OK | ||
lemming | Windows Server 2003 (32-bit) | x64 | [ OK ] | skipped | skipped |
Package: widgetTools |
Version: 1.13.1 |
Command: D:\biocbld\bbs-2.1-bioc\R\bin\R.exe CMD build widgetTools |
RetCode: 0 |
Time: 17.5 seconds |
Status: OK |
PackageFile: widgetTools_1.13.1.tar.gz |
* checking for file 'widgetTools/DESCRIPTION' ... OK * preparing 'widgetTools': * checking DESCRIPTION meta-information ... OK * installing the package to re-build vignettes installing R.css in D:/biocbld/bbs-2.1-bioc/tmpdir/Rinst631272708 ---------- Making package widgetTools ------------ adding build stamp to DESCRIPTION installing NAMESPACE file and metadata installing R files preparing package widgetTools for lazy loading Loading required package: tcltk Loading Tcl/Tk interface ... done installing inst files installing man source files installing indices installing help >>> Building/Updating help pages for package 'widgetTools' Formats: text html latex example chm basicPW-class text html latex example chm button text html latex example chm dropdownList text html latex example chm makeViewer text html latex example chm oneVScrList text html latex example chm safeFileOpen text html latex example chm tooltip text html latex example chm widget-class text html latex example chm widgetView-class text html latex example chm writeText text html latex example chm Microsoft HTML Help Compiler 4.74.8702 Compiling d:\biocbld\bbs-2.1-bioc\meat\widgetTools\chm\widgetTools.chm Compile time: 0 minutes, 0 seconds 11 Topics 149 Local links 0 Internet links 1 Graphic Created d:\biocbld\bbs-2.1-bioc\meat\widgetTools\chm\widgetTools.chm, 40,424 bytes Compression decreased file by 55,764 bytes. adding MD5 sums * DONE (widgetTools) * creating vignettes ... OK * removing junk files * checking for LF line-endings in source files * checking for empty or unneeded directories * building 'widgetTools_1.13.1.tar.gz'