Back to the "Multiple platform build/check report"
| NOTES: (1) a maintainance reboot of lemming prevented these builds to complete on this machine (2) these are the last builds with R 2.6.0 (2007-06-03 r41797) on lamb1 and lemming, next builds will be with R 2.6.0 (2007-06-10 r41908) configured with --enable-strict-barrier |
| Package 175/238 | Hostname | OS | Arch | BUILD | CHECK | BUILD BIN |
PROcess1.13.0Xiaochun LiLast Changed Date: 2007-05-11 21:56:41 -0700 Last Changed Rev: 24616 | lamb1 | Linux (SUSE 10.1) | x86_64 | OK | OK | |
| wellington | Linux (SUSE 9.2) | i686 | [ OK ] | OK | ||
| churchill | Solaris 2.9 | sparc | OK | OK | ||
| lemming | Windows Server 2003 (32-bit) | x64 | OK | OK | skipped |
| Package: PROcess |
| Version: 1.13.0 |
| Command: /loc/biocbuild/bbs-2.1-bioc/R/bin/R CMD build PROcess |
| RetCode: 0 |
| Time: 92.5 seconds |
| Status: OK |
| PackageFile: PROcess_1.13.0.tar.gz |
* checking for file 'PROcess/DESCRIPTION' ... OK
* preparing 'PROcess':
* checking DESCRIPTION meta-information ... OK
* checking whether 'INDEX' is up-to-date ... NO
* use '--force' to overwrite the existing 'INDEX'
* installing the package to re-build vignettes
* Installing *source* package 'PROcess' ...
** R
** inst
** preparing package for lazy loading
Loading required package: Icens
Loading required package: survival
Loading required package: splines
** help
>>> Building/Updating help pages for package 'PROcess'
Formats: text html latex example
align text html latex
aveSpec text html latex example
avesd text html latex
binning text html latex
bslnoff text html latex example
gelmap text html latex
getMzs text html latex
getPeaks text html latex example
getPeaks2 text html latex
intg text html latex example
is.multiple text html latex example
isPeak text html latex example
lnn text html latex
peaks text html latex example
pk2bmkr text html latex example
quality text html latex example
read.files text html latex
renorm text html latex example
rmBaseline text html latex example
specZoom text html latex example
** building package indices ...
* DONE (PROcess)
* creating vignettes ... OK
* removing junk files
* checking for LF line-endings in source files
* checking for empty or unneeded directories
* building 'PROcess_1.13.0.tar.gz'