Back to the "Multiple platform build/check report"
| NOTES: (1) a maintainance reboot of lemming prevented these builds to complete on this machine (2) these are the last builds with R 2.6.0 (2007-06-03 r41797) on lamb1 and lemming, next builds will be with R 2.6.0 (2007-06-10 r41908) configured with --enable-strict-barrier | 
| Package 204/238 | Hostname | OS | Arch | BUILD | CHECK | BUILD BIN | 
| SAGElyzer1.15.0Jianhua ZhangLast Changed Date: 2007-04-24 11:31:42 -0700 Last Changed Rev: 24217 | lamb1 | Linux (SUSE 10.1) | x86_64 | OK | WARNINGS | |
| wellington | Linux (SUSE 9.2) | i686 | OK | WARNINGS | ||
| churchill | Solaris 2.9 | sparc | ERROR | skipped | ||
| lemming | Windows Server 2003 (32-bit) | x64 | [ OK ] | skipped | skipped | 
| Package: SAGElyzer | 
| Version: 1.15.0 | 
| Command: D:\biocbld\bbs-2.1-bioc\R\bin\R.exe CMD build SAGElyzer | 
| RetCode: 0 | 
| Time: 20.2 seconds | 
| Status: OK | 
| PackageFile: SAGElyzer_1.15.0.tar.gz | 
* checking for file 'SAGElyzer/DESCRIPTION' ... OK
* preparing 'SAGElyzer':
* checking DESCRIPTION meta-information ... OK
* installing the package to re-build vignettes
installing R.css in D:/biocbld/bbs-2.1-bioc/tmpdir/Rinst289613223
---------- Making package SAGElyzer ------------
  adding build stamp to DESCRIPTION
  installing NAMESPACE file and metadata
  installing R files
  installing exec files
  installing inst files
  installing data files
  installing man source files
  installing indices
  not zipping data
  installing help
Note: unmatched right brace in 'SAGEMapper' on or after line 11
Note: unmatched right brace in 'SAGEMapper.Rd' on or after line 11
 >>> Building/Updating help pages for package 'SAGElyzer'
     Formats: text html latex example chm 
  SAGELyzer                         text    html    latex   example chm
  SAGEMapper                        text    html    latex   example chm
  SAGEToolTips                      text    html    latex   example chm
  SAGEWidget                        text    html    latex   example chm
  con4Win                           text    html    latex   example chm
  getGEOSAGE                        text    html    latex   example chm
  getNormFactor                     text    html    latex   example chm
  getTargetRow                      text    html    latex   example chm
  mergeSAGE                         text    html    latex   example chm
  mergeSAGEWidget                   text    html    latex   example chm
  querySAGE                         text    html    latex   example chm
  support                           text    html    latex   example chm
Microsoft HTML Help Compiler 4.74.8702
Compiling d:\biocbld\bbs-2.1-bioc\meat\SAGElyzer\chm\SAGElyzer.chm
Compile time: 0 minutes, 0 seconds
13	Topics
144	Local links
5	Internet links
1	Graphic
Created d:\biocbld\bbs-2.1-bioc\meat\SAGElyzer\chm\SAGElyzer.chm, 38,662 bytes
Compression decreased file by 36,916 bytes.
  preparing package SAGElyzer for lazy loading
Loading required package: AnnBuilder
Loading required package: Biobase
Loading required package: tools
Welcome to Bioconductor
  Vignettes contain introductory material. To view, type
  'openVignette()'. To cite Bioconductor, see
  'citation("Biobase")' and for packages 'citation(pkgname)'.
Loading required package: XML
Loading required package: annotate
Loading required package: AnnotationDbi
Loading required package: DBI
Loading required package: RSQLite
Loading required package: tkWidgets
Loading required package: widgetTools
Loading required package: tcltk
Loading Tcl/Tk interface ... done
Loading required package: DynDoc
Loading required package: genefilter
Loading required package: survival
Loading required package: splines
  adding MD5 sums
* DONE (SAGElyzer)
* creating vignettes ... OK
* removing junk files
* checking for LF line-endings in source files
* checking for empty or unneeded directories
* building 'SAGElyzer_1.15.0.tar.gz'