Back to the "Multiple platform build/check report"
| NOTES: (1) a maintainance reboot of lemming prevented these builds to complete on this machine (2) these are the last builds with R 2.6.0 (2007-06-03 r41797) on lamb1 and lemming, next builds will be with R 2.6.0 (2007-06-10 r41908) configured with --enable-strict-barrier |
| Package 13/238 | Hostname | OS | Arch | BUILD | CHECK | BUILD BIN |
affyQCReport1.15.2Craig ParmanLast Changed Date: 2007-05-18 08:50:21 -0700 Last Changed Rev: 24803 | lamb1 | Linux (SUSE 10.1) | x86_64 | [ OK ] | OK | |
| wellington | Linux (SUSE 9.2) | i686 | OK | OK | ||
| churchill | Solaris 2.9 | sparc | OK | OK | ||
| lemming | Windows Server 2003 (32-bit) | x64 | ERROR | skipped | skipped |
| Package: affyQCReport |
| Version: 1.15.2 |
| Command: /home/biocbuild/bbs-2.1-bioc/R/bin/R CMD build affyQCReport |
| RetCode: 0 |
| Time: 49.5 seconds |
| Status: OK |
| PackageFile: affyQCReport_1.15.2.tar.gz |
* checking for file 'affyQCReport/DESCRIPTION' ... OK
* preparing 'affyQCReport':
* checking DESCRIPTION meta-information ... OK
* installing the package to re-build vignettes
* Installing *source* package 'affyQCReport' ...
** R
** inst
** help
>>> Building/Updating help pages for package 'affyQCReport'
Formats: text html latex example
QCReport text html latex example
affyQAReport text html latex example
borderQC1 text html latex example
borderQC2 text html latex example
correlationPlot text html latex example
signalDist text html latex example
titlePage text html latex example
** building package indices ...
* DONE (affyQCReport)
* creating vignettes ... OK
* removing junk files
* checking for LF line-endings in source files
* checking for empty or unneeded directories
* building 'affyQCReport_1.15.2.tar.gz'