Back to the "Multiple platform build/check report"
NOTES: (1) a maintainance reboot of lemming prevented these builds to complete on this machine (2) these are the last builds with R 2.6.0 (2007-06-03 r41797) on lamb1 and lemming, next builds will be with R 2.6.0 (2007-06-10 r41908) configured with --enable-strict-barrier |
Package 180/238 | Hostname | OS | Arch | BUILD | CHECK | BUILD BIN |
RankProd2.9.0Fangxin HongLast Changed Date: 2007-04-24 11:31:42 -0700 Last Changed Rev: 24217 | lamb1 | Linux (SUSE 10.1) | x86_64 | OK | OK | |
wellington | Linux (SUSE 9.2) | i686 | OK | OK | ||
churchill | Solaris 2.9 | sparc | OK | OK | ||
lemming | Windows Server 2003 (32-bit) | x64 | OK | [ ERROR ] | skipped |
Package: RankProd |
Version: 2.9.0 |
Command: D:\biocbld\bbs-2.1-bioc\R\bin\R.exe CMD check RankProd_2.9.0.tar.gz |
RetCode: 1 |
Time: 10.1 seconds |
Status: ERROR |
CheckDir: RankProd.Rcheck |
Warnings: NA |
* checking for working latex ... OK * using log directory 'D:/biocbld/bbs-2.1-bioc/meat/RankProd.Rcheck' * using R version 2.6.0 Under development (unstable) (2007-06-03 r41797) * checking for file 'RankProd/DESCRIPTION' ... OK * this is package 'RankProd' version '2.9.0' * checking package dependencies ...Terminating on signal SIGTERM(15)